{"text_format":"1","workbook":"xlsx","n_sheets":2,"sheets":["Einzelposten","Übersicht"],"not_rendered":{"charts":0,"images":1,"macros":1,"external_links":0,"defined_names":4,"comments":1,"pivot_tables":0},"unopened":[],"bounds":{"document_bytes":16777216,"sheet_cells":100000,"rows_first":2000,"rows_last":500,"rows_between":2000,"halvings":0,"cell_chars":16384,"cell_head_chars":4096},"cells_cut":0,"cells_raw":0,"read":"whole","date_system":"1900"}

{"sheet":"Einzelposten","index":0,"n_rows":625,"n_cols":12,"rows_kept":625,"cut":false,"hidden":false,"merged":[]}
[null,null,null,"Übertrag aus Vorjahr",null,null,15,null,null,null,null,"www.rvo.at"]
[null,null,null,"Saldo aktuell",null,{"$f":"MAX(D6:D625)","v":"2025-10-10"},null,null,null,{"$f":"Übersicht!E15","v":51.2}]
[null,null,"k",{"$f":"CONCATENATE(\"Teilergebnis Eingang/Ausgang    \",TEXT(G3-H3,\"#.##0,00\"),\"   davon:\")","v":"Teilergebnis Eingang/Ausgang    36,20   davon:"},null,null,{"$f":"SUBTOTAL(9,G6:G625)","v":100},{"$f":"SUBTOTAL(9,H6:H625)","v":63.8}]
[]
["lfd","T","M","Datum","Belegnr.","                     Text               < rvo.at >","Eingang","Ausgang","Anmerkung",{"$f":"CONCATENATE(\"Saldo \",YEAR(D6))","v":"Saldo 2025"},"PDF-Beleg-Name",{"$f":"HYPERLINK(CONCATENATE(YEAR(D6),\"Belege\"))","v":"2025Belege"}]
[1,{"$f":"DAY(D6)","v":2},{"$f":"IF(ISBLANK(D6),\"\",MONTH(D6))","v":1},"2025-01-02","001","fa. huber, re 999",100,null,null,{"$f":"ROUND(SUM($G$1,$G$6,$H$6*-1),2)","v":115},{"$f":"IF(ISBLANK(E6),\"\",CONCATENATE($C$3,E6))","v":"k001"},{"$f":"IF(K6=\"\",\"\",HYPERLINK(CONCATENATE($L$5,\"/\",K6,\".pdf\"),\"anzeigen\"))","v":"anzeigen"}]
[2,2,1,"2025-01-02","002","kaufhaus, büromaterial",null,23,null,{"$f":"IF(ISBLANK(D7),\"\",ROUND(SUM($G$1,$G$6:$G7)-SUM($H$6:$H7),2))","v":92},{"$f":"IF(ISBLANK(E7),\"\",CONCATENATE($C$3,E7))","v":"k002"},{"$f":"IF(K7=\"\",\"\",HYPERLINK(CONCATENATE($L$5,\"/\",K7,\".pdf\"),\"anzeigen\"))","v":"anzeigen"}]
[3,1,2,"2025-02-01","003","buchhandel, fachzeitschrift",null,34.9,null,{"$f":"IF(ISBLANK(D8),\"\",ROUND(SUM($G$1,$G$6:$G8)-SUM($H$6:$H8),2))","v":57.1},{"$f":"IF(ISBLANK(E8),\"\",CONCATENATE($C$3,E8))","v":"k003"},"anzeigen"]
[4,10,10,"2025-10-10","004","tankstelle, carwash",null,5.9,null,{"$f":"IF(ISBLANK(D9),\"\",ROUND(SUM($G$1,$G$6:$G9)-SUM($H$6:$H9),2))","v":51.2},{"$f":"IF(ISBLANK(E9),\"\",CONCATENATE($C$3,E9))","v":"k004"},"anzeigen"]
[5,0,"",null,null,null,null,null,null,{"$f":"IF(ISBLANK(D10),\"\",ROUND(SUM($G$1,$G$6:$G10)-SUM($H$6:$H10),2))","v":""},{"$f":"IF(ISBLANK(E10),\"\",CONCATENATE($C$3,E10))","v":""},""]
[6,0,"",null,null,null,null,null,null,{"$f":"IF(ISBLANK(D11),\"\",ROUND(SUM($G$1,$G$6:$G11)-SUM($H$6:$H11),2))","v":""},{"$f":"IF(ISBLANK(E11),\"\",CONCATENATE($C$3,E11))","v":""},""]
[7,0,"",null,null,null,null,null,null,{"$f":"IF(ISBLANK(D12),\"\",ROUND(SUM($G$1,$G$6:$G12)-SUM($H$6:$H12),2))","v":""},"",""]
[8,0,"",null,null,null,null,null,null,{"$f":"IF(ISBLANK(D13),\"\",ROUND(SUM($G$1,$G$6:$G13)-SUM($H$6:$H13),2))","v":""},"",""]
[9,0,"",null,null,null,null,null,null,{"$f":"IF(ISBLANK(D14),\"\",ROUND(SUM($G$1,$G$6:$G14)-SUM($H$6:$H14),2))","v":""},"",""]
[10,0,"",null,null,null,null,null,null,{"$f":"IF(ISBLANK(D15),\"\",ROUND(SUM($G$1,$G$6:$G15)-SUM($H$6:$H15),2))","v":""},"",""]
[11,0,"",null,null,null,null,null,null,{"$f":"IF(ISBLANK(D16),\"\",ROUND(SUM($G$1,$G$6:$G16)-SUM($H$6:$H16),2))","v":""},"",""]
[12,0,"",null,null,null,null,null,null,{"$f":"IF(ISBLANK(D17),\"\",ROUND(SUM($G$1,$G$6:$G17)-SUM($H$6:$H17),2))","v":""},"",""]
[13,0,"",null,null,null,null,null,null,{"$f":"IF(ISBLANK(D18),\"\",ROUND(SUM($G$1,$G$6:$G18)-SUM($H$6:$H18),2))","v":""},"",""]
[14,0,"",null,null,null,null,null,null,{"$f":"IF(ISBLANK(D19),\"\",ROUND(SUM($G$1,$G$6:$G19)-SUM($H$6:$H19),2))","v":""},"",""]
[15,0,"",null,null,null,null,null,null,{"$f":"IF(ISBLANK(D20),\"\",ROUND(SUM($G$1,$G$6:$G20)-SUM($H$6:$H20),2))","v":""},"",""]
[16,0,"",null,null,null,null,null,null,{"$f":"IF(ISBLANK(D21),\"\",ROUND(SUM($G$1,$G$6:$G21)-SUM($H$6:$H21),2))","v":""},"",""]
[17,0,"",null,null,null,null,null,null,{"$f":"IF(ISBLANK(D22),\"\",ROUND(SUM($G$1,$G$6:$G22)-SUM($H$6:$H22),2))","v":""},"",""]
[18,0,"",null,null,null,null,null,null,{"$f":"IF(ISBLANK(D23),\"\",ROUND(SUM($G$1,$G$6:$G23)-SUM($H$6:$H23),2))","v":""},"",""]
[19,0,"",null,null,null,null,null,null,{"$f":"IF(ISBLANK(D24),\"\",ROUND(SUM($G$1,$G$6:$G24)-SUM($H$6:$H24),2))","v":""},"",""]
[20,0,"",null,null,null,null,null,null,{"$f":"IF(ISBLANK(D25),\"\",ROUND(SUM($G$1,$G$6:$G25)-SUM($H$6:$H25),2))","v":""},"",""]
[21,0,"",null,null,null,null,null,null,{"$f":"IF(ISBLANK(D26),\"\",ROUND(SUM($G$1,$G$6:$G26)-SUM($H$6:$H26),2))","v":""},"",""]
[22,0,"",null,null,null,null,null,null,{"$f":"IF(ISBLANK(D27),\"\",ROUND(SUM($G$1,$G$6:$G27)-SUM($H$6:$H27),2))","v":""},"",""]
[23,0,"",null,null,null,null,null,null,{"$f":"IF(ISBLANK(D28),\"\",ROUND(SUM($G$1,$G$6:$G28)-SUM($H$6:$H28),2))","v":""},"",""]
[24,0,"",null,null,null,null,null,null,{"$f":"IF(ISBLANK(D29),\"\",ROUND(SUM($G$1,$G$6:$G29)-SUM($H$6:$H29),2))","v":""},"",""]
[25,0,"",null,null,null,null,null,null,{"$f":"IF(ISBLANK(D30),\"\",ROUND(SUM($G$1,$G$6:$G30)-SUM($H$6:$H30),2))","v":""},"",""]
[26,0,"",null,null,null,null,null,null,{"$f":"IF(ISBLANK(D31),\"\",ROUND(SUM($G$1,$G$6:$G31)-SUM($H$6:$H31),2))","v":""},"",""]
[27,0,"",null,null,null,null,null,null,{"$f":"IF(ISBLANK(D32),\"\",ROUND(SUM($G$1,$G$6:$G32)-SUM($H$6:$H32),2))","v":""},"",""]
[28,0,"",null,null,null,null,null,null,{"$f":"IF(ISBLANK(D33),\"\",ROUND(SUM($G$1,$G$6:$G33)-SUM($H$6:$H33),2))","v":""},"",""]
[29,0,"",null,null,null,null,null,null,{"$f":"IF(ISBLANK(D34),\"\",ROUND(SUM($G$1,$G$6:$G34)-SUM($H$6:$H34),2))","v":""},"",""]
[30,0,"",null,null,null,null,null,null,{"$f":"IF(ISBLANK(D35),\"\",ROUND(SUM($G$1,$G$6:$G35)-SUM($H$6:$H35),2))","v":""},"",""]
[31,0,"",null,null,null,null,null,null,{"$f":"IF(ISBLANK(D36),\"\",ROUND(SUM($G$1,$G$6:$G36)-SUM($H$6:$H36),2))","v":""},"",""]
[32,0,"",null,null,null,null,null,null,{"$f":"IF(ISBLANK(D37),\"\",ROUND(SUM($G$1,$G$6:$G37)-SUM($H$6:$H37),2))","v":""},"",""]
[33,0,"",null,null,null,null,null,null,{"$f":"IF(ISBLANK(D38),\"\",ROUND(SUM($G$1,$G$6:$G38)-SUM($H$6:$H38),2))","v":""},"",""]
[34,0,"",null,null,null,null,null,null,{"$f":"IF(ISBLANK(D39),\"\",ROUND(SUM($G$1,$G$6:$G39)-SUM($H$6:$H39),2))","v":""},"",""]
[35,0,"",null,null,null,null,null,null,{"$f":"IF(ISBLANK(D40),\"\",ROUND(SUM($G$1,$G$6:$G40)-SUM($H$6:$H40),2))","v":""},"",""]
[36,0,"",null,null,null,null,null,null,{"$f":"IF(ISBLANK(D41),\"\",ROUND(SUM($G$1,$G$6:$G41)-SUM($H$6:$H41),2))","v":""},"",""]
[37,0,"",null,null,null,null,null,null,{"$f":"IF(ISBLANK(D42),\"\",ROUND(SUM($G$1,$G$6:$G42)-SUM($H$6:$H42),2))","v":""},"",""]
[38,0,"",null,null,null,null,null,null,{"$f":"IF(ISBLANK(D43),\"\",ROUND(SUM($G$1,$G$6:$G43)-SUM($H$6:$H43),2))","v":""},"",""]
[39,0,"",null,null,null,null,null,null,{"$f":"IF(ISBLANK(D44),\"\",ROUND(SUM($G$1,$G$6:$G44)-SUM($H$6:$H44),2))","v":""},"",""]
[40,0,"",null,null,null,null,null,null,{"$f":"IF(ISBLANK(D45),\"\",ROUND(SUM($G$1,$G$6:$G45)-SUM($H$6:$H45),2))","v":""},"",""]
[41,0,"",null,null,null,null,null,null,{"$f":"IF(ISBLANK(D46),\"\",ROUND(SUM($G$1,$G$6:$G46)-SUM($H$6:$H46),2))","v":""},"",""]
[42,0,"",null,null,null,null,null,null,{"$f":"IF(ISBLANK(D47),\"\",ROUND(SUM($G$1,$G$6:$G47)-SUM($H$6:$H47),2))","v":""},"",""]
[43,0,"",null,null,null,null,null,null,{"$f":"IF(ISBLANK(D48),\"\",ROUND(SUM($G$1,$G$6:$G48)-SUM($H$6:$H48),2))","v":""},"",""]
[44,0,"",null,null,null,null,null,null,{"$f":"IF(ISBLANK(D49),\"\",ROUND(SUM($G$1,$G$6:$G49)-SUM($H$6:$H49),2))","v":""},"",""]
[45,0,"",null,null,null,null,null,null,{"$f":"IF(ISBLANK(D50),\"\",ROUND(SUM($G$1,$G$6:$G50)-SUM($H$6:$H50),2))","v":""},"",""]
[46,0,"",null,null,null,null,null,null,{"$f":"IF(ISBLANK(D51),\"\",ROUND(SUM($G$1,$G$6:$G51)-SUM($H$6:$H51),2))","v":""},"",""]
[47,0,"",null,null,null,null,null,null,{"$f":"IF(ISBLANK(D52),\"\",ROUND(SUM($G$1,$G$6:$G52)-SUM($H$6:$H52),2))","v":""},"",""]
[48,0,"",null,null,null,null,null,null,{"$f":"IF(ISBLANK(D53),\"\",ROUND(SUM($G$1,$G$6:$G53)-SUM($H$6:$H53),2))","v":""},"",""]
[49,0,"",null,null,null,null,null,null,{"$f":"IF(ISBLANK(D54),\"\",ROUND(SUM($G$1,$G$6:$G54)-SUM($H$6:$H54),2))","v":""},"",""]
[50,0,"",null,null,null,null,null,null,{"$f":"IF(ISBLANK(D55),\"\",ROUND(SUM($G$1,$G$6:$G55)-SUM($H$6:$H55),2))","v":""},"",""]
[51,0,"",null,null,null,null,null,null,{"$f":"IF(ISBLANK(D56),\"\",ROUND(SUM($G$1,$G$6:$G56)-SUM($H$6:$H56),2))","v":""},"",""]
[52,0,"",null,null,null,null,null,null,{"$f":"IF(ISBLANK(D57),\"\",ROUND(SUM($G$1,$G$6:$G57)-SUM($H$6:$H57),2))","v":""},"",""]
[53,0,"",null,null,null,null,null,null,{"$f":"IF(ISBLANK(D58),\"\",ROUND(SUM($G$1,$G$6:$G58)-SUM($H$6:$H58),2))","v":""},"",""]
[54,0,"",null,null,null,null,null,null,{"$f":"IF(ISBLANK(D59),\"\",ROUND(SUM($G$1,$G$6:$G59)-SUM($H$6:$H59),2))","v":""},"",""]
[55,0,"",null,null,null,null,null,null,{"$f":"IF(ISBLANK(D60),\"\",ROUND(SUM($G$1,$G$6:$G60)-SUM($H$6:$H60),2))","v":""},"",""]
[56,0,"",null,null,null,null,null,null,{"$f":"IF(ISBLANK(D61),\"\",ROUND(SUM($G$1,$G$6:$G61)-SUM($H$6:$H61),2))","v":""},"",""]
[57,0,"",null,null,null,null,null,null,{"$f":"IF(ISBLANK(D62),\"\",ROUND(SUM($G$1,$G$6:$G62)-SUM($H$6:$H62),2))","v":""},"",""]
[58,0,"",null,null,null,null,null,null,{"$f":"IF(ISBLANK(D63),\"\",ROUND(SUM($G$1,$G$6:$G63)-SUM($H$6:$H63),2))","v":""},"",""]
[59,0,"",null,null,null,null,null,null,{"$f":"IF(ISBLANK(D64),\"\",ROUND(SUM($G$1,$G$6:$G64)-SUM($H$6:$H64),2))","v":""},"",""]
[60,0,"",null,null,null,null,null,null,{"$f":"IF(ISBLANK(D65),\"\",ROUND(SUM($G$1,$G$6:$G65)-SUM($H$6:$H65),2))","v":""},"",""]
[61,0,"",null,null,null,null,null,null,{"$f":"IF(ISBLANK(D66),\"\",ROUND(SUM($G$1,$G$6:$G66)-SUM($H$6:$H66),2))","v":""},"",""]
[62,0,"",null,null,null,null,null,null,{"$f":"IF(ISBLANK(D67),\"\",ROUND(SUM($G$1,$G$6:$G67)-SUM($H$6:$H67),2))","v":""},"",""]
[63,0,"",null,null,null,null,null,null,{"$f":"IF(ISBLANK(D68),\"\",ROUND(SUM($G$1,$G$6:$G68)-SUM($H$6:$H68),2))","v":""},"",""]
[64,0,"",null,null,null,null,null,null,{"$f":"IF(ISBLANK(D69),\"\",ROUND(SUM($G$1,$G$6:$G69)-SUM($H$6:$H69),2))","v":""},"",""]
[65,{"$f":"DAY(D70)","v":0},{"$f":"IF(ISBLANK(D70),\"\",MONTH(D70))","v":""},null,null,null,null,null,null,{"$f":"IF(ISBLANK(D70),\"\",ROUND(SUM($G$1,$G$6:$G70)-SUM($H$6:$H70),2))","v":""},"",""]
[66,0,"",null,null,null,null,null,null,{"$f":"IF(ISBLANK(D71),\"\",ROUND(SUM($G$1,$G$6:$G71)-SUM($H$6:$H71),2))","v":""},{"$f":"IF(ISBLANK(E71),\"\",CONCATENATE($C$3,E71))","v":""},{"$f":"IF(K71=\"\",\"\",HYPERLINK(CONCATENATE($L$5,\"/\",K71,\".pdf\"),\"anzeigen\"))","v":""}]
[67,0,"",null,null,null,null,null,null,{"$f":"IF(ISBLANK(D72),\"\",ROUND(SUM($G$1,$G$6:$G72)-SUM($H$6:$H72),2))","v":""},"",""]
[68,0,"",null,null,null,null,null,null,{"$f":"IF(ISBLANK(D73),\"\",ROUND(SUM($G$1,$G$6:$G73)-SUM($H$6:$H73),2))","v":""},"",""]
[69,0,"",null,null,null,null,null,null,{"$f":"IF(ISBLANK(D74),\"\",ROUND(SUM($G$1,$G$6:$G74)-SUM($H$6:$H74),2))","v":""},"",""]
[70,0,"",null,null,null,null,null,null,{"$f":"IF(ISBLANK(D75),\"\",ROUND(SUM($G$1,$G$6:$G75)-SUM($H$6:$H75),2))","v":""},"",""]
[71,0,"",null,null,null,null,null,null,{"$f":"IF(ISBLANK(D76),\"\",ROUND(SUM($G$1,$G$6:$G76)-SUM($H$6:$H76),2))","v":""},"",""]
[72,0,"",null,null,null,null,null,null,{"$f":"IF(ISBLANK(D77),\"\",ROUND(SUM($G$1,$G$6:$G77)-SUM($H$6:$H77),2))","v":""},"",""]
[73,0,"",null,null,null,null,null,null,{"$f":"IF(ISBLANK(D78),\"\",ROUND(SUM($G$1,$G$6:$G78)-SUM($H$6:$H78),2))","v":""},"",""]
[74,0,"",null,null,null,null,null,null,{"$f":"IF(ISBLANK(D79),\"\",ROUND(SUM($G$1,$G$6:$G79)-SUM($H$6:$H79),2))","v":""},"",""]
[75,0,"",null,null,null,null,null,null,{"$f":"IF(ISBLANK(D80),\"\",ROUND(SUM($G$1,$G$6:$G80)-SUM($H$6:$H80),2))","v":""},"",""]
[76,0,"",null,null,null,null,null,null,{"$f":"IF(ISBLANK(D81),\"\",ROUND(SUM($G$1,$G$6:$G81)-SUM($H$6:$H81),2))","v":""},"",""]
[77,0,"",null,null,null,null,null,null,{"$f":"IF(ISBLANK(D82),\"\",ROUND(SUM($G$1,$G$6:$G82)-SUM($H$6:$H82),2))","v":""},"",""]
[78,0,"",null,null,null,null,null,null,{"$f":"IF(ISBLANK(D83),\"\",ROUND(SUM($G$1,$G$6:$G83)-SUM($H$6:$H83),2))","v":""},"",""]
[79,0,"",null,null,null,null,null,null,{"$f":"IF(ISBLANK(D84),\"\",ROUND(SUM($G$1,$G$6:$G84)-SUM($H$6:$H84),2))","v":""},"",""]
[80,0,"",null,null,null,null,null,null,{"$f":"IF(ISBLANK(D85),\"\",ROUND(SUM($G$1,$G$6:$G85)-SUM($H$6:$H85),2))","v":""},"",""]
[81,0,"",null,null,null,null,null,null,{"$f":"IF(ISBLANK(D86),\"\",ROUND(SUM($G$1,$G$6:$G86)-SUM($H$6:$H86),2))","v":""},"",""]
[82,0,"",null,null,null,null,null,null,{"$f":"IF(ISBLANK(D87),\"\",ROUND(SUM($G$1,$G$6:$G87)-SUM($H$6:$H87),2))","v":""},"",""]
[83,0,"",null,null,null,null,null,null,{"$f":"IF(ISBLANK(D88),\"\",ROUND(SUM($G$1,$G$6:$G88)-SUM($H$6:$H88),2))","v":""},"",""]
[84,0,"",null,null,null,null,null,null,{"$f":"IF(ISBLANK(D89),\"\",ROUND(SUM($G$1,$G$6:$G89)-SUM($H$6:$H89),2))","v":""},"",""]
[85,0,"",null,null,null,null,null,null,{"$f":"IF(ISBLANK(D90),\"\",ROUND(SUM($G$1,$G$6:$G90)-SUM($H$6:$H90),2))","v":""},"",""]
[86,0,"",null,null,null,null,null,null,{"$f":"IF(ISBLANK(D91),\"\",ROUND(SUM($G$1,$G$6:$G91)-SUM($H$6:$H91),2))","v":""},"",""]
[87,0,"",null,null,null,null,null,null,{"$f":"IF(ISBLANK(D92),\"\",ROUND(SUM($G$1,$G$6:$G92)-SUM($H$6:$H92),2))","v":""},"",""]
[88,0,"",null,null,null,null,null,null,{"$f":"IF(ISBLANK(D93),\"\",ROUND(SUM($G$1,$G$6:$G93)-SUM($H$6:$H93),2))","v":""},"",""]
[89,0,"",null,null,null,null,null,null,{"$f":"IF(ISBLANK(D94),\"\",ROUND(SUM($G$1,$G$6:$G94)-SUM($H$6:$H94),2))","v":""},"",""]
[90,0,"",null,null,null,null,null,null,{"$f":"IF(ISBLANK(D95),\"\",ROUND(SUM($G$1,$G$6:$G95)-SUM($H$6:$H95),2))","v":""},"",""]
[91,0,"",null,null,null,null,null,null,{"$f":"IF(ISBLANK(D96),\"\",ROUND(SUM($G$1,$G$6:$G96)-SUM($H$6:$H96),2))","v":""},"",""]
[92,0,"",null,null,null,null,null,null,{"$f":"IF(ISBLANK(D97),\"\",ROUND(SUM($G$1,$G$6:$G97)-SUM($H$6:$H97),2))","v":""},"",""]
[93,0,"",null,null,null,null,null,null,{"$f":"IF(ISBLANK(D98),\"\",ROUND(SUM($G$1,$G$6:$G98)-SUM($H$6:$H98),2))","v":""},"",""]
[94,0,"",null,null,null,null,null,null,{"$f":"IF(ISBLANK(D99),\"\",ROUND(SUM($G$1,$G$6:$G99)-SUM($H$6:$H99),2))","v":""},"",""]
[95,0,"",null,null,null,null,null,null,{"$f":"IF(ISBLANK(D100),\"\",ROUND(SUM($G$1,$G$6:$G100)-SUM($H$6:$H100),2))","v":""},"",""]
[96,0,"",null,null,null,null,null,null,{"$f":"IF(ISBLANK(D101),\"\",ROUND(SUM($G$1,$G$6:$G101)-SUM($H$6:$H101),2))","v":""},"",""]
[97,0,"",null,null,null,null,null,null,{"$f":"IF(ISBLANK(D102),\"\",ROUND(SUM($G$1,$G$6:$G102)-SUM($H$6:$H102),2))","v":""},"",""]
[98,0,"",null,null,null,null,null,null,{"$f":"IF(ISBLANK(D103),\"\",ROUND(SUM($G$1,$G$6:$G103)-SUM($H$6:$H103),2))","v":""},"",""]
[99,0,"",null,null,null,null,null,null,{"$f":"IF(ISBLANK(D104),\"\",ROUND(SUM($G$1,$G$6:$G104)-SUM($H$6:$H104),2))","v":""},"",""]
[100,0,"",null,null,null,null,null,null,{"$f":"IF(ISBLANK(D105),\"\",ROUND(SUM($G$1,$G$6:$G105)-SUM($H$6:$H105),2))","v":""},"",""]
[101,0,"",null,null,null,null,null,null,{"$f":"IF(ISBLANK(D106),\"\",ROUND(SUM($G$1,$G$6:$G106)-SUM($H$6:$H106),2))","v":""},"",""]
[102,0,"",null,null,null,null,null,null,{"$f":"IF(ISBLANK(D107),\"\",ROUND(SUM($G$1,$G$6:$G107)-SUM($H$6:$H107),2))","v":""},"",""]
[103,0,"",null,null,null,null,null,null,{"$f":"IF(ISBLANK(D108),\"\",ROUND(SUM($G$1,$G$6:$G108)-SUM($H$6:$H108),2))","v":""},"",""]
[104,0,"",null,null,null,null,null,null,{"$f":"IF(ISBLANK(D109),\"\",ROUND(SUM($G$1,$G$6:$G109)-SUM($H$6:$H109),2))","v":""},"",""]
[105,0,"",null,null,null,null,null,null,{"$f":"IF(ISBLANK(D110),\"\",ROUND(SUM($G$1,$G$6:$G110)-SUM($H$6:$H110),2))","v":""},"",""]
[106,0,"",null,null,null,null,null,null,{"$f":"IF(ISBLANK(D111),\"\",ROUND(SUM($G$1,$G$6:$G111)-SUM($H$6:$H111),2))","v":""},"",""]
[107,0,"",null,null,null,null,null,null,{"$f":"IF(ISBLANK(D112),\"\",ROUND(SUM($G$1,$G$6:$G112)-SUM($H$6:$H112),2))","v":""},"",""]
[108,0,"",null,null,null,null,null,null,{"$f":"IF(ISBLANK(D113),\"\",ROUND(SUM($G$1,$G$6:$G113)-SUM($H$6:$H113),2))","v":""},"",""]
[109,0,"",null,null,null,null,null,null,{"$f":"IF(ISBLANK(D114),\"\",ROUND(SUM($G$1,$G$6:$G114)-SUM($H$6:$H114),2))","v":""},"",""]
[110,0,"",null,null,null,null,null,null,{"$f":"IF(ISBLANK(D115),\"\",ROUND(SUM($G$1,$G$6:$G115)-SUM($H$6:$H115),2))","v":""},"",""]
[111,0,"",null,null,null,null,null,null,{"$f":"IF(ISBLANK(D116),\"\",ROUND(SUM($G$1,$G$6:$G116)-SUM($H$6:$H116),2))","v":""},"",""]
[112,0,"",null,null,null,null,null,null,{"$f":"IF(ISBLANK(D117),\"\",ROUND(SUM($G$1,$G$6:$G117)-SUM($H$6:$H117),2))","v":""},"",""]
[113,0,"",null,null,null,null,null,null,{"$f":"IF(ISBLANK(D118),\"\",ROUND(SUM($G$1,$G$6:$G118)-SUM($H$6:$H118),2))","v":""},"",""]
[114,0,"",null,null,null,null,null,null,{"$f":"IF(ISBLANK(D119),\"\",ROUND(SUM($G$1,$G$6:$G119)-SUM($H$6:$H119),2))","v":""},"",""]
[115,0,"",null,null,null,null,null,null,{"$f":"IF(ISBLANK(D120),\"\",ROUND(SUM($G$1,$G$6:$G120)-SUM($H$6:$H120),2))","v":""},"",""]
[116,0,"",null,null,null,null,null,null,{"$f":"IF(ISBLANK(D121),\"\",ROUND(SUM($G$1,$G$6:$G121)-SUM($H$6:$H121),2))","v":""},"",""]
[117,0,"",null,null,null,null,null,null,{"$f":"IF(ISBLANK(D122),\"\",ROUND(SUM($G$1,$G$6:$G122)-SUM($H$6:$H122),2))","v":""},"",""]
[118,0,"",null,null,null,null,null,null,{"$f":"IF(ISBLANK(D123),\"\",ROUND(SUM($G$1,$G$6:$G123)-SUM($H$6:$H123),2))","v":""},"",""]
[119,0,"",null,null,null,null,null,null,{"$f":"IF(ISBLANK(D124),\"\",ROUND(SUM($G$1,$G$6:$G124)-SUM($H$6:$H124),2))","v":""},"",""]
[120,0,"",null,null,null,null,null,null,{"$f":"IF(ISBLANK(D125),\"\",ROUND(SUM($G$1,$G$6:$G125)-SUM($H$6:$H125),2))","v":""},"",""]
[121,0,"",null,null,null,null,null,null,{"$f":"IF(ISBLANK(D126),\"\",ROUND(SUM($G$1,$G$6:$G126)-SUM($H$6:$H126),2))","v":""},"",""]
[122,0,"",null,null,null,null,null,null,{"$f":"IF(ISBLANK(D127),\"\",ROUND(SUM($G$1,$G$6:$G127)-SUM($H$6:$H127),2))","v":""},"",""]
[123,0,"",null,null,null,null,null,null,{"$f":"IF(ISBLANK(D128),\"\",ROUND(SUM($G$1,$G$6:$G128)-SUM($H$6:$H128),2))","v":""},"",""]
[124,0,"",null,null,null,null,null,null,{"$f":"IF(ISBLANK(D129),\"\",ROUND(SUM($G$1,$G$6:$G129)-SUM($H$6:$H129),2))","v":""},"",""]
[125,0,"",null,null,null,null,null,null,{"$f":"IF(ISBLANK(D130),\"\",ROUND(SUM($G$1,$G$6:$G130)-SUM($H$6:$H130),2))","v":""},"",""]
[126,0,"",null,null,null,null,null,null,{"$f":"IF(ISBLANK(D131),\"\",ROUND(SUM($G$1,$G$6:$G131)-SUM($H$6:$H131),2))","v":""},"",""]
[127,0,"",null,null,null,null,null,null,{"$f":"IF(ISBLANK(D132),\"\",ROUND(SUM($G$1,$G$6:$G132)-SUM($H$6:$H132),2))","v":""},"",""]
[128,0,"",null,null,null,null,null,null,{"$f":"IF(ISBLANK(D133),\"\",ROUND(SUM($G$1,$G$6:$G133)-SUM($H$6:$H133),2))","v":""},"",""]
[129,{"$f":"DAY(D134)","v":0},{"$f":"IF(ISBLANK(D134),\"\",MONTH(D134))","v":""},null,null,null,null,null,null,{"$f":"IF(ISBLANK(D134),\"\",ROUND(SUM($G$1,$G$6:$G134)-SUM($H$6:$H134),2))","v":""},"",""]
[130,0,"",null,null,null,null,null,null,{"$f":"IF(ISBLANK(D135),\"\",ROUND(SUM($G$1,$G$6:$G135)-SUM($H$6:$H135),2))","v":""},{"$f":"IF(ISBLANK(E135),\"\",CONCATENATE($C$3,E135))","v":""},{"$f":"IF(K135=\"\",\"\",HYPERLINK(CONCATENATE($L$5,\"/\",K135,\".pdf\"),\"anzeigen\"))","v":""}]
[131,0,"",null,null,null,null,null,null,{"$f":"IF(ISBLANK(D136),\"\",ROUND(SUM($G$1,$G$6:$G136)-SUM($H$6:$H136),2))","v":""},"",""]
[132,0,"",null,null,null,null,null,null,{"$f":"IF(ISBLANK(D137),\"\",ROUND(SUM($G$1,$G$6:$G137)-SUM($H$6:$H137),2))","v":""},"",""]
[133,0,"",null,null,null,null,null,null,{"$f":"IF(ISBLANK(D138),\"\",ROUND(SUM($G$1,$G$6:$G138)-SUM($H$6:$H138),2))","v":""},"",""]
[134,0,"",null,null,null,null,null,null,{"$f":"IF(ISBLANK(D139),\"\",ROUND(SUM($G$1,$G$6:$G139)-SUM($H$6:$H139),2))","v":""},"",""]
[135,0,"",null,null,null,null,null,null,{"$f":"IF(ISBLANK(D140),\"\",ROUND(SUM($G$1,$G$6:$G140)-SUM($H$6:$H140),2))","v":""},"",""]
[136,0,"",null,null,null,null,null,null,{"$f":"IF(ISBLANK(D141),\"\",ROUND(SUM($G$1,$G$6:$G141)-SUM($H$6:$H141),2))","v":""},"",""]
[137,0,"",null,null,null,null,null,null,{"$f":"IF(ISBLANK(D142),\"\",ROUND(SUM($G$1,$G$6:$G142)-SUM($H$6:$H142),2))","v":""},"",""]
[138,0,"",null,null,null,null,null,null,{"$f":"IF(ISBLANK(D143),\"\",ROUND(SUM($G$1,$G$6:$G143)-SUM($H$6:$H143),2))","v":""},"",""]
[139,0,"",null,null,null,null,null,null,{"$f":"IF(ISBLANK(D144),\"\",ROUND(SUM($G$1,$G$6:$G144)-SUM($H$6:$H144),2))","v":""},"",""]
[140,0,"",null,null,null,null,null,null,{"$f":"IF(ISBLANK(D145),\"\",ROUND(SUM($G$1,$G$6:$G145)-SUM($H$6:$H145),2))","v":""},"",""]
[141,0,"",null,null,null,null,null,null,{"$f":"IF(ISBLANK(D146),\"\",ROUND(SUM($G$1,$G$6:$G146)-SUM($H$6:$H146),2))","v":""},"",""]
[142,0,"",null,null,null,null,null,null,{"$f":"IF(ISBLANK(D147),\"\",ROUND(SUM($G$1,$G$6:$G147)-SUM($H$6:$H147),2))","v":""},"",""]
[143,0,"",null,null,null,null,null,null,{"$f":"IF(ISBLANK(D148),\"\",ROUND(SUM($G$1,$G$6:$G148)-SUM($H$6:$H148),2))","v":""},"",""]
[144,0,"",null,null,null,null,null,null,{"$f":"IF(ISBLANK(D149),\"\",ROUND(SUM($G$1,$G$6:$G149)-SUM($H$6:$H149),2))","v":""},"",""]
[145,0,"",null,null,null,null,null,null,{"$f":"IF(ISBLANK(D150),\"\",ROUND(SUM($G$1,$G$6:$G150)-SUM($H$6:$H150),2))","v":""},"",""]
[146,0,"",null,null,null,null,null,null,{"$f":"IF(ISBLANK(D151),\"\",ROUND(SUM($G$1,$G$6:$G151)-SUM($H$6:$H151),2))","v":""},"",""]
[147,0,"",null,null,null,null,null,null,{"$f":"IF(ISBLANK(D152),\"\",ROUND(SUM($G$1,$G$6:$G152)-SUM($H$6:$H152),2))","v":""},"",""]
[148,0,"",null,null,null,null,null,null,{"$f":"IF(ISBLANK(D153),\"\",ROUND(SUM($G$1,$G$6:$G153)-SUM($H$6:$H153),2))","v":""},"",""]
[149,0,"",null,null,null,null,null,null,{"$f":"IF(ISBLANK(D154),\"\",ROUND(SUM($G$1,$G$6:$G154)-SUM($H$6:$H154),2))","v":""},"",""]
[150,0,"",null,null,null,null,null,null,{"$f":"IF(ISBLANK(D155),\"\",ROUND(SUM($G$1,$G$6:$G155)-SUM($H$6:$H155),2))","v":""},"",""]
[151,0,"",null,null,null,null,null,null,{"$f":"IF(ISBLANK(D156),\"\",ROUND(SUM($G$1,$G$6:$G156)-SUM($H$6:$H156),2))","v":""},"",""]
[152,0,"",null,null,null,null,null,null,{"$f":"IF(ISBLANK(D157),\"\",ROUND(SUM($G$1,$G$6:$G157)-SUM($H$6:$H157),2))","v":""},"",""]
[153,0,"",null,null,null,null,null,null,{"$f":"IF(ISBLANK(D158),\"\",ROUND(SUM($G$1,$G$6:$G158)-SUM($H$6:$H158),2))","v":""},"",""]
[154,0,"",null,null,null,null,null,null,{"$f":"IF(ISBLANK(D159),\"\",ROUND(SUM($G$1,$G$6:$G159)-SUM($H$6:$H159),2))","v":""},"",""]
[155,0,"",null,null,null,null,null,null,{"$f":"IF(ISBLANK(D160),\"\",ROUND(SUM($G$1,$G$6:$G160)-SUM($H$6:$H160),2))","v":""},"",""]
[156,0,"",null,null,null,null,null,null,{"$f":"IF(ISBLANK(D161),\"\",ROUND(SUM($G$1,$G$6:$G161)-SUM($H$6:$H161),2))","v":""},"",""]
[157,0,"",null,null,null,null,null,null,{"$f":"IF(ISBLANK(D162),\"\",ROUND(SUM($G$1,$G$6:$G162)-SUM($H$6:$H162),2))","v":""},"",""]
[158,0,"",null,null,null,null,null,null,{"$f":"IF(ISBLANK(D163),\"\",ROUND(SUM($G$1,$G$6:$G163)-SUM($H$6:$H163),2))","v":""},"",""]
[159,0,"",null,null,null,null,null,null,{"$f":"IF(ISBLANK(D164),\"\",ROUND(SUM($G$1,$G$6:$G164)-SUM($H$6:$H164),2))","v":""},"",""]
[160,0,"",null,null,null,null,null,null,{"$f":"IF(ISBLANK(D165),\"\",ROUND(SUM($G$1,$G$6:$G165)-SUM($H$6:$H165),2))","v":""},"",""]
[161,0,"",null,null,null,null,null,null,{"$f":"IF(ISBLANK(D166),\"\",ROUND(SUM($G$1,$G$6:$G166)-SUM($H$6:$H166),2))","v":""},"",""]
[162,0,"",null,null,null,null,null,null,{"$f":"IF(ISBLANK(D167),\"\",ROUND(SUM($G$1,$G$6:$G167)-SUM($H$6:$H167),2))","v":""},"",""]
[163,0,"",null,null,null,null,null,null,{"$f":"IF(ISBLANK(D168),\"\",ROUND(SUM($G$1,$G$6:$G168)-SUM($H$6:$H168),2))","v":""},"",""]
[164,0,"",null,null,null,null,null,null,{"$f":"IF(ISBLANK(D169),\"\",ROUND(SUM($G$1,$G$6:$G169)-SUM($H$6:$H169),2))","v":""},"",""]
[165,0,"",null,null,null,null,null,null,{"$f":"IF(ISBLANK(D170),\"\",ROUND(SUM($G$1,$G$6:$G170)-SUM($H$6:$H170),2))","v":""},"",""]
[166,0,"",null,null,null,null,null,null,{"$f":"IF(ISBLANK(D171),\"\",ROUND(SUM($G$1,$G$6:$G171)-SUM($H$6:$H171),2))","v":""},"",""]
[167,0,"",null,null,null,null,null,null,{"$f":"IF(ISBLANK(D172),\"\",ROUND(SUM($G$1,$G$6:$G172)-SUM($H$6:$H172),2))","v":""},"",""]
[168,0,"",null,null,null,null,null,null,{"$f":"IF(ISBLANK(D173),\"\",ROUND(SUM($G$1,$G$6:$G173)-SUM($H$6:$H173),2))","v":""},"",""]
[169,0,"",null,null,null,null,null,null,{"$f":"IF(ISBLANK(D174),\"\",ROUND(SUM($G$1,$G$6:$G174)-SUM($H$6:$H174),2))","v":""},"",""]
[170,0,"",null,null,null,null,null,null,{"$f":"IF(ISBLANK(D175),\"\",ROUND(SUM($G$1,$G$6:$G175)-SUM($H$6:$H175),2))","v":""},"",""]
[171,0,"",null,null,null,null,null,null,{"$f":"IF(ISBLANK(D176),\"\",ROUND(SUM($G$1,$G$6:$G176)-SUM($H$6:$H176),2))","v":""},"",""]
[172,0,"",null,null,null,null,null,null,{"$f":"IF(ISBLANK(D177),\"\",ROUND(SUM($G$1,$G$6:$G177)-SUM($H$6:$H177),2))","v":""},"",""]
[173,0,"",null,null,null,null,null,null,{"$f":"IF(ISBLANK(D178),\"\",ROUND(SUM($G$1,$G$6:$G178)-SUM($H$6:$H178),2))","v":""},"",""]
[174,0,"",null,null,null,null,null,null,{"$f":"IF(ISBLANK(D179),\"\",ROUND(SUM($G$1,$G$6:$G179)-SUM($H$6:$H179),2))","v":""},"",""]
[175,0,"",null,null,null,null,null,null,{"$f":"IF(ISBLANK(D180),\"\",ROUND(SUM($G$1,$G$6:$G180)-SUM($H$6:$H180),2))","v":""},"",""]
[176,0,"",null,null,null,null,null,null,{"$f":"IF(ISBLANK(D181),\"\",ROUND(SUM($G$1,$G$6:$G181)-SUM($H$6:$H181),2))","v":""},"",""]
[177,0,"",null,null,null,null,null,null,{"$f":"IF(ISBLANK(D182),\"\",ROUND(SUM($G$1,$G$6:$G182)-SUM($H$6:$H182),2))","v":""},"",""]
[178,0,"",null,null,null,null,null,null,{"$f":"IF(ISBLANK(D183),\"\",ROUND(SUM($G$1,$G$6:$G183)-SUM($H$6:$H183),2))","v":""},"",""]
[179,0,"",null,null,null,null,null,null,{"$f":"IF(ISBLANK(D184),\"\",ROUND(SUM($G$1,$G$6:$G184)-SUM($H$6:$H184),2))","v":""},"",""]
[180,0,"",null,null,null,null,null,null,{"$f":"IF(ISBLANK(D185),\"\",ROUND(SUM($G$1,$G$6:$G185)-SUM($H$6:$H185),2))","v":""},"",""]
[181,0,"",null,null,null,null,null,null,{"$f":"IF(ISBLANK(D186),\"\",ROUND(SUM($G$1,$G$6:$G186)-SUM($H$6:$H186),2))","v":""},"",""]
[182,0,"",null,null,null,null,null,null,{"$f":"IF(ISBLANK(D187),\"\",ROUND(SUM($G$1,$G$6:$G187)-SUM($H$6:$H187),2))","v":""},"",""]
[183,0,"",null,null,null,null,null,null,{"$f":"IF(ISBLANK(D188),\"\",ROUND(SUM($G$1,$G$6:$G188)-SUM($H$6:$H188),2))","v":""},"",""]
[184,0,"",null,null,null,null,null,null,{"$f":"IF(ISBLANK(D189),\"\",ROUND(SUM($G$1,$G$6:$G189)-SUM($H$6:$H189),2))","v":""},"",""]
[185,0,"",null,null,null,null,null,null,{"$f":"IF(ISBLANK(D190),\"\",ROUND(SUM($G$1,$G$6:$G190)-SUM($H$6:$H190),2))","v":""},"",""]
[186,0,"",null,null,null,null,null,null,{"$f":"IF(ISBLANK(D191),\"\",ROUND(SUM($G$1,$G$6:$G191)-SUM($H$6:$H191),2))","v":""},"",""]
[187,0,"",null,null,null,null,null,null,{"$f":"IF(ISBLANK(D192),\"\",ROUND(SUM($G$1,$G$6:$G192)-SUM($H$6:$H192),2))","v":""},"",""]
[188,0,"",null,null,null,null,null,null,{"$f":"IF(ISBLANK(D193),\"\",ROUND(SUM($G$1,$G$6:$G193)-SUM($H$6:$H193),2))","v":""},"",""]
[189,0,"",null,null,null,null,null,null,{"$f":"IF(ISBLANK(D194),\"\",ROUND(SUM($G$1,$G$6:$G194)-SUM($H$6:$H194),2))","v":""},"",""]
[190,0,"",null,null,null,null,null,null,{"$f":"IF(ISBLANK(D195),\"\",ROUND(SUM($G$1,$G$6:$G195)-SUM($H$6:$H195),2))","v":""},"",""]
[191,0,"",null,null,null,null,null,null,{"$f":"IF(ISBLANK(D196),\"\",ROUND(SUM($G$1,$G$6:$G196)-SUM($H$6:$H196),2))","v":""},"",""]
[192,0,"",null,null,null,null,null,null,{"$f":"IF(ISBLANK(D197),\"\",ROUND(SUM($G$1,$G$6:$G197)-SUM($H$6:$H197),2))","v":""},"",""]
[193,{"$f":"DAY(D198)","v":0},{"$f":"IF(ISBLANK(D198),\"\",MONTH(D198))","v":""},null,null,null,null,null,null,{"$f":"IF(ISBLANK(D198),\"\",ROUND(SUM($G$1,$G$6:$G198)-SUM($H$6:$H198),2))","v":""},"",""]
[194,0,"",null,null,null,null,null,null,{"$f":"IF(ISBLANK(D199),\"\",ROUND(SUM($G$1,$G$6:$G199)-SUM($H$6:$H199),2))","v":""},{"$f":"IF(ISBLANK(E199),\"\",CONCATENATE($C$3,E199))","v":""},{"$f":"IF(K199=\"\",\"\",HYPERLINK(CONCATENATE($L$5,\"/\",K199,\".pdf\"),\"anzeigen\"))","v":""}]
[195,0,"",null,null,null,null,null,null,{"$f":"IF(ISBLANK(D200),\"\",ROUND(SUM($G$1,$G$6:$G200)-SUM($H$6:$H200),2))","v":""},"",""]
[196,0,"",null,null,null,null,null,null,{"$f":"IF(ISBLANK(D201),\"\",ROUND(SUM($G$1,$G$6:$G201)-SUM($H$6:$H201),2))","v":""},"",""]
[197,0,"",null,null,null,null,null,null,{"$f":"IF(ISBLANK(D202),\"\",ROUND(SUM($G$1,$G$6:$G202)-SUM($H$6:$H202),2))","v":""},"",""]
[198,0,"",null,null,null,null,null,null,{"$f":"IF(ISBLANK(D203),\"\",ROUND(SUM($G$1,$G$6:$G203)-SUM($H$6:$H203),2))","v":""},"",""]
[199,0,"",null,null,null,null,null,null,{"$f":"IF(ISBLANK(D204),\"\",ROUND(SUM($G$1,$G$6:$G204)-SUM($H$6:$H204),2))","v":""},"",""]
[200,0,"",null,null,null,null,null,null,{"$f":"IF(ISBLANK(D205),\"\",ROUND(SUM($G$1,$G$6:$G205)-SUM($H$6:$H205),2))","v":""},"",""]
[201,0,"",null,null,null,null,null,null,{"$f":"IF(ISBLANK(D206),\"\",ROUND(SUM($G$1,$G$6:$G206)-SUM($H$6:$H206),2))","v":""},"",""]
[202,0,"",null,null,null,null,null,null,{"$f":"IF(ISBLANK(D207),\"\",ROUND(SUM($G$1,$G$6:$G207)-SUM($H$6:$H207),2))","v":""},"",""]
[203,0,"",null,null,null,null,null,null,{"$f":"IF(ISBLANK(D208),\"\",ROUND(SUM($G$1,$G$6:$G208)-SUM($H$6:$H208),2))","v":""},"",""]
[204,0,"",null,null,null,null,null,null,{"$f":"IF(ISBLANK(D209),\"\",ROUND(SUM($G$1,$G$6:$G209)-SUM($H$6:$H209),2))","v":""},"",""]
[205,0,"",null,null,null,null,null,null,{"$f":"IF(ISBLANK(D210),\"\",ROUND(SUM($G$1,$G$6:$G210)-SUM($H$6:$H210),2))","v":""},"",""]
[206,0,"",null,null,null,null,null,null,{"$f":"IF(ISBLANK(D211),\"\",ROUND(SUM($G$1,$G$6:$G211)-SUM($H$6:$H211),2))","v":""},"",""]
[207,0,"",null,null,null,null,null,null,{"$f":"IF(ISBLANK(D212),\"\",ROUND(SUM($G$1,$G$6:$G212)-SUM($H$6:$H212),2))","v":""},"",""]
[208,0,"",null,null,null,null,null,null,{"$f":"IF(ISBLANK(D213),\"\",ROUND(SUM($G$1,$G$6:$G213)-SUM($H$6:$H213),2))","v":""},"",""]
[209,0,"",null,null,null,null,null,null,{"$f":"IF(ISBLANK(D214),\"\",ROUND(SUM($G$1,$G$6:$G214)-SUM($H$6:$H214),2))","v":""},"",""]
[210,0,"",null,null,null,null,null,null,{"$f":"IF(ISBLANK(D215),\"\",ROUND(SUM($G$1,$G$6:$G215)-SUM($H$6:$H215),2))","v":""},"",""]
[211,0,"",null,null,null,null,null,null,{"$f":"IF(ISBLANK(D216),\"\",ROUND(SUM($G$1,$G$6:$G216)-SUM($H$6:$H216),2))","v":""},"",""]
[212,0,"",null,null,null,null,null,null,{"$f":"IF(ISBLANK(D217),\"\",ROUND(SUM($G$1,$G$6:$G217)-SUM($H$6:$H217),2))","v":""},"",""]
[213,0,"",null,null,null,null,null,null,{"$f":"IF(ISBLANK(D218),\"\",ROUND(SUM($G$1,$G$6:$G218)-SUM($H$6:$H218),2))","v":""},"",""]
[214,0,"",null,null,null,null,null,null,{"$f":"IF(ISBLANK(D219),\"\",ROUND(SUM($G$1,$G$6:$G219)-SUM($H$6:$H219),2))","v":""},"",""]
[215,0,"",null,null,null,null,null,null,{"$f":"IF(ISBLANK(D220),\"\",ROUND(SUM($G$1,$G$6:$G220)-SUM($H$6:$H220),2))","v":""},"",""]
[216,0,"",null,null,null,null,null,null,{"$f":"IF(ISBLANK(D221),\"\",ROUND(SUM($G$1,$G$6:$G221)-SUM($H$6:$H221),2))","v":""},"",""]
[217,0,"",null,null,null,null,null,null,{"$f":"IF(ISBLANK(D222),\"\",ROUND(SUM($G$1,$G$6:$G222)-SUM($H$6:$H222),2))","v":""},"",""]
[218,0,"",null,null,null,null,null,null,{"$f":"IF(ISBLANK(D223),\"\",ROUND(SUM($G$1,$G$6:$G223)-SUM($H$6:$H223),2))","v":""},"",""]
[219,0,"",null,null,null,null,null,null,{"$f":"IF(ISBLANK(D224),\"\",ROUND(SUM($G$1,$G$6:$G224)-SUM($H$6:$H224),2))","v":""},"",""]
[220,0,"",null,null,null,null,null,null,{"$f":"IF(ISBLANK(D225),\"\",ROUND(SUM($G$1,$G$6:$G225)-SUM($H$6:$H225),2))","v":""},"",""]
[221,0,"",null,null,null,null,null,null,{"$f":"IF(ISBLANK(D226),\"\",ROUND(SUM($G$1,$G$6:$G226)-SUM($H$6:$H226),2))","v":""},"",""]
[222,0,"",null,null,null,null,null,null,{"$f":"IF(ISBLANK(D227),\"\",ROUND(SUM($G$1,$G$6:$G227)-SUM($H$6:$H227),2))","v":""},"",""]
[223,0,"",null,null,null,null,null,null,{"$f":"IF(ISBLANK(D228),\"\",ROUND(SUM($G$1,$G$6:$G228)-SUM($H$6:$H228),2))","v":""},"",""]
[224,0,"",null,null,null,null,null,null,{"$f":"IF(ISBLANK(D229),\"\",ROUND(SUM($G$1,$G$6:$G229)-SUM($H$6:$H229),2))","v":""},"",""]
[225,0,"",null,null,null,null,null,null,{"$f":"IF(ISBLANK(D230),\"\",ROUND(SUM($G$1,$G$6:$G230)-SUM($H$6:$H230),2))","v":""},"",""]
[226,0,"",null,null,null,null,null,null,{"$f":"IF(ISBLANK(D231),\"\",ROUND(SUM($G$1,$G$6:$G231)-SUM($H$6:$H231),2))","v":""},"",""]
[227,0,"",null,null,null,null,null,null,{"$f":"IF(ISBLANK(D232),\"\",ROUND(SUM($G$1,$G$6:$G232)-SUM($H$6:$H232),2))","v":""},"",""]
[228,0,"",null,null,null,null,null,null,{"$f":"IF(ISBLANK(D233),\"\",ROUND(SUM($G$1,$G$6:$G233)-SUM($H$6:$H233),2))","v":""},"",""]
[229,0,"",null,null,null,null,null,null,{"$f":"IF(ISBLANK(D234),\"\",ROUND(SUM($G$1,$G$6:$G234)-SUM($H$6:$H234),2))","v":""},"",""]
[230,0,"",null,null,null,null,null,null,{"$f":"IF(ISBLANK(D235),\"\",ROUND(SUM($G$1,$G$6:$G235)-SUM($H$6:$H235),2))","v":""},"",""]
[231,0,"",null,null,null,null,null,null,{"$f":"IF(ISBLANK(D236),\"\",ROUND(SUM($G$1,$G$6:$G236)-SUM($H$6:$H236),2))","v":""},"",""]
[232,0,"",null,null,null,null,null,null,{"$f":"IF(ISBLANK(D237),\"\",ROUND(SUM($G$1,$G$6:$G237)-SUM($H$6:$H237),2))","v":""},"",""]
[233,0,"",null,null,null,null,null,null,{"$f":"IF(ISBLANK(D238),\"\",ROUND(SUM($G$1,$G$6:$G238)-SUM($H$6:$H238),2))","v":""},"",""]
[234,0,"",null,null,null,null,null,null,{"$f":"IF(ISBLANK(D239),\"\",ROUND(SUM($G$1,$G$6:$G239)-SUM($H$6:$H239),2))","v":""},"",""]
[235,0,"",null,null,null,null,null,null,{"$f":"IF(ISBLANK(D240),\"\",ROUND(SUM($G$1,$G$6:$G240)-SUM($H$6:$H240),2))","v":""},"",""]
[236,0,"",null,null,null,null,null,null,{"$f":"IF(ISBLANK(D241),\"\",ROUND(SUM($G$1,$G$6:$G241)-SUM($H$6:$H241),2))","v":""},"",""]
[237,0,"",null,null,null,null,null,null,{"$f":"IF(ISBLANK(D242),\"\",ROUND(SUM($G$1,$G$6:$G242)-SUM($H$6:$H242),2))","v":""},"",""]
[238,0,"",null,null,null,null,null,null,{"$f":"IF(ISBLANK(D243),\"\",ROUND(SUM($G$1,$G$6:$G243)-SUM($H$6:$H243),2))","v":""},"",""]
[239,0,"",null,null,null,null,null,null,{"$f":"IF(ISBLANK(D244),\"\",ROUND(SUM($G$1,$G$6:$G244)-SUM($H$6:$H244),2))","v":""},"",""]
[240,0,"",null,null,null,null,null,null,{"$f":"IF(ISBLANK(D245),\"\",ROUND(SUM($G$1,$G$6:$G245)-SUM($H$6:$H245),2))","v":""},"",""]
[241,0,"",null,null,null,null,null,null,{"$f":"IF(ISBLANK(D246),\"\",ROUND(SUM($G$1,$G$6:$G246)-SUM($H$6:$H246),2))","v":""},"",""]
[242,0,"",null,null,null,null,null,null,{"$f":"IF(ISBLANK(D247),\"\",ROUND(SUM($G$1,$G$6:$G247)-SUM($H$6:$H247),2))","v":""},"",""]
[243,0,"",null,null,null,null,null,null,{"$f":"IF(ISBLANK(D248),\"\",ROUND(SUM($G$1,$G$6:$G248)-SUM($H$6:$H248),2))","v":""},"",""]
[244,0,"",null,null,null,null,null,null,{"$f":"IF(ISBLANK(D249),\"\",ROUND(SUM($G$1,$G$6:$G249)-SUM($H$6:$H249),2))","v":""},"",""]
[245,0,"",null,null,null,null,null,null,{"$f":"IF(ISBLANK(D250),\"\",ROUND(SUM($G$1,$G$6:$G250)-SUM($H$6:$H250),2))","v":""},"",""]
[246,0,"",null,null,null,null,null,null,{"$f":"IF(ISBLANK(D251),\"\",ROUND(SUM($G$1,$G$6:$G251)-SUM($H$6:$H251),2))","v":""},"",""]
[247,0,"",null,null,null,null,null,null,{"$f":"IF(ISBLANK(D252),\"\",ROUND(SUM($G$1,$G$6:$G252)-SUM($H$6:$H252),2))","v":""},"",""]
[248,0,"",null,null,null,null,null,null,{"$f":"IF(ISBLANK(D253),\"\",ROUND(SUM($G$1,$G$6:$G253)-SUM($H$6:$H253),2))","v":""},"",""]
[249,0,"",null,null,null,null,null,null,{"$f":"IF(ISBLANK(D254),\"\",ROUND(SUM($G$1,$G$6:$G254)-SUM($H$6:$H254),2))","v":""},"",""]
[250,0,"",null,null,null,null,null,null,{"$f":"IF(ISBLANK(D255),\"\",ROUND(SUM($G$1,$G$6:$G255)-SUM($H$6:$H255),2))","v":""},"",""]
[251,0,"",null,null,null,null,null,null,{"$f":"IF(ISBLANK(D256),\"\",ROUND(SUM($G$1,$G$6:$G256)-SUM($H$6:$H256),2))","v":""},"",""]
[252,0,"",null,null,null,null,null,null,{"$f":"IF(ISBLANK(D257),\"\",ROUND(SUM($G$1,$G$6:$G257)-SUM($H$6:$H257),2))","v":""},"",""]
[253,0,"",null,null,null,null,null,null,{"$f":"IF(ISBLANK(D258),\"\",ROUND(SUM($G$1,$G$6:$G258)-SUM($H$6:$H258),2))","v":""},"",""]
[254,0,"",null,null,null,null,null,null,{"$f":"IF(ISBLANK(D259),\"\",ROUND(SUM($G$1,$G$6:$G259)-SUM($H$6:$H259),2))","v":""},"",""]
[255,0,"",null,null,null,null,null,null,{"$f":"IF(ISBLANK(D260),\"\",ROUND(SUM($G$1,$G$6:$G260)-SUM($H$6:$H260),2))","v":""},"",""]
[256,0,"",null,null,null,null,null,null,{"$f":"IF(ISBLANK(D261),\"\",ROUND(SUM($G$1,$G$6:$G261)-SUM($H$6:$H261),2))","v":""},"",""]
[257,{"$f":"DAY(D262)","v":0},{"$f":"IF(ISBLANK(D262),\"\",MONTH(D262))","v":""},null,null,null,null,null,null,{"$f":"IF(ISBLANK(D262),\"\",ROUND(SUM($G$1,$G$6:$G262)-SUM($H$6:$H262),2))","v":""},"",""]
[258,0,"",null,null,null,null,null,null,{"$f":"IF(ISBLANK(D263),\"\",ROUND(SUM($G$1,$G$6:$G263)-SUM($H$6:$H263),2))","v":""},{"$f":"IF(ISBLANK(E263),\"\",CONCATENATE($C$3,E263))","v":""},{"$f":"IF(K263=\"\",\"\",HYPERLINK(CONCATENATE($L$5,\"/\",K263,\".pdf\"),\"anzeigen\"))","v":""}]
[259,0,"",null,null,null,null,null,null,{"$f":"IF(ISBLANK(D264),\"\",ROUND(SUM($G$1,$G$6:$G264)-SUM($H$6:$H264),2))","v":""},"",""]
[260,0,"",null,null,null,null,null,null,{"$f":"IF(ISBLANK(D265),\"\",ROUND(SUM($G$1,$G$6:$G265)-SUM($H$6:$H265),2))","v":""},"",""]
[261,0,"",null,null,null,null,null,null,{"$f":"IF(ISBLANK(D266),\"\",ROUND(SUM($G$1,$G$6:$G266)-SUM($H$6:$H266),2))","v":""},"",""]
[262,0,"",null,null,null,null,null,null,{"$f":"IF(ISBLANK(D267),\"\",ROUND(SUM($G$1,$G$6:$G267)-SUM($H$6:$H267),2))","v":""},"",""]
[263,0,"",null,null,null,null,null,null,{"$f":"IF(ISBLANK(D268),\"\",ROUND(SUM($G$1,$G$6:$G268)-SUM($H$6:$H268),2))","v":""},"",""]
[264,0,"",null,null,null,null,null,null,{"$f":"IF(ISBLANK(D269),\"\",ROUND(SUM($G$1,$G$6:$G269)-SUM($H$6:$H269),2))","v":""},"",""]
[265,0,"",null,null,null,null,null,null,{"$f":"IF(ISBLANK(D270),\"\",ROUND(SUM($G$1,$G$6:$G270)-SUM($H$6:$H270),2))","v":""},"",""]
[266,0,"",null,null,null,null,null,null,{"$f":"IF(ISBLANK(D271),\"\",ROUND(SUM($G$1,$G$6:$G271)-SUM($H$6:$H271),2))","v":""},"",""]
[267,0,"",null,null,null,null,null,null,{"$f":"IF(ISBLANK(D272),\"\",ROUND(SUM($G$1,$G$6:$G272)-SUM($H$6:$H272),2))","v":""},"",""]
[268,0,"",null,null,null,null,null,null,{"$f":"IF(ISBLANK(D273),\"\",ROUND(SUM($G$1,$G$6:$G273)-SUM($H$6:$H273),2))","v":""},"",""]
[269,0,"",null,null,null,null,null,null,{"$f":"IF(ISBLANK(D274),\"\",ROUND(SUM($G$1,$G$6:$G274)-SUM($H$6:$H274),2))","v":""},"",""]
[270,0,"",null,null,null,null,null,null,{"$f":"IF(ISBLANK(D275),\"\",ROUND(SUM($G$1,$G$6:$G275)-SUM($H$6:$H275),2))","v":""},"",""]
[271,0,"",null,null,null,null,null,null,{"$f":"IF(ISBLANK(D276),\"\",ROUND(SUM($G$1,$G$6:$G276)-SUM($H$6:$H276),2))","v":""},"",""]
[272,0,"",null,null,null,null,null,null,{"$f":"IF(ISBLANK(D277),\"\",ROUND(SUM($G$1,$G$6:$G277)-SUM($H$6:$H277),2))","v":""},"",""]
[273,0,"",null,null,null,null,null,null,{"$f":"IF(ISBLANK(D278),\"\",ROUND(SUM($G$1,$G$6:$G278)-SUM($H$6:$H278),2))","v":""},"",""]
[274,0,"",null,null,null,null,null,null,{"$f":"IF(ISBLANK(D279),\"\",ROUND(SUM($G$1,$G$6:$G279)-SUM($H$6:$H279),2))","v":""},"",""]
[275,0,"",null,null,null,null,null,null,{"$f":"IF(ISBLANK(D280),\"\",ROUND(SUM($G$1,$G$6:$G280)-SUM($H$6:$H280),2))","v":""},"",""]
[276,0,"",null,null,null,null,null,null,{"$f":"IF(ISBLANK(D281),\"\",ROUND(SUM($G$1,$G$6:$G281)-SUM($H$6:$H281),2))","v":""},"",""]
[277,0,"",null,null,null,null,null,null,{"$f":"IF(ISBLANK(D282),\"\",ROUND(SUM($G$1,$G$6:$G282)-SUM($H$6:$H282),2))","v":""},"",""]
[278,0,"",null,null,null,null,null,null,{"$f":"IF(ISBLANK(D283),\"\",ROUND(SUM($G$1,$G$6:$G283)-SUM($H$6:$H283),2))","v":""},"",""]
[279,0,"",null,null,null,null,null,null,{"$f":"IF(ISBLANK(D284),\"\",ROUND(SUM($G$1,$G$6:$G284)-SUM($H$6:$H284),2))","v":""},"",""]
[280,0,"",null,null,null,null,null,null,{"$f":"IF(ISBLANK(D285),\"\",ROUND(SUM($G$1,$G$6:$G285)-SUM($H$6:$H285),2))","v":""},"",""]
[281,0,"",null,null,null,null,null,null,{"$f":"IF(ISBLANK(D286),\"\",ROUND(SUM($G$1,$G$6:$G286)-SUM($H$6:$H286),2))","v":""},"",""]
[282,0,"",null,null,null,null,null,null,{"$f":"IF(ISBLANK(D287),\"\",ROUND(SUM($G$1,$G$6:$G287)-SUM($H$6:$H287),2))","v":""},"",""]
[283,0,"",null,null,null,null,null,null,{"$f":"IF(ISBLANK(D288),\"\",ROUND(SUM($G$1,$G$6:$G288)-SUM($H$6:$H288),2))","v":""},"",""]
[284,0,"",null,null,null,null,null,null,{"$f":"IF(ISBLANK(D289),\"\",ROUND(SUM($G$1,$G$6:$G289)-SUM($H$6:$H289),2))","v":""},"",""]
[285,0,"",null,null,null,null,null,null,{"$f":"IF(ISBLANK(D290),\"\",ROUND(SUM($G$1,$G$6:$G290)-SUM($H$6:$H290),2))","v":""},"",""]
[286,0,"",null,null,null,null,null,null,{"$f":"IF(ISBLANK(D291),\"\",ROUND(SUM($G$1,$G$6:$G291)-SUM($H$6:$H291),2))","v":""},"",""]
[287,0,"",null,null,null,null,null,null,{"$f":"IF(ISBLANK(D292),\"\",ROUND(SUM($G$1,$G$6:$G292)-SUM($H$6:$H292),2))","v":""},"",""]
[288,0,"",null,null,null,null,null,null,{"$f":"IF(ISBLANK(D293),\"\",ROUND(SUM($G$1,$G$6:$G293)-SUM($H$6:$H293),2))","v":""},"",""]
[289,0,"",null,null,null,null,null,null,{"$f":"IF(ISBLANK(D294),\"\",ROUND(SUM($G$1,$G$6:$G294)-SUM($H$6:$H294),2))","v":""},"",""]
[290,0,"",null,null,null,null,null,null,{"$f":"IF(ISBLANK(D295),\"\",ROUND(SUM($G$1,$G$6:$G295)-SUM($H$6:$H295),2))","v":""},"",""]
[291,0,"",null,null,null,null,null,null,{"$f":"IF(ISBLANK(D296),\"\",ROUND(SUM($G$1,$G$6:$G296)-SUM($H$6:$H296),2))","v":""},"",""]
[292,0,"",null,null,null,null,null,null,{"$f":"IF(ISBLANK(D297),\"\",ROUND(SUM($G$1,$G$6:$G297)-SUM($H$6:$H297),2))","v":""},"",""]
[293,0,"",null,null,null,null,null,null,{"$f":"IF(ISBLANK(D298),\"\",ROUND(SUM($G$1,$G$6:$G298)-SUM($H$6:$H298),2))","v":""},"",""]
[294,0,"",null,null,null,null,null,null,{"$f":"IF(ISBLANK(D299),\"\",ROUND(SUM($G$1,$G$6:$G299)-SUM($H$6:$H299),2))","v":""},"",""]
[295,0,"",null,null,null,null,null,null,{"$f":"IF(ISBLANK(D300),\"\",ROUND(SUM($G$1,$G$6:$G300)-SUM($H$6:$H300),2))","v":""},"",""]
[296,0,"",null,null,null,null,null,null,{"$f":"IF(ISBLANK(D301),\"\",ROUND(SUM($G$1,$G$6:$G301)-SUM($H$6:$H301),2))","v":""},"",""]
[297,0,"",null,null,null,null,null,null,{"$f":"IF(ISBLANK(D302),\"\",ROUND(SUM($G$1,$G$6:$G302)-SUM($H$6:$H302),2))","v":""},"",""]
[298,0,"",null,null,null,null,null,null,{"$f":"IF(ISBLANK(D303),\"\",ROUND(SUM($G$1,$G$6:$G303)-SUM($H$6:$H303),2))","v":""},"",""]
[299,0,"",null,null,null,null,null,null,{"$f":"IF(ISBLANK(D304),\"\",ROUND(SUM($G$1,$G$6:$G304)-SUM($H$6:$H304),2))","v":""},"",""]
[300,0,"",null,null,null,null,null,null,{"$f":"IF(ISBLANK(D305),\"\",ROUND(SUM($G$1,$G$6:$G305)-SUM($H$6:$H305),2))","v":""},"",""]
[301,0,"",null,null,null,null,null,null,{"$f":"IF(ISBLANK(D306),\"\",ROUND(SUM($G$1,$G$6:$G306)-SUM($H$6:$H306),2))","v":""},"",""]
[302,0,"",null,null,null,null,null,null,{"$f":"IF(ISBLANK(D307),\"\",ROUND(SUM($G$1,$G$6:$G307)-SUM($H$6:$H307),2))","v":""},"",""]
[303,0,"",null,null,null,null,null,null,{"$f":"IF(ISBLANK(D308),\"\",ROUND(SUM($G$1,$G$6:$G308)-SUM($H$6:$H308),2))","v":""},"",""]
[304,0,"",null,null,null,null,null,null,{"$f":"IF(ISBLANK(D309),\"\",ROUND(SUM($G$1,$G$6:$G309)-SUM($H$6:$H309),2))","v":""},"",""]
[305,0,"",null,null,null,null,null,null,{"$f":"IF(ISBLANK(D310),\"\",ROUND(SUM($G$1,$G$6:$G310)-SUM($H$6:$H310),2))","v":""},"",""]
[306,0,"",null,null,null,null,null,null,{"$f":"IF(ISBLANK(D311),\"\",ROUND(SUM($G$1,$G$6:$G311)-SUM($H$6:$H311),2))","v":""},"",""]
[307,0,"",null,null,null,null,null,null,{"$f":"IF(ISBLANK(D312),\"\",ROUND(SUM($G$1,$G$6:$G312)-SUM($H$6:$H312),2))","v":""},"",""]
[308,0,"",null,null,null,null,null,null,{"$f":"IF(ISBLANK(D313),\"\",ROUND(SUM($G$1,$G$6:$G313)-SUM($H$6:$H313),2))","v":""},"",""]
[309,0,"",null,null,null,null,null,null,{"$f":"IF(ISBLANK(D314),\"\",ROUND(SUM($G$1,$G$6:$G314)-SUM($H$6:$H314),2))","v":""},"",""]
[310,0,"",null,null,null,null,null,null,{"$f":"IF(ISBLANK(D315),\"\",ROUND(SUM($G$1,$G$6:$G315)-SUM($H$6:$H315),2))","v":""},"",""]
[311,0,"",null,null,null,null,null,null,{"$f":"IF(ISBLANK(D316),\"\",ROUND(SUM($G$1,$G$6:$G316)-SUM($H$6:$H316),2))","v":""},"",""]
[312,0,"",null,null,null,null,null,null,{"$f":"IF(ISBLANK(D317),\"\",ROUND(SUM($G$1,$G$6:$G317)-SUM($H$6:$H317),2))","v":""},"",""]
[313,0,"",null,null,null,null,null,null,{"$f":"IF(ISBLANK(D318),\"\",ROUND(SUM($G$1,$G$6:$G318)-SUM($H$6:$H318),2))","v":""},"",""]
[314,0,"",null,null,null,null,null,null,{"$f":"IF(ISBLANK(D319),\"\",ROUND(SUM($G$1,$G$6:$G319)-SUM($H$6:$H319),2))","v":""},"",""]
[315,0,"",null,null,null,null,null,null,{"$f":"IF(ISBLANK(D320),\"\",ROUND(SUM($G$1,$G$6:$G320)-SUM($H$6:$H320),2))","v":""},"",""]
[316,0,"",null,null,null,null,null,null,{"$f":"IF(ISBLANK(D321),\"\",ROUND(SUM($G$1,$G$6:$G321)-SUM($H$6:$H321),2))","v":""},"",""]
[317,0,"",null,null,null,null,null,null,{"$f":"IF(ISBLANK(D322),\"\",ROUND(SUM($G$1,$G$6:$G322)-SUM($H$6:$H322),2))","v":""},"",""]
[318,0,"",null,null,null,null,null,null,{"$f":"IF(ISBLANK(D323),\"\",ROUND(SUM($G$1,$G$6:$G323)-SUM($H$6:$H323),2))","v":""},"",""]
[319,0,"",null,null,null,null,null,null,{"$f":"IF(ISBLANK(D324),\"\",ROUND(SUM($G$1,$G$6:$G324)-SUM($H$6:$H324),2))","v":""},"",""]
[320,0,"",null,null,null,null,null,null,{"$f":"IF(ISBLANK(D325),\"\",ROUND(SUM($G$1,$G$6:$G325)-SUM($H$6:$H325),2))","v":""},"",""]
[321,{"$f":"DAY(D326)","v":0},{"$f":"IF(ISBLANK(D326),\"\",MONTH(D326))","v":""},null,null,null,null,null,null,{"$f":"IF(ISBLANK(D326),\"\",ROUND(SUM($G$1,$G$6:$G326)-SUM($H$6:$H326),2))","v":""},"",""]
[322,0,"",null,null,null,null,null,null,{"$f":"IF(ISBLANK(D327),\"\",ROUND(SUM($G$1,$G$6:$G327)-SUM($H$6:$H327),2))","v":""},{"$f":"IF(ISBLANK(E327),\"\",CONCATENATE($C$3,E327))","v":""},{"$f":"IF(K327=\"\",\"\",HYPERLINK(CONCATENATE($L$5,\"/\",K327,\".pdf\"),\"anzeigen\"))","v":""}]
[323,0,"",null,null,null,null,null,null,{"$f":"IF(ISBLANK(D328),\"\",ROUND(SUM($G$1,$G$6:$G328)-SUM($H$6:$H328),2))","v":""},"",""]
[324,0,"",null,null,null,null,null,null,{"$f":"IF(ISBLANK(D329),\"\",ROUND(SUM($G$1,$G$6:$G329)-SUM($H$6:$H329),2))","v":""},"",""]
[325,0,"",null,null,null,null,null,null,{"$f":"IF(ISBLANK(D330),\"\",ROUND(SUM($G$1,$G$6:$G330)-SUM($H$6:$H330),2))","v":""},"",""]
[326,0,"",null,null,null,null,null,null,{"$f":"IF(ISBLANK(D331),\"\",ROUND(SUM($G$1,$G$6:$G331)-SUM($H$6:$H331),2))","v":""},"",""]
[327,0,"",null,null,null,null,null,null,{"$f":"IF(ISBLANK(D332),\"\",ROUND(SUM($G$1,$G$6:$G332)-SUM($H$6:$H332),2))","v":""},"",""]
[328,0,"",null,null,null,null,null,null,{"$f":"IF(ISBLANK(D333),\"\",ROUND(SUM($G$1,$G$6:$G333)-SUM($H$6:$H333),2))","v":""},"",""]
[329,0,"",null,null,null,null,null,null,{"$f":"IF(ISBLANK(D334),\"\",ROUND(SUM($G$1,$G$6:$G334)-SUM($H$6:$H334),2))","v":""},"",""]
[330,0,"",null,null,null,null,null,null,{"$f":"IF(ISBLANK(D335),\"\",ROUND(SUM($G$1,$G$6:$G335)-SUM($H$6:$H335),2))","v":""},"",""]
[331,0,"",null,null,null,null,null,null,{"$f":"IF(ISBLANK(D336),\"\",ROUND(SUM($G$1,$G$6:$G336)-SUM($H$6:$H336),2))","v":""},"",""]
[332,0,"",null,null,null,null,null,null,{"$f":"IF(ISBLANK(D337),\"\",ROUND(SUM($G$1,$G$6:$G337)-SUM($H$6:$H337),2))","v":""},"",""]
[333,0,"",null,null,null,null,null,null,{"$f":"IF(ISBLANK(D338),\"\",ROUND(SUM($G$1,$G$6:$G338)-SUM($H$6:$H338),2))","v":""},"",""]
[334,0,"",null,null,null,null,null,null,{"$f":"IF(ISBLANK(D339),\"\",ROUND(SUM($G$1,$G$6:$G339)-SUM($H$6:$H339),2))","v":""},"",""]
[335,0,"",null,null,null,null,null,null,{"$f":"IF(ISBLANK(D340),\"\",ROUND(SUM($G$1,$G$6:$G340)-SUM($H$6:$H340),2))","v":""},"",""]
[336,0,"",null,null,null,null,null,null,{"$f":"IF(ISBLANK(D341),\"\",ROUND(SUM($G$1,$G$6:$G341)-SUM($H$6:$H341),2))","v":""},"",""]
[337,0,"",null,null,null,null,null,null,{"$f":"IF(ISBLANK(D342),\"\",ROUND(SUM($G$1,$G$6:$G342)-SUM($H$6:$H342),2))","v":""},"",""]
[338,0,"",null,null,null,null,null,null,{"$f":"IF(ISBLANK(D343),\"\",ROUND(SUM($G$1,$G$6:$G343)-SUM($H$6:$H343),2))","v":""},"",""]
[339,0,"",null,null,null,null,null,null,{"$f":"IF(ISBLANK(D344),\"\",ROUND(SUM($G$1,$G$6:$G344)-SUM($H$6:$H344),2))","v":""},"",""]
[340,0,"",null,null,null,null,null,null,{"$f":"IF(ISBLANK(D345),\"\",ROUND(SUM($G$1,$G$6:$G345)-SUM($H$6:$H345),2))","v":""},"",""]
[341,0,"",null,null,null,null,null,null,{"$f":"IF(ISBLANK(D346),\"\",ROUND(SUM($G$1,$G$6:$G346)-SUM($H$6:$H346),2))","v":""},"",""]
[342,0,"",null,null,null,null,null,null,{"$f":"IF(ISBLANK(D347),\"\",ROUND(SUM($G$1,$G$6:$G347)-SUM($H$6:$H347),2))","v":""},"",""]
[343,0,"",null,null,null,null,null,null,{"$f":"IF(ISBLANK(D348),\"\",ROUND(SUM($G$1,$G$6:$G348)-SUM($H$6:$H348),2))","v":""},"",""]
[344,0,"",null,null,null,null,null,null,{"$f":"IF(ISBLANK(D349),\"\",ROUND(SUM($G$1,$G$6:$G349)-SUM($H$6:$H349),2))","v":""},"",""]
[345,0,"",null,null,null,null,null,null,{"$f":"IF(ISBLANK(D350),\"\",ROUND(SUM($G$1,$G$6:$G350)-SUM($H$6:$H350),2))","v":""},"",""]
[346,0,"",null,null,null,null,null,null,{"$f":"IF(ISBLANK(D351),\"\",ROUND(SUM($G$1,$G$6:$G351)-SUM($H$6:$H351),2))","v":""},"",""]
[347,0,"",null,null,null,null,null,null,{"$f":"IF(ISBLANK(D352),\"\",ROUND(SUM($G$1,$G$6:$G352)-SUM($H$6:$H352),2))","v":""},"",""]
[348,0,"",null,null,null,null,null,null,{"$f":"IF(ISBLANK(D353),\"\",ROUND(SUM($G$1,$G$6:$G353)-SUM($H$6:$H353),2))","v":""},"",""]
[349,0,"",null,null,null,null,null,null,{"$f":"IF(ISBLANK(D354),\"\",ROUND(SUM($G$1,$G$6:$G354)-SUM($H$6:$H354),2))","v":""},"",""]
[350,0,"",null,null,null,null,null,null,{"$f":"IF(ISBLANK(D355),\"\",ROUND(SUM($G$1,$G$6:$G355)-SUM($H$6:$H355),2))","v":""},"",""]
[351,0,"",null,null,null,null,null,null,{"$f":"IF(ISBLANK(D356),\"\",ROUND(SUM($G$1,$G$6:$G356)-SUM($H$6:$H356),2))","v":""},"",""]
[352,0,"",null,null,null,null,null,null,{"$f":"IF(ISBLANK(D357),\"\",ROUND(SUM($G$1,$G$6:$G357)-SUM($H$6:$H357),2))","v":""},"",""]
[353,0,"",null,null,null,null,null,null,{"$f":"IF(ISBLANK(D358),\"\",ROUND(SUM($G$1,$G$6:$G358)-SUM($H$6:$H358),2))","v":""},"",""]
[354,0,"",null,null,null,null,null,null,{"$f":"IF(ISBLANK(D359),\"\",ROUND(SUM($G$1,$G$6:$G359)-SUM($H$6:$H359),2))","v":""},"",""]
[355,0,"",null,null,null,null,null,null,{"$f":"IF(ISBLANK(D360),\"\",ROUND(SUM($G$1,$G$6:$G360)-SUM($H$6:$H360),2))","v":""},"",""]
[356,0,"",null,null,null,null,null,null,{"$f":"IF(ISBLANK(D361),\"\",ROUND(SUM($G$1,$G$6:$G361)-SUM($H$6:$H361),2))","v":""},"",""]
[357,0,"",null,null,null,null,null,null,{"$f":"IF(ISBLANK(D362),\"\",ROUND(SUM($G$1,$G$6:$G362)-SUM($H$6:$H362),2))","v":""},"",""]
[358,0,"",null,null,null,null,null,null,{"$f":"IF(ISBLANK(D363),\"\",ROUND(SUM($G$1,$G$6:$G363)-SUM($H$6:$H363),2))","v":""},"",""]
[359,0,"",null,null,null,null,null,null,{"$f":"IF(ISBLANK(D364),\"\",ROUND(SUM($G$1,$G$6:$G364)-SUM($H$6:$H364),2))","v":""},"",""]
[360,0,"",null,null,null,null,null,null,{"$f":"IF(ISBLANK(D365),\"\",ROUND(SUM($G$1,$G$6:$G365)-SUM($H$6:$H365),2))","v":""},"",""]
[361,0,"",null,null,null,null,null,null,{"$f":"IF(ISBLANK(D366),\"\",ROUND(SUM($G$1,$G$6:$G366)-SUM($H$6:$H366),2))","v":""},"",""]
[362,0,"",null,null,null,null,null,null,{"$f":"IF(ISBLANK(D367),\"\",ROUND(SUM($G$1,$G$6:$G367)-SUM($H$6:$H367),2))","v":""},"",""]
[363,0,"",null,null,null,null,null,null,{"$f":"IF(ISBLANK(D368),\"\",ROUND(SUM($G$1,$G$6:$G368)-SUM($H$6:$H368),2))","v":""},"",""]
[364,0,"",null,null,null,null,null,null,{"$f":"IF(ISBLANK(D369),\"\",ROUND(SUM($G$1,$G$6:$G369)-SUM($H$6:$H369),2))","v":""},"",""]
[365,0,"",null,null,null,null,null,null,{"$f":"IF(ISBLANK(D370),\"\",ROUND(SUM($G$1,$G$6:$G370)-SUM($H$6:$H370),2))","v":""},"",""]
[366,0,"",null,null,null,null,null,null,{"$f":"IF(ISBLANK(D371),\"\",ROUND(SUM($G$1,$G$6:$G371)-SUM($H$6:$H371),2))","v":""},"",""]
[367,0,"",null,null,null,null,null,null,{"$f":"IF(ISBLANK(D372),\"\",ROUND(SUM($G$1,$G$6:$G372)-SUM($H$6:$H372),2))","v":""},"",""]
[368,0,"",null,null,null,null,null,null,{"$f":"IF(ISBLANK(D373),\"\",ROUND(SUM($G$1,$G$6:$G373)-SUM($H$6:$H373),2))","v":""},"",""]
[369,0,"",null,null,null,null,null,null,{"$f":"IF(ISBLANK(D374),\"\",ROUND(SUM($G$1,$G$6:$G374)-SUM($H$6:$H374),2))","v":""},"",""]
[370,0,"",null,null,null,null,null,null,{"$f":"IF(ISBLANK(D375),\"\",ROUND(SUM($G$1,$G$6:$G375)-SUM($H$6:$H375),2))","v":""},"",""]
[371,0,"",null,null,null,null,null,null,{"$f":"IF(ISBLANK(D376),\"\",ROUND(SUM($G$1,$G$6:$G376)-SUM($H$6:$H376),2))","v":""},"",""]
[372,0,"",null,null,null,null,null,null,{"$f":"IF(ISBLANK(D377),\"\",ROUND(SUM($G$1,$G$6:$G377)-SUM($H$6:$H377),2))","v":""},"",""]
[373,0,"",null,null,null,null,null,null,{"$f":"IF(ISBLANK(D378),\"\",ROUND(SUM($G$1,$G$6:$G378)-SUM($H$6:$H378),2))","v":""},"",""]
[374,0,"",null,null,null,null,null,null,{"$f":"IF(ISBLANK(D379),\"\",ROUND(SUM($G$1,$G$6:$G379)-SUM($H$6:$H379),2))","v":""},"",""]
[375,0,"",null,null,null,null,null,null,{"$f":"IF(ISBLANK(D380),\"\",ROUND(SUM($G$1,$G$6:$G380)-SUM($H$6:$H380),2))","v":""},"",""]
[376,0,"",null,null,null,null,null,null,{"$f":"IF(ISBLANK(D381),\"\",ROUND(SUM($G$1,$G$6:$G381)-SUM($H$6:$H381),2))","v":""},"",""]
[377,0,"",null,null,null,null,null,null,{"$f":"IF(ISBLANK(D382),\"\",ROUND(SUM($G$1,$G$6:$G382)-SUM($H$6:$H382),2))","v":""},"",""]
[378,0,"",null,null,null,null,null,null,{"$f":"IF(ISBLANK(D383),\"\",ROUND(SUM($G$1,$G$6:$G383)-SUM($H$6:$H383),2))","v":""},"",""]
[379,0,"",null,null,null,null,null,null,{"$f":"IF(ISBLANK(D384),\"\",ROUND(SUM($G$1,$G$6:$G384)-SUM($H$6:$H384),2))","v":""},"",""]
[380,0,"",null,null,null,null,null,null,{"$f":"IF(ISBLANK(D385),\"\",ROUND(SUM($G$1,$G$6:$G385)-SUM($H$6:$H385),2))","v":""},"",""]
[381,0,"",null,null,null,null,null,null,{"$f":"IF(ISBLANK(D386),\"\",ROUND(SUM($G$1,$G$6:$G386)-SUM($H$6:$H386),2))","v":""},"",""]
[382,0,"",null,null,null,null,null,null,{"$f":"IF(ISBLANK(D387),\"\",ROUND(SUM($G$1,$G$6:$G387)-SUM($H$6:$H387),2))","v":""},"",""]
[383,0,"",null,null,null,null,null,null,{"$f":"IF(ISBLANK(D388),\"\",ROUND(SUM($G$1,$G$6:$G388)-SUM($H$6:$H388),2))","v":""},"",""]
[384,0,"",null,null,null,null,null,null,{"$f":"IF(ISBLANK(D389),\"\",ROUND(SUM($G$1,$G$6:$G389)-SUM($H$6:$H389),2))","v":""},"",""]
[385,{"$f":"DAY(D390)","v":0},{"$f":"IF(ISBLANK(D390),\"\",MONTH(D390))","v":""},null,null,null,null,null,null,{"$f":"IF(ISBLANK(D390),\"\",ROUND(SUM($G$1,$G$6:$G390)-SUM($H$6:$H390),2))","v":""},"",""]
[386,0,"",null,null,null,null,null,null,{"$f":"IF(ISBLANK(D391),\"\",ROUND(SUM($G$1,$G$6:$G391)-SUM($H$6:$H391),2))","v":""},{"$f":"IF(ISBLANK(E391),\"\",CONCATENATE($C$3,E391))","v":""},{"$f":"IF(K391=\"\",\"\",HYPERLINK(CONCATENATE($L$5,\"/\",K391,\".pdf\"),\"anzeigen\"))","v":""}]
[387,0,"",null,null,null,null,null,null,{"$f":"IF(ISBLANK(D392),\"\",ROUND(SUM($G$1,$G$6:$G392)-SUM($H$6:$H392),2))","v":""},"",""]
[388,0,"",null,null,null,null,null,null,{"$f":"IF(ISBLANK(D393),\"\",ROUND(SUM($G$1,$G$6:$G393)-SUM($H$6:$H393),2))","v":""},"",""]
[389,0,"",null,null,null,null,null,null,{"$f":"IF(ISBLANK(D394),\"\",ROUND(SUM($G$1,$G$6:$G394)-SUM($H$6:$H394),2))","v":""},"",""]
[390,0,"",null,null,null,null,null,null,{"$f":"IF(ISBLANK(D395),\"\",ROUND(SUM($G$1,$G$6:$G395)-SUM($H$6:$H395),2))","v":""},"",""]
[391,0,"",null,null,null,null,null,null,{"$f":"IF(ISBLANK(D396),\"\",ROUND(SUM($G$1,$G$6:$G396)-SUM($H$6:$H396),2))","v":""},"",""]
[392,0,"",null,null,null,null,null,null,{"$f":"IF(ISBLANK(D397),\"\",ROUND(SUM($G$1,$G$6:$G397)-SUM($H$6:$H397),2))","v":""},"",""]
[393,0,"",null,null,null,null,null,null,{"$f":"IF(ISBLANK(D398),\"\",ROUND(SUM($G$1,$G$6:$G398)-SUM($H$6:$H398),2))","v":""},"",""]
[394,0,"",null,null,null,null,null,null,{"$f":"IF(ISBLANK(D399),\"\",ROUND(SUM($G$1,$G$6:$G399)-SUM($H$6:$H399),2))","v":""},"",""]
[395,0,"",null,null,null,null,null,null,{"$f":"IF(ISBLANK(D400),\"\",ROUND(SUM($G$1,$G$6:$G400)-SUM($H$6:$H400),2))","v":""},"",""]
[396,0,"",null,null,null,null,null,null,{"$f":"IF(ISBLANK(D401),\"\",ROUND(SUM($G$1,$G$6:$G401)-SUM($H$6:$H401),2))","v":""},"",""]
[397,0,"",null,null,null,null,null,null,{"$f":"IF(ISBLANK(D402),\"\",ROUND(SUM($G$1,$G$6:$G402)-SUM($H$6:$H402),2))","v":""},"",""]
[398,0,"",null,null,null,null,null,null,{"$f":"IF(ISBLANK(D403),\"\",ROUND(SUM($G$1,$G$6:$G403)-SUM($H$6:$H403),2))","v":""},"",""]
[399,0,"",null,null,null,null,null,null,{"$f":"IF(ISBLANK(D404),\"\",ROUND(SUM($G$1,$G$6:$G404)-SUM($H$6:$H404),2))","v":""},"",""]
[400,0,"",null,null,null,null,null,null,{"$f":"IF(ISBLANK(D405),\"\",ROUND(SUM($G$1,$G$6:$G405)-SUM($H$6:$H405),2))","v":""},"",""]
[401,0,"",null,null,null,null,null,null,{"$f":"IF(ISBLANK(D406),\"\",ROUND(SUM($G$1,$G$6:$G406)-SUM($H$6:$H406),2))","v":""},"",""]
[402,0,"",null,null,null,null,null,null,{"$f":"IF(ISBLANK(D407),\"\",ROUND(SUM($G$1,$G$6:$G407)-SUM($H$6:$H407),2))","v":""},"",""]
[403,0,"",null,null,null,null,null,null,{"$f":"IF(ISBLANK(D408),\"\",ROUND(SUM($G$1,$G$6:$G408)-SUM($H$6:$H408),2))","v":""},"",""]
[404,0,"",null,null,null,null,null,null,{"$f":"IF(ISBLANK(D409),\"\",ROUND(SUM($G$1,$G$6:$G409)-SUM($H$6:$H409),2))","v":""},"",""]
[405,0,"",null,null,null,null,null,null,{"$f":"IF(ISBLANK(D410),\"\",ROUND(SUM($G$1,$G$6:$G410)-SUM($H$6:$H410),2))","v":""},"",""]
[406,0,"",null,null,null,null,null,null,{"$f":"IF(ISBLANK(D411),\"\",ROUND(SUM($G$1,$G$6:$G411)-SUM($H$6:$H411),2))","v":""},"",""]
[407,0,"",null,null,null,null,null,null,{"$f":"IF(ISBLANK(D412),\"\",ROUND(SUM($G$1,$G$6:$G412)-SUM($H$6:$H412),2))","v":""},"",""]
[408,0,"",null,null,null,null,null,null,{"$f":"IF(ISBLANK(D413),\"\",ROUND(SUM($G$1,$G$6:$G413)-SUM($H$6:$H413),2))","v":""},"",""]
[409,0,"",null,null,null,null,null,null,{"$f":"IF(ISBLANK(D414),\"\",ROUND(SUM($G$1,$G$6:$G414)-SUM($H$6:$H414),2))","v":""},"",""]
[410,0,"",null,null,null,null,null,null,{"$f":"IF(ISBLANK(D415),\"\",ROUND(SUM($G$1,$G$6:$G415)-SUM($H$6:$H415),2))","v":""},"",""]
[411,0,"",null,null,null,null,null,null,{"$f":"IF(ISBLANK(D416),\"\",ROUND(SUM($G$1,$G$6:$G416)-SUM($H$6:$H416),2))","v":""},"",""]
[412,0,"",null,null,null,null,null,null,{"$f":"IF(ISBLANK(D417),\"\",ROUND(SUM($G$1,$G$6:$G417)-SUM($H$6:$H417),2))","v":""},"",""]
[413,0,"",null,null,null,null,null,null,{"$f":"IF(ISBLANK(D418),\"\",ROUND(SUM($G$1,$G$6:$G418)-SUM($H$6:$H418),2))","v":""},"",""]
[414,0,"",null,null,null,null,null,null,{"$f":"IF(ISBLANK(D419),\"\",ROUND(SUM($G$1,$G$6:$G419)-SUM($H$6:$H419),2))","v":""},"",""]
[415,0,"",null,null,null,null,null,null,{"$f":"IF(ISBLANK(D420),\"\",ROUND(SUM($G$1,$G$6:$G420)-SUM($H$6:$H420),2))","v":""},"",""]
[416,0,"",null,null,null,null,null,null,{"$f":"IF(ISBLANK(D421),\"\",ROUND(SUM($G$1,$G$6:$G421)-SUM($H$6:$H421),2))","v":""},"",""]
[417,0,"",null,null,null,null,null,null,{"$f":"IF(ISBLANK(D422),\"\",ROUND(SUM($G$1,$G$6:$G422)-SUM($H$6:$H422),2))","v":""},"",""]
[418,0,"",null,null,null,null,null,null,{"$f":"IF(ISBLANK(D423),\"\",ROUND(SUM($G$1,$G$6:$G423)-SUM($H$6:$H423),2))","v":""},"",""]
[419,0,"",null,null,null,null,null,null,{"$f":"IF(ISBLANK(D424),\"\",ROUND(SUM($G$1,$G$6:$G424)-SUM($H$6:$H424),2))","v":""},"",""]
[420,0,"",null,null,null,null,null,null,{"$f":"IF(ISBLANK(D425),\"\",ROUND(SUM($G$1,$G$6:$G425)-SUM($H$6:$H425),2))","v":""},"",""]
[421,0,"",null,null,null,null,null,null,{"$f":"IF(ISBLANK(D426),\"\",ROUND(SUM($G$1,$G$6:$G426)-SUM($H$6:$H426),2))","v":""},"",""]
[422,0,"",null,null,null,null,null,null,{"$f":"IF(ISBLANK(D427),\"\",ROUND(SUM($G$1,$G$6:$G427)-SUM($H$6:$H427),2))","v":""},"",""]
[423,0,"",null,null,null,null,null,null,{"$f":"IF(ISBLANK(D428),\"\",ROUND(SUM($G$1,$G$6:$G428)-SUM($H$6:$H428),2))","v":""},"",""]
[424,0,"",null,null,null,null,null,null,{"$f":"IF(ISBLANK(D429),\"\",ROUND(SUM($G$1,$G$6:$G429)-SUM($H$6:$H429),2))","v":""},"",""]
[425,0,"",null,null,null,null,null,null,{"$f":"IF(ISBLANK(D430),\"\",ROUND(SUM($G$1,$G$6:$G430)-SUM($H$6:$H430),2))","v":""},"",""]
[426,0,"",null,null,null,null,null,null,{"$f":"IF(ISBLANK(D431),\"\",ROUND(SUM($G$1,$G$6:$G431)-SUM($H$6:$H431),2))","v":""},"",""]
[427,0,"",null,null,null,null,null,null,{"$f":"IF(ISBLANK(D432),\"\",ROUND(SUM($G$1,$G$6:$G432)-SUM($H$6:$H432),2))","v":""},"",""]
[428,0,"",null,null,null,null,null,null,{"$f":"IF(ISBLANK(D433),\"\",ROUND(SUM($G$1,$G$6:$G433)-SUM($H$6:$H433),2))","v":""},"",""]
[429,0,"",null,null,null,null,null,null,{"$f":"IF(ISBLANK(D434),\"\",ROUND(SUM($G$1,$G$6:$G434)-SUM($H$6:$H434),2))","v":""},"",""]
[430,0,"",null,null,null,null,null,null,{"$f":"IF(ISBLANK(D435),\"\",ROUND(SUM($G$1,$G$6:$G435)-SUM($H$6:$H435),2))","v":""},"",""]
[431,0,"",null,null,null,null,null,null,{"$f":"IF(ISBLANK(D436),\"\",ROUND(SUM($G$1,$G$6:$G436)-SUM($H$6:$H436),2))","v":""},"",""]
[432,0,"",null,null,null,null,null,null,{"$f":"IF(ISBLANK(D437),\"\",ROUND(SUM($G$1,$G$6:$G437)-SUM($H$6:$H437),2))","v":""},"",""]
[433,0,"",null,null,null,null,null,null,{"$f":"IF(ISBLANK(D438),\"\",ROUND(SUM($G$1,$G$6:$G438)-SUM($H$6:$H438),2))","v":""},"",""]
[434,0,"",null,null,null,null,null,null,{"$f":"IF(ISBLANK(D439),\"\",ROUND(SUM($G$1,$G$6:$G439)-SUM($H$6:$H439),2))","v":""},"",""]
[435,0,"",null,null,null,null,null,null,{"$f":"IF(ISBLANK(D440),\"\",ROUND(SUM($G$1,$G$6:$G440)-SUM($H$6:$H440),2))","v":""},"",""]
[436,0,"",null,null,null,null,null,null,{"$f":"IF(ISBLANK(D441),\"\",ROUND(SUM($G$1,$G$6:$G441)-SUM($H$6:$H441),2))","v":""},"",""]
[437,0,"",null,null,null,null,null,null,{"$f":"IF(ISBLANK(D442),\"\",ROUND(SUM($G$1,$G$6:$G442)-SUM($H$6:$H442),2))","v":""},"",""]
[438,0,"",null,null,null,null,null,null,{"$f":"IF(ISBLANK(D443),\"\",ROUND(SUM($G$1,$G$6:$G443)-SUM($H$6:$H443),2))","v":""},"",""]
[439,0,"",null,null,null,null,null,null,{"$f":"IF(ISBLANK(D444),\"\",ROUND(SUM($G$1,$G$6:$G444)-SUM($H$6:$H444),2))","v":""},"",""]
[440,0,"",null,null,null,null,null,null,{"$f":"IF(ISBLANK(D445),\"\",ROUND(SUM($G$1,$G$6:$G445)-SUM($H$6:$H445),2))","v":""},"",""]
[441,0,"",null,null,null,null,null,null,{"$f":"IF(ISBLANK(D446),\"\",ROUND(SUM($G$1,$G$6:$G446)-SUM($H$6:$H446),2))","v":""},"",""]
[442,0,"",null,null,null,null,null,null,{"$f":"IF(ISBLANK(D447),\"\",ROUND(SUM($G$1,$G$6:$G447)-SUM($H$6:$H447),2))","v":""},"",""]
[443,0,"",null,null,null,null,null,null,{"$f":"IF(ISBLANK(D448),\"\",ROUND(SUM($G$1,$G$6:$G448)-SUM($H$6:$H448),2))","v":""},"",""]
[444,0,"",null,null,null,null,null,null,{"$f":"IF(ISBLANK(D449),\"\",ROUND(SUM($G$1,$G$6:$G449)-SUM($H$6:$H449),2))","v":""},"",""]
[445,0,"",null,null,null,null,null,null,{"$f":"IF(ISBLANK(D450),\"\",ROUND(SUM($G$1,$G$6:$G450)-SUM($H$6:$H450),2))","v":""},"",""]
[446,0,"",null,null,null,null,null,null,{"$f":"IF(ISBLANK(D451),\"\",ROUND(SUM($G$1,$G$6:$G451)-SUM($H$6:$H451),2))","v":""},"",""]
[447,0,"",null,null,null,null,null,null,{"$f":"IF(ISBLANK(D452),\"\",ROUND(SUM($G$1,$G$6:$G452)-SUM($H$6:$H452),2))","v":""},"",""]
[448,0,"",null,null,null,null,null,null,{"$f":"IF(ISBLANK(D453),\"\",ROUND(SUM($G$1,$G$6:$G453)-SUM($H$6:$H453),2))","v":""},"",""]
[449,{"$f":"DAY(D454)","v":0},{"$f":"IF(ISBLANK(D454),\"\",MONTH(D454))","v":""},null,null,null,null,null,null,{"$f":"IF(ISBLANK(D454),\"\",ROUND(SUM($G$1,$G$6:$G454)-SUM($H$6:$H454),2))","v":""},"",""]
[450,0,"",null,null,null,null,null,null,{"$f":"IF(ISBLANK(D455),\"\",ROUND(SUM($G$1,$G$6:$G455)-SUM($H$6:$H455),2))","v":""},{"$f":"IF(ISBLANK(E455),\"\",CONCATENATE($C$3,E455))","v":""},{"$f":"IF(K455=\"\",\"\",HYPERLINK(CONCATENATE($L$5,\"/\",K455,\".pdf\"),\"anzeigen\"))","v":""}]
[451,0,"",null,null,null,null,null,null,{"$f":"IF(ISBLANK(D456),\"\",ROUND(SUM($G$1,$G$6:$G456)-SUM($H$6:$H456),2))","v":""},"",""]
[452,0,"",null,null,null,null,null,null,{"$f":"IF(ISBLANK(D457),\"\",ROUND(SUM($G$1,$G$6:$G457)-SUM($H$6:$H457),2))","v":""},"",""]
[453,0,"",null,null,null,null,null,null,{"$f":"IF(ISBLANK(D458),\"\",ROUND(SUM($G$1,$G$6:$G458)-SUM($H$6:$H458),2))","v":""},"",""]
[454,0,"",null,null,null,null,null,null,{"$f":"IF(ISBLANK(D459),\"\",ROUND(SUM($G$1,$G$6:$G459)-SUM($H$6:$H459),2))","v":""},"",""]
[455,0,"",null,null,null,null,null,null,{"$f":"IF(ISBLANK(D460),\"\",ROUND(SUM($G$1,$G$6:$G460)-SUM($H$6:$H460),2))","v":""},"",""]
[456,0,"",null,null,null,null,null,null,{"$f":"IF(ISBLANK(D461),\"\",ROUND(SUM($G$1,$G$6:$G461)-SUM($H$6:$H461),2))","v":""},"",""]
[457,0,"",null,null,null,null,null,null,{"$f":"IF(ISBLANK(D462),\"\",ROUND(SUM($G$1,$G$6:$G462)-SUM($H$6:$H462),2))","v":""},"",""]
[458,0,"",null,null,null,null,null,null,{"$f":"IF(ISBLANK(D463),\"\",ROUND(SUM($G$1,$G$6:$G463)-SUM($H$6:$H463),2))","v":""},"",""]
[459,0,"",null,null,null,null,null,null,{"$f":"IF(ISBLANK(D464),\"\",ROUND(SUM($G$1,$G$6:$G464)-SUM($H$6:$H464),2))","v":""},"",""]
[460,0,"",null,null,null,null,null,null,{"$f":"IF(ISBLANK(D465),\"\",ROUND(SUM($G$1,$G$6:$G465)-SUM($H$6:$H465),2))","v":""},"",""]
[461,0,"",null,null,null,null,null,null,{"$f":"IF(ISBLANK(D466),\"\",ROUND(SUM($G$1,$G$6:$G466)-SUM($H$6:$H466),2))","v":""},"",""]
[462,0,"",null,null,null,null,null,null,{"$f":"IF(ISBLANK(D467),\"\",ROUND(SUM($G$1,$G$6:$G467)-SUM($H$6:$H467),2))","v":""},"",""]
[463,0,"",null,null,null,null,null,null,{"$f":"IF(ISBLANK(D468),\"\",ROUND(SUM($G$1,$G$6:$G468)-SUM($H$6:$H468),2))","v":""},"",""]
[464,0,"",null,null,null,null,null,null,{"$f":"IF(ISBLANK(D469),\"\",ROUND(SUM($G$1,$G$6:$G469)-SUM($H$6:$H469),2))","v":""},"",""]
[465,0,"",null,null,null,null,null,null,{"$f":"IF(ISBLANK(D470),\"\",ROUND(SUM($G$1,$G$6:$G470)-SUM($H$6:$H470),2))","v":""},"",""]
[466,0,"",null,null,null,null,null,null,{"$f":"IF(ISBLANK(D471),\"\",ROUND(SUM($G$1,$G$6:$G471)-SUM($H$6:$H471),2))","v":""},"",""]
[467,0,"",null,null,null,null,null,null,{"$f":"IF(ISBLANK(D472),\"\",ROUND(SUM($G$1,$G$6:$G472)-SUM($H$6:$H472),2))","v":""},"",""]
[468,0,"",null,null,null,null,null,null,{"$f":"IF(ISBLANK(D473),\"\",ROUND(SUM($G$1,$G$6:$G473)-SUM($H$6:$H473),2))","v":""},"",""]
[469,0,"",null,null,null,null,null,null,{"$f":"IF(ISBLANK(D474),\"\",ROUND(SUM($G$1,$G$6:$G474)-SUM($H$6:$H474),2))","v":""},"",""]
[470,0,"",null,null,null,null,null,null,{"$f":"IF(ISBLANK(D475),\"\",ROUND(SUM($G$1,$G$6:$G475)-SUM($H$6:$H475),2))","v":""},"",""]
[471,0,"",null,null,null,null,null,null,{"$f":"IF(ISBLANK(D476),\"\",ROUND(SUM($G$1,$G$6:$G476)-SUM($H$6:$H476),2))","v":""},"",""]
[472,0,"",null,null,null,null,null,null,{"$f":"IF(ISBLANK(D477),\"\",ROUND(SUM($G$1,$G$6:$G477)-SUM($H$6:$H477),2))","v":""},"",""]
[473,0,"",null,null,null,null,null,null,{"$f":"IF(ISBLANK(D478),\"\",ROUND(SUM($G$1,$G$6:$G478)-SUM($H$6:$H478),2))","v":""},"",""]
[474,0,"",null,null,null,null,null,null,{"$f":"IF(ISBLANK(D479),\"\",ROUND(SUM($G$1,$G$6:$G479)-SUM($H$6:$H479),2))","v":""},"",""]
[475,0,"",null,null,null,null,null,null,{"$f":"IF(ISBLANK(D480),\"\",ROUND(SUM($G$1,$G$6:$G480)-SUM($H$6:$H480),2))","v":""},"",""]
[476,0,"",null,null,null,null,null,null,{"$f":"IF(ISBLANK(D481),\"\",ROUND(SUM($G$1,$G$6:$G481)-SUM($H$6:$H481),2))","v":""},"",""]
[477,0,"",null,null,null,null,null,null,{"$f":"IF(ISBLANK(D482),\"\",ROUND(SUM($G$1,$G$6:$G482)-SUM($H$6:$H482),2))","v":""},"",""]
[478,0,"",null,null,null,null,null,null,{"$f":"IF(ISBLANK(D483),\"\",ROUND(SUM($G$1,$G$6:$G483)-SUM($H$6:$H483),2))","v":""},"",""]
[479,0,"",null,null,null,null,null,null,{"$f":"IF(ISBLANK(D484),\"\",ROUND(SUM($G$1,$G$6:$G484)-SUM($H$6:$H484),2))","v":""},"",""]
[480,0,"",null,null,null,null,null,null,{"$f":"IF(ISBLANK(D485),\"\",ROUND(SUM($G$1,$G$6:$G485)-SUM($H$6:$H485),2))","v":""},"",""]
[481,0,"",null,null,null,null,null,null,{"$f":"IF(ISBLANK(D486),\"\",ROUND(SUM($G$1,$G$6:$G486)-SUM($H$6:$H486),2))","v":""},"",""]
[482,0,"",null,null,null,null,null,null,{"$f":"IF(ISBLANK(D487),\"\",ROUND(SUM($G$1,$G$6:$G487)-SUM($H$6:$H487),2))","v":""},"",""]
[483,0,"",null,null,null,null,null,null,{"$f":"IF(ISBLANK(D488),\"\",ROUND(SUM($G$1,$G$6:$G488)-SUM($H$6:$H488),2))","v":""},"",""]
[484,0,"",null,null,null,null,null,null,{"$f":"IF(ISBLANK(D489),\"\",ROUND(SUM($G$1,$G$6:$G489)-SUM($H$6:$H489),2))","v":""},"",""]
[485,0,"",null,null,null,null,null,null,{"$f":"IF(ISBLANK(D490),\"\",ROUND(SUM($G$1,$G$6:$G490)-SUM($H$6:$H490),2))","v":""},"",""]
[486,0,"",null,null,null,null,null,null,{"$f":"IF(ISBLANK(D491),\"\",ROUND(SUM($G$1,$G$6:$G491)-SUM($H$6:$H491),2))","v":""},"",""]
[487,0,"",null,null,null,null,null,null,{"$f":"IF(ISBLANK(D492),\"\",ROUND(SUM($G$1,$G$6:$G492)-SUM($H$6:$H492),2))","v":""},"",""]
[488,0,"",null,null,null,null,null,null,{"$f":"IF(ISBLANK(D493),\"\",ROUND(SUM($G$1,$G$6:$G493)-SUM($H$6:$H493),2))","v":""},"",""]
[489,0,"",null,null,null,null,null,null,{"$f":"IF(ISBLANK(D494),\"\",ROUND(SUM($G$1,$G$6:$G494)-SUM($H$6:$H494),2))","v":""},"",""]
[490,0,"",null,null,null,null,null,null,{"$f":"IF(ISBLANK(D495),\"\",ROUND(SUM($G$1,$G$6:$G495)-SUM($H$6:$H495),2))","v":""},"",""]
[491,0,"",null,null,null,null,null,null,{"$f":"IF(ISBLANK(D496),\"\",ROUND(SUM($G$1,$G$6:$G496)-SUM($H$6:$H496),2))","v":""},"",""]
[492,0,"",null,null,null,null,null,null,{"$f":"IF(ISBLANK(D497),\"\",ROUND(SUM($G$1,$G$6:$G497)-SUM($H$6:$H497),2))","v":""},"",""]
[493,0,"",null,null,null,null,null,null,{"$f":"IF(ISBLANK(D498),\"\",ROUND(SUM($G$1,$G$6:$G498)-SUM($H$6:$H498),2))","v":""},"",""]
[494,0,"",null,null,null,null,null,null,{"$f":"IF(ISBLANK(D499),\"\",ROUND(SUM($G$1,$G$6:$G499)-SUM($H$6:$H499),2))","v":""},"",""]
[495,0,"",null,null,null,null,null,null,{"$f":"IF(ISBLANK(D500),\"\",ROUND(SUM($G$1,$G$6:$G500)-SUM($H$6:$H500),2))","v":""},"",""]
[496,0,"",null,null,null,null,null,null,{"$f":"IF(ISBLANK(D501),\"\",ROUND(SUM($G$1,$G$6:$G501)-SUM($H$6:$H501),2))","v":""},"",""]
[497,0,"",null,null,null,null,null,null,{"$f":"IF(ISBLANK(D502),\"\",ROUND(SUM($G$1,$G$6:$G502)-SUM($H$6:$H502),2))","v":""},"",""]
[498,0,"",null,null,null,null,null,null,{"$f":"IF(ISBLANK(D503),\"\",ROUND(SUM($G$1,$G$6:$G503)-SUM($H$6:$H503),2))","v":""},"",""]
[499,0,"",null,null,null,null,null,null,{"$f":"IF(ISBLANK(D504),\"\",ROUND(SUM($G$1,$G$6:$G504)-SUM($H$6:$H504),2))","v":""},"",""]
[500,0,"",null,null,null,null,null,null,{"$f":"IF(ISBLANK(D505),\"\",ROUND(SUM($G$1,$G$6:$G505)-SUM($H$6:$H505),2))","v":""},"",""]
[501,0,"",null,null,null,null,null,null,{"$f":"IF(ISBLANK(D506),\"\",ROUND(SUM($G$1,$G$6:$G506)-SUM($H$6:$H506),2))","v":""},"",""]
[502,0,"",null,null,null,null,null,null,{"$f":"IF(ISBLANK(D507),\"\",ROUND(SUM($G$1,$G$6:$G507)-SUM($H$6:$H507),2))","v":""},"",""]
[503,0,"",null,null,null,null,null,null,{"$f":"IF(ISBLANK(D508),\"\",ROUND(SUM($G$1,$G$6:$G508)-SUM($H$6:$H508),2))","v":""},"",""]
[504,0,"",null,null,null,null,null,null,{"$f":"IF(ISBLANK(D509),\"\",ROUND(SUM($G$1,$G$6:$G509)-SUM($H$6:$H509),2))","v":""},"",""]
[505,0,"",null,null,null,null,null,null,{"$f":"IF(ISBLANK(D510),\"\",ROUND(SUM($G$1,$G$6:$G510)-SUM($H$6:$H510),2))","v":""},"",""]
[506,0,"",null,null,null,null,null,null,{"$f":"IF(ISBLANK(D511),\"\",ROUND(SUM($G$1,$G$6:$G511)-SUM($H$6:$H511),2))","v":""},"",""]
[507,0,"",null,null,null,null,null,null,{"$f":"IF(ISBLANK(D512),\"\",ROUND(SUM($G$1,$G$6:$G512)-SUM($H$6:$H512),2))","v":""},"",""]
[508,0,"",null,null,null,null,null,null,{"$f":"IF(ISBLANK(D513),\"\",ROUND(SUM($G$1,$G$6:$G513)-SUM($H$6:$H513),2))","v":""},"",""]
[509,0,"",null,null,null,null,null,null,{"$f":"IF(ISBLANK(D514),\"\",ROUND(SUM($G$1,$G$6:$G514)-SUM($H$6:$H514),2))","v":""},"",""]
[510,0,"",null,null,null,null,null,null,{"$f":"IF(ISBLANK(D515),\"\",ROUND(SUM($G$1,$G$6:$G515)-SUM($H$6:$H515),2))","v":""},"",""]
[511,0,"",null,null,null,null,null,null,{"$f":"IF(ISBLANK(D516),\"\",ROUND(SUM($G$1,$G$6:$G516)-SUM($H$6:$H516),2))","v":""},"",""]
[512,0,"",null,null,null,null,null,null,{"$f":"IF(ISBLANK(D517),\"\",ROUND(SUM($G$1,$G$6:$G517)-SUM($H$6:$H517),2))","v":""},"",""]
[513,{"$f":"DAY(D518)","v":0},{"$f":"IF(ISBLANK(D518),\"\",MONTH(D518))","v":""},null,null,null,null,null,null,{"$f":"IF(ISBLANK(D518),\"\",ROUND(SUM($G$1,$G$6:$G518)-SUM($H$6:$H518),2))","v":""},"",""]
[514,0,"",null,null,null,null,null,null,{"$f":"IF(ISBLANK(D519),\"\",ROUND(SUM($G$1,$G$6:$G519)-SUM($H$6:$H519),2))","v":""},{"$f":"IF(ISBLANK(E519),\"\",CONCATENATE($C$3,E519))","v":""},{"$f":"IF(K519=\"\",\"\",HYPERLINK(CONCATENATE($L$5,\"/\",K519,\".pdf\"),\"anzeigen\"))","v":""}]
[515,0,"",null,null,null,null,null,null,{"$f":"IF(ISBLANK(D520),\"\",ROUND(SUM($G$1,$G$6:$G520)-SUM($H$6:$H520),2))","v":""},"",""]
[516,0,"",null,null,null,null,null,null,{"$f":"IF(ISBLANK(D521),\"\",ROUND(SUM($G$1,$G$6:$G521)-SUM($H$6:$H521),2))","v":""},"",""]
[517,0,"",null,null,null,null,null,null,{"$f":"IF(ISBLANK(D522),\"\",ROUND(SUM($G$1,$G$6:$G522)-SUM($H$6:$H522),2))","v":""},"",""]
[518,0,"",null,null,null,null,null,null,{"$f":"IF(ISBLANK(D523),\"\",ROUND(SUM($G$1,$G$6:$G523)-SUM($H$6:$H523),2))","v":""},"",""]
[519,0,"",null,null,null,null,null,null,{"$f":"IF(ISBLANK(D524),\"\",ROUND(SUM($G$1,$G$6:$G524)-SUM($H$6:$H524),2))","v":""},"",""]
[520,0,"",null,null,null,null,null,null,{"$f":"IF(ISBLANK(D525),\"\",ROUND(SUM($G$1,$G$6:$G525)-SUM($H$6:$H525),2))","v":""},"",""]
[521,0,"",null,null,null,null,null,null,{"$f":"IF(ISBLANK(D526),\"\",ROUND(SUM($G$1,$G$6:$G526)-SUM($H$6:$H526),2))","v":""},"",""]
[522,0,"",null,null,null,null,null,null,{"$f":"IF(ISBLANK(D527),\"\",ROUND(SUM($G$1,$G$6:$G527)-SUM($H$6:$H527),2))","v":""},"",""]
[523,0,"",null,null,null,null,null,null,{"$f":"IF(ISBLANK(D528),\"\",ROUND(SUM($G$1,$G$6:$G528)-SUM($H$6:$H528),2))","v":""},"",""]
[524,0,"",null,null,null,null,null,null,{"$f":"IF(ISBLANK(D529),\"\",ROUND(SUM($G$1,$G$6:$G529)-SUM($H$6:$H529),2))","v":""},"",""]
[525,0,"",null,null,null,null,null,null,{"$f":"IF(ISBLANK(D530),\"\",ROUND(SUM($G$1,$G$6:$G530)-SUM($H$6:$H530),2))","v":""},"",""]
[526,0,"",null,null,null,null,null,null,{"$f":"IF(ISBLANK(D531),\"\",ROUND(SUM($G$1,$G$6:$G531)-SUM($H$6:$H531),2))","v":""},"",""]
[527,0,"",null,null,null,null,null,null,{"$f":"IF(ISBLANK(D532),\"\",ROUND(SUM($G$1,$G$6:$G532)-SUM($H$6:$H532),2))","v":""},"",""]
[528,0,"",null,null,null,null,null,null,{"$f":"IF(ISBLANK(D533),\"\",ROUND(SUM($G$1,$G$6:$G533)-SUM($H$6:$H533),2))","v":""},"",""]
[529,0,"",null,null,null,null,null,null,{"$f":"IF(ISBLANK(D534),\"\",ROUND(SUM($G$1,$G$6:$G534)-SUM($H$6:$H534),2))","v":""},"",""]
[530,0,"",null,null,null,null,null,null,{"$f":"IF(ISBLANK(D535),\"\",ROUND(SUM($G$1,$G$6:$G535)-SUM($H$6:$H535),2))","v":""},"",""]
[531,0,"",null,null,null,null,null,null,{"$f":"IF(ISBLANK(D536),\"\",ROUND(SUM($G$1,$G$6:$G536)-SUM($H$6:$H536),2))","v":""},"",""]
[532,0,"",null,null,null,null,null,null,{"$f":"IF(ISBLANK(D537),\"\",ROUND(SUM($G$1,$G$6:$G537)-SUM($H$6:$H537),2))","v":""},"",""]
[533,0,"",null,null,null,null,null,null,{"$f":"IF(ISBLANK(D538),\"\",ROUND(SUM($G$1,$G$6:$G538)-SUM($H$6:$H538),2))","v":""},"",""]
[534,0,"",null,null,null,null,null,null,{"$f":"IF(ISBLANK(D539),\"\",ROUND(SUM($G$1,$G$6:$G539)-SUM($H$6:$H539),2))","v":""},"",""]
[535,0,"",null,null,null,null,null,null,{"$f":"IF(ISBLANK(D540),\"\",ROUND(SUM($G$1,$G$6:$G540)-SUM($H$6:$H540),2))","v":""},"",""]
[536,0,"",null,null,null,null,null,null,{"$f":"IF(ISBLANK(D541),\"\",ROUND(SUM($G$1,$G$6:$G541)-SUM($H$6:$H541),2))","v":""},"",""]
[537,0,"",null,null,null,null,null,null,{"$f":"IF(ISBLANK(D542),\"\",ROUND(SUM($G$1,$G$6:$G542)-SUM($H$6:$H542),2))","v":""},"",""]
[538,0,"",null,null,null,null,null,null,{"$f":"IF(ISBLANK(D543),\"\",ROUND(SUM($G$1,$G$6:$G543)-SUM($H$6:$H543),2))","v":""},"",""]
[539,0,"",null,null,null,null,null,null,{"$f":"IF(ISBLANK(D544),\"\",ROUND(SUM($G$1,$G$6:$G544)-SUM($H$6:$H544),2))","v":""},"",""]
[540,0,"",null,null,null,null,null,null,{"$f":"IF(ISBLANK(D545),\"\",ROUND(SUM($G$1,$G$6:$G545)-SUM($H$6:$H545),2))","v":""},"",""]
[541,0,"",null,null,null,null,null,null,{"$f":"IF(ISBLANK(D546),\"\",ROUND(SUM($G$1,$G$6:$G546)-SUM($H$6:$H546),2))","v":""},"",""]
[542,0,"",null,null,null,null,null,null,{"$f":"IF(ISBLANK(D547),\"\",ROUND(SUM($G$1,$G$6:$G547)-SUM($H$6:$H547),2))","v":""},"",""]
[543,0,"",null,null,null,null,null,null,{"$f":"IF(ISBLANK(D548),\"\",ROUND(SUM($G$1,$G$6:$G548)-SUM($H$6:$H548),2))","v":""},"",""]
[544,0,"",null,null,null,null,null,null,{"$f":"IF(ISBLANK(D549),\"\",ROUND(SUM($G$1,$G$6:$G549)-SUM($H$6:$H549),2))","v":""},"",""]
[545,0,"",null,null,null,null,null,null,{"$f":"IF(ISBLANK(D550),\"\",ROUND(SUM($G$1,$G$6:$G550)-SUM($H$6:$H550),2))","v":""},"",""]
[546,0,"",null,null,null,null,null,null,{"$f":"IF(ISBLANK(D551),\"\",ROUND(SUM($G$1,$G$6:$G551)-SUM($H$6:$H551),2))","v":""},"",""]
[547,0,"",null,null,null,null,null,null,{"$f":"IF(ISBLANK(D552),\"\",ROUND(SUM($G$1,$G$6:$G552)-SUM($H$6:$H552),2))","v":""},"",""]
[548,0,"",null,null,null,null,null,null,{"$f":"IF(ISBLANK(D553),\"\",ROUND(SUM($G$1,$G$6:$G553)-SUM($H$6:$H553),2))","v":""},"",""]
[549,0,"",null,null,null,null,null,null,{"$f":"IF(ISBLANK(D554),\"\",ROUND(SUM($G$1,$G$6:$G554)-SUM($H$6:$H554),2))","v":""},"",""]
[550,0,"",null,null,null,null,null,null,{"$f":"IF(ISBLANK(D555),\"\",ROUND(SUM($G$1,$G$6:$G555)-SUM($H$6:$H555),2))","v":""},"",""]
[551,0,"",null,null,null,null,null,null,{"$f":"IF(ISBLANK(D556),\"\",ROUND(SUM($G$1,$G$6:$G556)-SUM($H$6:$H556),2))","v":""},"",""]
[552,0,"",null,null,null,null,null,null,{"$f":"IF(ISBLANK(D557),\"\",ROUND(SUM($G$1,$G$6:$G557)-SUM($H$6:$H557),2))","v":""},"",""]
[553,0,"",null,null,null,null,null,null,{"$f":"IF(ISBLANK(D558),\"\",ROUND(SUM($G$1,$G$6:$G558)-SUM($H$6:$H558),2))","v":""},"",""]
[554,0,"",null,null,null,null,null,null,{"$f":"IF(ISBLANK(D559),\"\",ROUND(SUM($G$1,$G$6:$G559)-SUM($H$6:$H559),2))","v":""},"",""]
[555,0,"",null,null,null,null,null,null,{"$f":"IF(ISBLANK(D560),\"\",ROUND(SUM($G$1,$G$6:$G560)-SUM($H$6:$H560),2))","v":""},"",""]
[556,0,"",null,null,null,null,null,null,{"$f":"IF(ISBLANK(D561),\"\",ROUND(SUM($G$1,$G$6:$G561)-SUM($H$6:$H561),2))","v":""},"",""]
[557,0,"",null,null,null,null,null,null,{"$f":"IF(ISBLANK(D562),\"\",ROUND(SUM($G$1,$G$6:$G562)-SUM($H$6:$H562),2))","v":""},"",""]
[558,0,"",null,null,null,null,null,null,{"$f":"IF(ISBLANK(D563),\"\",ROUND(SUM($G$1,$G$6:$G563)-SUM($H$6:$H563),2))","v":""},"",""]
[559,0,"",null,null,null,null,null,null,{"$f":"IF(ISBLANK(D564),\"\",ROUND(SUM($G$1,$G$6:$G564)-SUM($H$6:$H564),2))","v":""},"",""]
[560,0,"",null,null,null,null,null,null,{"$f":"IF(ISBLANK(D565),\"\",ROUND(SUM($G$1,$G$6:$G565)-SUM($H$6:$H565),2))","v":""},"",""]
[561,0,"",null,null,null,null,null,null,{"$f":"IF(ISBLANK(D566),\"\",ROUND(SUM($G$1,$G$6:$G566)-SUM($H$6:$H566),2))","v":""},"",""]
[562,0,"",null,null,null,null,null,null,{"$f":"IF(ISBLANK(D567),\"\",ROUND(SUM($G$1,$G$6:$G567)-SUM($H$6:$H567),2))","v":""},"",""]
[563,0,"",null,null,null,null,null,null,{"$f":"IF(ISBLANK(D568),\"\",ROUND(SUM($G$1,$G$6:$G568)-SUM($H$6:$H568),2))","v":""},"",""]
[564,0,"",null,null,null,null,null,null,{"$f":"IF(ISBLANK(D569),\"\",ROUND(SUM($G$1,$G$6:$G569)-SUM($H$6:$H569),2))","v":""},"",""]
[565,0,"",null,null,null,null,null,null,{"$f":"IF(ISBLANK(D570),\"\",ROUND(SUM($G$1,$G$6:$G570)-SUM($H$6:$H570),2))","v":""},"",""]
[566,0,"",null,null,null,null,null,null,{"$f":"IF(ISBLANK(D571),\"\",ROUND(SUM($G$1,$G$6:$G571)-SUM($H$6:$H571),2))","v":""},"",""]
[567,0,"",null,null,null,null,null,null,{"$f":"IF(ISBLANK(D572),\"\",ROUND(SUM($G$1,$G$6:$G572)-SUM($H$6:$H572),2))","v":""},"",""]
[568,0,"",null,null,null,null,null,null,{"$f":"IF(ISBLANK(D573),\"\",ROUND(SUM($G$1,$G$6:$G573)-SUM($H$6:$H573),2))","v":""},"",""]
[569,0,"",null,null,null,null,null,null,{"$f":"IF(ISBLANK(D574),\"\",ROUND(SUM($G$1,$G$6:$G574)-SUM($H$6:$H574),2))","v":""},"",""]
[570,0,"",null,null,null,null,null,null,{"$f":"IF(ISBLANK(D575),\"\",ROUND(SUM($G$1,$G$6:$G575)-SUM($H$6:$H575),2))","v":""},"",""]
[571,0,"",null,null,null,null,null,null,{"$f":"IF(ISBLANK(D576),\"\",ROUND(SUM($G$1,$G$6:$G576)-SUM($H$6:$H576),2))","v":""},"",""]
[572,0,"",null,null,null,null,null,null,{"$f":"IF(ISBLANK(D577),\"\",ROUND(SUM($G$1,$G$6:$G577)-SUM($H$6:$H577),2))","v":""},"",""]
[573,0,"",null,null,null,null,null,null,{"$f":"IF(ISBLANK(D578),\"\",ROUND(SUM($G$1,$G$6:$G578)-SUM($H$6:$H578),2))","v":""},"",""]
[574,0,"",null,null,null,null,null,null,{"$f":"IF(ISBLANK(D579),\"\",ROUND(SUM($G$1,$G$6:$G579)-SUM($H$6:$H579),2))","v":""},"",""]
[575,0,"",null,null,null,null,null,null,{"$f":"IF(ISBLANK(D580),\"\",ROUND(SUM($G$1,$G$6:$G580)-SUM($H$6:$H580),2))","v":""},"",""]
[576,0,"",null,null,null,null,null,null,{"$f":"IF(ISBLANK(D581),\"\",ROUND(SUM($G$1,$G$6:$G581)-SUM($H$6:$H581),2))","v":""},"",""]
[577,{"$f":"DAY(D582)","v":0},{"$f":"IF(ISBLANK(D582),\"\",MONTH(D582))","v":""},null,null,null,null,null,null,{"$f":"IF(ISBLANK(D582),\"\",ROUND(SUM($G$1,$G$6:$G582)-SUM($H$6:$H582),2))","v":""},"",""]
[578,0,"",null,null,null,null,null,null,{"$f":"IF(ISBLANK(D583),\"\",ROUND(SUM($G$1,$G$6:$G583)-SUM($H$6:$H583),2))","v":""},{"$f":"IF(ISBLANK(E583),\"\",CONCATENATE($C$3,E583))","v":""},{"$f":"IF(K583=\"\",\"\",HYPERLINK(CONCATENATE($L$5,\"/\",K583,\".pdf\"),\"anzeigen\"))","v":""}]
[579,0,"",null,null,null,null,null,null,{"$f":"IF(ISBLANK(D584),\"\",ROUND(SUM($G$1,$G$6:$G584)-SUM($H$6:$H584),2))","v":""},"",""]
[580,0,"",null,null,null,null,null,null,{"$f":"IF(ISBLANK(D585),\"\",ROUND(SUM($G$1,$G$6:$G585)-SUM($H$6:$H585),2))","v":""},"",""]
[581,0,"",null,null,null,null,null,null,{"$f":"IF(ISBLANK(D586),\"\",ROUND(SUM($G$1,$G$6:$G586)-SUM($H$6:$H586),2))","v":""},"",""]
[582,0,"",null,null,null,null,null,null,{"$f":"IF(ISBLANK(D587),\"\",ROUND(SUM($G$1,$G$6:$G587)-SUM($H$6:$H587),2))","v":""},"",""]
[583,0,"",null,null,null,null,null,null,{"$f":"IF(ISBLANK(D588),\"\",ROUND(SUM($G$1,$G$6:$G588)-SUM($H$6:$H588),2))","v":""},"",""]
[584,0,"",null,null,null,null,null,null,{"$f":"IF(ISBLANK(D589),\"\",ROUND(SUM($G$1,$G$6:$G589)-SUM($H$6:$H589),2))","v":""},"",""]
[585,0,"",null,null,null,null,null,null,{"$f":"IF(ISBLANK(D590),\"\",ROUND(SUM($G$1,$G$6:$G590)-SUM($H$6:$H590),2))","v":""},"",""]
[586,0,"",null,null,null,null,null,null,{"$f":"IF(ISBLANK(D591),\"\",ROUND(SUM($G$1,$G$6:$G591)-SUM($H$6:$H591),2))","v":""},"",""]
[587,0,"",null,null,null,null,null,null,{"$f":"IF(ISBLANK(D592),\"\",ROUND(SUM($G$1,$G$6:$G592)-SUM($H$6:$H592),2))","v":""},"",""]
[588,0,"",null,null,null,null,null,null,{"$f":"IF(ISBLANK(D593),\"\",ROUND(SUM($G$1,$G$6:$G593)-SUM($H$6:$H593),2))","v":""},"",""]
[589,0,"",null,null,null,null,null,null,{"$f":"IF(ISBLANK(D594),\"\",ROUND(SUM($G$1,$G$6:$G594)-SUM($H$6:$H594),2))","v":""},"",""]
[590,0,"",null,null,null,null,null,null,{"$f":"IF(ISBLANK(D595),\"\",ROUND(SUM($G$1,$G$6:$G595)-SUM($H$6:$H595),2))","v":""},"",""]
[591,0,"",null,null,null,null,null,null,{"$f":"IF(ISBLANK(D596),\"\",ROUND(SUM($G$1,$G$6:$G596)-SUM($H$6:$H596),2))","v":""},"",""]
[592,0,"",null,null,null,null,null,null,{"$f":"IF(ISBLANK(D597),\"\",ROUND(SUM($G$1,$G$6:$G597)-SUM($H$6:$H597),2))","v":""},"",""]
[593,0,"",null,null,null,null,null,null,{"$f":"IF(ISBLANK(D598),\"\",ROUND(SUM($G$1,$G$6:$G598)-SUM($H$6:$H598),2))","v":""},"",""]
[594,0,"",null,null,null,null,null,null,{"$f":"IF(ISBLANK(D599),\"\",ROUND(SUM($G$1,$G$6:$G599)-SUM($H$6:$H599),2))","v":""},"",""]
[595,0,"",null,null,null,null,null,null,{"$f":"IF(ISBLANK(D600),\"\",ROUND(SUM($G$1,$G$6:$G600)-SUM($H$6:$H600),2))","v":""},"",""]
[596,0,"",null,null,null,null,null,null,{"$f":"IF(ISBLANK(D601),\"\",ROUND(SUM($G$1,$G$6:$G601)-SUM($H$6:$H601),2))","v":""},"",""]
[597,0,"",null,null,null,null,null,null,{"$f":"IF(ISBLANK(D602),\"\",ROUND(SUM($G$1,$G$6:$G602)-SUM($H$6:$H602),2))","v":""},"",""]
[598,0,"",null,null,null,null,null,null,{"$f":"IF(ISBLANK(D603),\"\",ROUND(SUM($G$1,$G$6:$G603)-SUM($H$6:$H603),2))","v":""},"",""]
[599,0,"",null,null,null,null,null,null,{"$f":"IF(ISBLANK(D604),\"\",ROUND(SUM($G$1,$G$6:$G604)-SUM($H$6:$H604),2))","v":""},"",""]
[600,0,"",null,null,null,null,null,null,{"$f":"IF(ISBLANK(D605),\"\",ROUND(SUM($G$1,$G$6:$G605)-SUM($H$6:$H605),2))","v":""},"",""]
[601,0,"",null,null,null,null,null,null,{"$f":"IF(ISBLANK(D606),\"\",ROUND(SUM($G$1,$G$6:$G606)-SUM($H$6:$H606),2))","v":""},"",""]
[602,0,"",null,null,null,null,null,null,{"$f":"IF(ISBLANK(D607),\"\",ROUND(SUM($G$1,$G$6:$G607)-SUM($H$6:$H607),2))","v":""},"",""]
[603,0,"",null,null,null,null,null,null,{"$f":"IF(ISBLANK(D608),\"\",ROUND(SUM($G$1,$G$6:$G608)-SUM($H$6:$H608),2))","v":""},"",""]
[604,0,"",null,null,null,null,null,null,{"$f":"IF(ISBLANK(D609),\"\",ROUND(SUM($G$1,$G$6:$G609)-SUM($H$6:$H609),2))","v":""},"",""]
[605,0,"",null,null,null,null,null,null,{"$f":"IF(ISBLANK(D610),\"\",ROUND(SUM($G$1,$G$6:$G610)-SUM($H$6:$H610),2))","v":""},"",""]
[606,0,"",null,null,null,null,null,null,{"$f":"IF(ISBLANK(D611),\"\",ROUND(SUM($G$1,$G$6:$G611)-SUM($H$6:$H611),2))","v":""},"",""]
[607,0,"",null,null,null,null,null,null,{"$f":"IF(ISBLANK(D612),\"\",ROUND(SUM($G$1,$G$6:$G612)-SUM($H$6:$H612),2))","v":""},"",""]
[608,0,"",null,null,null,null,null,null,{"$f":"IF(ISBLANK(D613),\"\",ROUND(SUM($G$1,$G$6:$G613)-SUM($H$6:$H613),2))","v":""},"",""]
[609,0,"",null,null,null,null,null,null,{"$f":"IF(ISBLANK(D614),\"\",ROUND(SUM($G$1,$G$6:$G614)-SUM($H$6:$H614),2))","v":""},"",""]
[610,0,"",null,null,null,null,null,null,{"$f":"IF(ISBLANK(D615),\"\",ROUND(SUM($G$1,$G$6:$G615)-SUM($H$6:$H615),2))","v":""},"",""]
[611,0,"",null,null,null,null,null,null,{"$f":"IF(ISBLANK(D616),\"\",ROUND(SUM($G$1,$G$6:$G616)-SUM($H$6:$H616),2))","v":""},"",""]
[612,0,"",null,null,null,null,null,null,{"$f":"IF(ISBLANK(D617),\"\",ROUND(SUM($G$1,$G$6:$G617)-SUM($H$6:$H617),2))","v":""},"",""]
[613,0,"",null,null,null,null,null,null,{"$f":"IF(ISBLANK(D618),\"\",ROUND(SUM($G$1,$G$6:$G618)-SUM($H$6:$H618),2))","v":""},"",""]
[614,0,"",null,null,null,null,null,null,{"$f":"IF(ISBLANK(D619),\"\",ROUND(SUM($G$1,$G$6:$G619)-SUM($H$6:$H619),2))","v":""},"",""]
[615,0,"",null,null,null,null,null,null,{"$f":"IF(ISBLANK(D620),\"\",ROUND(SUM($G$1,$G$6:$G620)-SUM($H$6:$H620),2))","v":""},"",""]
[616,0,"",null,null,null,null,null,null,{"$f":"IF(ISBLANK(D621),\"\",ROUND(SUM($G$1,$G$6:$G621)-SUM($H$6:$H621),2))","v":""},"",""]
[617,0,"",null,null,null,null,null,null,{"$f":"IF(ISBLANK(D622),\"\",ROUND(SUM($G$1,$G$6:$G622)-SUM($H$6:$H622),2))","v":""},"",""]
[618,0,"",null,null,null,null,null,null,{"$f":"IF(ISBLANK(D623),\"\",ROUND(SUM($G$1,$G$6:$G623)-SUM($H$6:$H623),2))","v":""},"",""]
[619,0,"",null,null,null,null,null,null,{"$f":"IF(ISBLANK(D624),\"\",ROUND(SUM($G$1,$G$6:$G624)-SUM($H$6:$H624),2))","v":""},"",""]
[620,0,"",null,null,null,null,null,null,{"$f":"IF(ISBLANK(D625),\"\",ROUND(SUM($G$1,$G$6:$G625)-SUM($H$6:$H625),2))","v":""},"",""]

{"sheet":"Übersicht","index":1,"n_rows":385,"n_cols":6,"rows_kept":385,"cut":false,"hidden":false,"merged":[]}
["Monat","Monat","Einnahmen","Ausgaben ",{"$f":"CONCATENATE(\"Saldo \",YEAR(Einzelposten!D6))","v":"Saldo 2025"}]
["Ü","Übertrag aus Vorjahr",null,null,{"$f":"Einzelposten!G1","v":15}]
[1,"Jänner",{"$f":"SUMIF(Einzelposten!$C$6:$C$625,$A3,Einzelposten!$G$6:$G$625)","v":100},{"$f":"SUMIF(Einzelposten!$C$6:$C$625,$A3,Einzelposten!$H$6:$H$625)","v":23},{"$f":"ROUND(E2+C3-D3,2)","v":92}]
[2,"Februar",{"$f":"SUMIF(Einzelposten!$C$6:$C$625,$A4,Einzelposten!$G$6:$G$625)","v":0},{"$f":"SUMIF(Einzelposten!$C$6:$C$625,$A4,Einzelposten!$H$6:$H$625)","v":34.9},{"$f":"ROUND(E3+C4-D4,2)","v":57.1}]
[3,"März",{"$f":"SUMIF(Einzelposten!$C$6:$C$625,$A5,Einzelposten!$G$6:$G$625)","v":0},{"$f":"SUMIF(Einzelposten!$C$6:$C$625,$A5,Einzelposten!$H$6:$H$625)","v":0},57.1]
[4,"April",{"$f":"SUMIF(Einzelposten!$C$6:$C$625,$A6,Einzelposten!$G$6:$G$625)","v":0},{"$f":"SUMIF(Einzelposten!$C$6:$C$625,$A6,Einzelposten!$H$6:$H$625)","v":0},57.1]
[5,"Mai",{"$f":"SUMIF(Einzelposten!$C$6:$C$625,$A7,Einzelposten!$G$6:$G$625)","v":0},{"$f":"SUMIF(Einzelposten!$C$6:$C$625,$A7,Einzelposten!$H$6:$H$625)","v":0},57.1]
[6,"Juni",{"$f":"SUMIF(Einzelposten!$C$6:$C$625,$A8,Einzelposten!$G$6:$G$625)","v":0},{"$f":"SUMIF(Einzelposten!$C$6:$C$625,$A8,Einzelposten!$H$6:$H$625)","v":0},57.1]
[7,"Juli",{"$f":"SUMIF(Einzelposten!$C$6:$C$625,$A9,Einzelposten!$G$6:$G$625)","v":0},{"$f":"SUMIF(Einzelposten!$C$6:$C$625,$A9,Einzelposten!$H$6:$H$625)","v":0},57.1]
[8,"August",{"$f":"SUMIF(Einzelposten!$C$6:$C$625,$A10,Einzelposten!$G$6:$G$625)","v":0},{"$f":"SUMIF(Einzelposten!$C$6:$C$625,$A10,Einzelposten!$H$6:$H$625)","v":0},57.1]
[9,"September",{"$f":"SUMIF(Einzelposten!$C$6:$C$625,$A11,Einzelposten!$G$6:$G$625)","v":0},{"$f":"SUMIF(Einzelposten!$C$6:$C$625,$A11,Einzelposten!$H$6:$H$625)","v":0},57.1]
[10,"Oktober",{"$f":"SUMIF(Einzelposten!$C$6:$C$625,$A12,Einzelposten!$G$6:$G$625)","v":0},{"$f":"SUMIF(Einzelposten!$C$6:$C$625,$A12,Einzelposten!$H$6:$H$625)","v":5.9},51.2]
[11,"November",{"$f":"SUMIF(Einzelposten!$C$6:$C$625,$A13,Einzelposten!$G$6:$G$625)","v":0},{"$f":"SUMIF(Einzelposten!$C$6:$C$625,$A13,Einzelposten!$H$6:$H$625)","v":0},51.2]
[12,"Dezember",{"$f":"SUMIF(Einzelposten!$C$6:$C$625,$A14,Einzelposten!$G$6:$G$625)","v":0},{"$f":"SUMIF(Einzelposten!$C$6:$C$625,$A14,Einzelposten!$H$6:$H$625)","v":0},51.2]
[null,"gesamt",{"$f":"SUM(C3:C14)","v":100},{"$f":"SUM(D3:D14)","v":63.8},{"$f":"ROUND(E2+C15-D15,2)","v":51.2}]
[null,null,null,null,null,"< rvo.at >"]
[null,"Tag","Einnahmen","Ausgaben ",{"$f":"E1","v":"Saldo 2025"},"Anmerkung"]
[null,"Übertrag aus Vorjahr",null,null,{"$f":"Einzelposten!G1","v":15},"< rvo.at >"]
[null,"2015-01-01",{"$f":"ROUND(SUMIFS(Einzelposten!$G$6:$G$625,Einzelposten!$C$6:$C$625,MONTH($B19),Einzelposten!$B$6:$B$625,DAY($B19)),2)","v":0},{"$f":"ROUND(SUMIFS(Einzelposten!$H$6:$H$625,Einzelposten!$C$6:$C$625,MONTH($B19),Einzelposten!$B$6:$B$625,DAY($B19)),2)","v":0},{"$f":"ROUND(E18+C19-D19,2)","v":15}]
[null,"2015-01-02",{"$f":"ROUND(SUMIFS(Einzelposten!$G$6:$G$625,Einzelposten!$C$6:$C$625,MONTH($B20),Einzelposten!$B$6:$B$625,DAY($B20)),2)","v":100},{"$f":"ROUND(SUMIFS(Einzelposten!$H$6:$H$625,Einzelposten!$C$6:$C$625,MONTH($B20),Einzelposten!$B$6:$B$625,DAY($B20)),2)","v":23},{"$f":"ROUND(E19+C20-D20,2)","v":92}]
[null,"2015-01-03",{"$f":"ROUND(SUMIFS(Einzelposten!$G$6:$G$625,Einzelposten!$C$6:$C$625,MONTH($B21),Einzelposten!$B$6:$B$625,DAY($B21)),2)","v":0},{"$f":"ROUND(SUMIFS(Einzelposten!$H$6:$H$625,Einzelposten!$C$6:$C$625,MONTH($B21),Einzelposten!$B$6:$B$625,DAY($B21)),2)","v":0},{"$f":"ROUND(E20+C21-D21,2)","v":92}]
[null,"2015-01-04",{"$f":"ROUND(SUMIFS(Einzelposten!$G$6:$G$625,Einzelposten!$C$6:$C$625,MONTH($B22),Einzelposten!$B$6:$B$625,DAY($B22)),2)","v":0},{"$f":"ROUND(SUMIFS(Einzelposten!$H$6:$H$625,Einzelposten!$C$6:$C$625,MONTH($B22),Einzelposten!$B$6:$B$625,DAY($B22)),2)","v":0},92]
[null,"2015-01-05",{"$f":"ROUND(SUMIFS(Einzelposten!$G$6:$G$625,Einzelposten!$C$6:$C$625,MONTH($B23),Einzelposten!$B$6:$B$625,DAY($B23)),2)","v":0},{"$f":"ROUND(SUMIFS(Einzelposten!$H$6:$H$625,Einzelposten!$C$6:$C$625,MONTH($B23),Einzelposten!$B$6:$B$625,DAY($B23)),2)","v":0},92]
[null,"2015-01-06",{"$f":"ROUND(SUMIFS(Einzelposten!$G$6:$G$625,Einzelposten!$C$6:$C$625,MONTH($B24),Einzelposten!$B$6:$B$625,DAY($B24)),2)","v":0},{"$f":"ROUND(SUMIFS(Einzelposten!$H$6:$H$625,Einzelposten!$C$6:$C$625,MONTH($B24),Einzelposten!$B$6:$B$625,DAY($B24)),2)","v":0},{"$f":"ROUND(E23+C24-D24,2)","v":92}]
[null,"2015-01-07",{"$f":"ROUND(SUMIFS(Einzelposten!$G$6:$G$625,Einzelposten!$C$6:$C$625,MONTH($B25),Einzelposten!$B$6:$B$625,DAY($B25)),2)","v":0},{"$f":"ROUND(SUMIFS(Einzelposten!$H$6:$H$625,Einzelposten!$C$6:$C$625,MONTH($B25),Einzelposten!$B$6:$B$625,DAY($B25)),2)","v":0},92]
[null,"2015-01-08",{"$f":"ROUND(SUMIFS(Einzelposten!$G$6:$G$625,Einzelposten!$C$6:$C$625,MONTH($B26),Einzelposten!$B$6:$B$625,DAY($B26)),2)","v":0},{"$f":"ROUND(SUMIFS(Einzelposten!$H$6:$H$625,Einzelposten!$C$6:$C$625,MONTH($B26),Einzelposten!$B$6:$B$625,DAY($B26)),2)","v":0},92]
[null,"2015-01-09",{"$f":"ROUND(SUMIFS(Einzelposten!$G$6:$G$625,Einzelposten!$C$6:$C$625,MONTH($B27),Einzelposten!$B$6:$B$625,DAY($B27)),2)","v":0},{"$f":"ROUND(SUMIFS(Einzelposten!$H$6:$H$625,Einzelposten!$C$6:$C$625,MONTH($B27),Einzelposten!$B$6:$B$625,DAY($B27)),2)","v":0},92]
[null,"2015-01-10",{"$f":"ROUND(SUMIFS(Einzelposten!$G$6:$G$625,Einzelposten!$C$6:$C$625,MONTH($B28),Einzelposten!$B$6:$B$625,DAY($B28)),2)","v":0},{"$f":"ROUND(SUMIFS(Einzelposten!$H$6:$H$625,Einzelposten!$C$6:$C$625,MONTH($B28),Einzelposten!$B$6:$B$625,DAY($B28)),2)","v":0},92]
[null,"2015-01-11",{"$f":"ROUND(SUMIFS(Einzelposten!$G$6:$G$625,Einzelposten!$C$6:$C$625,MONTH($B29),Einzelposten!$B$6:$B$625,DAY($B29)),2)","v":0},{"$f":"ROUND(SUMIFS(Einzelposten!$H$6:$H$625,Einzelposten!$C$6:$C$625,MONTH($B29),Einzelposten!$B$6:$B$625,DAY($B29)),2)","v":0},92]
[null,"2015-01-12",{"$f":"ROUND(SUMIFS(Einzelposten!$G$6:$G$625,Einzelposten!$C$6:$C$625,MONTH($B30),Einzelposten!$B$6:$B$625,DAY($B30)),2)","v":0},{"$f":"ROUND(SUMIFS(Einzelposten!$H$6:$H$625,Einzelposten!$C$6:$C$625,MONTH($B30),Einzelposten!$B$6:$B$625,DAY($B30)),2)","v":0},92]
[null,"2015-01-13",{"$f":"ROUND(SUMIFS(Einzelposten!$G$6:$G$625,Einzelposten!$C$6:$C$625,MONTH($B31),Einzelposten!$B$6:$B$625,DAY($B31)),2)","v":0},{"$f":"ROUND(SUMIFS(Einzelposten!$H$6:$H$625,Einzelposten!$C$6:$C$625,MONTH($B31),Einzelposten!$B$6:$B$625,DAY($B31)),2)","v":0},92]
[null,"2015-01-14",{"$f":"ROUND(SUMIFS(Einzelposten!$G$6:$G$625,Einzelposten!$C$6:$C$625,MONTH($B32),Einzelposten!$B$6:$B$625,DAY($B32)),2)","v":0},{"$f":"ROUND(SUMIFS(Einzelposten!$H$6:$H$625,Einzelposten!$C$6:$C$625,MONTH($B32),Einzelposten!$B$6:$B$625,DAY($B32)),2)","v":0},92]
[null,"2015-01-15",{"$f":"ROUND(SUMIFS(Einzelposten!$G$6:$G$625,Einzelposten!$C$6:$C$625,MONTH($B33),Einzelposten!$B$6:$B$625,DAY($B33)),2)","v":0},{"$f":"ROUND(SUMIFS(Einzelposten!$H$6:$H$625,Einzelposten!$C$6:$C$625,MONTH($B33),Einzelposten!$B$6:$B$625,DAY($B33)),2)","v":0},92]
[null,"2015-01-16",{"$f":"ROUND(SUMIFS(Einzelposten!$G$6:$G$625,Einzelposten!$C$6:$C$625,MONTH($B34),Einzelposten!$B$6:$B$625,DAY($B34)),2)","v":0},{"$f":"ROUND(SUMIFS(Einzelposten!$H$6:$H$625,Einzelposten!$C$6:$C$625,MONTH($B34),Einzelposten!$B$6:$B$625,DAY($B34)),2)","v":0},92]
[null,"2015-01-17",{"$f":"ROUND(SUMIFS(Einzelposten!$G$6:$G$625,Einzelposten!$C$6:$C$625,MONTH($B35),Einzelposten!$B$6:$B$625,DAY($B35)),2)","v":0},{"$f":"ROUND(SUMIFS(Einzelposten!$H$6:$H$625,Einzelposten!$C$6:$C$625,MONTH($B35),Einzelposten!$B$6:$B$625,DAY($B35)),2)","v":0},92]
[null,"2015-01-18",{"$f":"ROUND(SUMIFS(Einzelposten!$G$6:$G$625,Einzelposten!$C$6:$C$625,MONTH($B36),Einzelposten!$B$6:$B$625,DAY($B36)),2)","v":0},{"$f":"ROUND(SUMIFS(Einzelposten!$H$6:$H$625,Einzelposten!$C$6:$C$625,MONTH($B36),Einzelposten!$B$6:$B$625,DAY($B36)),2)","v":0},92]
[null,"2015-01-19",{"$f":"ROUND(SUMIFS(Einzelposten!$G$6:$G$625,Einzelposten!$C$6:$C$625,MONTH($B37),Einzelposten!$B$6:$B$625,DAY($B37)),2)","v":0},{"$f":"ROUND(SUMIFS(Einzelposten!$H$6:$H$625,Einzelposten!$C$6:$C$625,MONTH($B37),Einzelposten!$B$6:$B$625,DAY($B37)),2)","v":0},92]
[null,"2015-01-20",{"$f":"ROUND(SUMIFS(Einzelposten!$G$6:$G$625,Einzelposten!$C$6:$C$625,MONTH($B38),Einzelposten!$B$6:$B$625,DAY($B38)),2)","v":0},{"$f":"ROUND(SUMIFS(Einzelposten!$H$6:$H$625,Einzelposten!$C$6:$C$625,MONTH($B38),Einzelposten!$B$6:$B$625,DAY($B38)),2)","v":0},92]
[null,"2015-01-21",{"$f":"ROUND(SUMIFS(Einzelposten!$G$6:$G$625,Einzelposten!$C$6:$C$625,MONTH($B39),Einzelposten!$B$6:$B$625,DAY($B39)),2)","v":0},{"$f":"ROUND(SUMIFS(Einzelposten!$H$6:$H$625,Einzelposten!$C$6:$C$625,MONTH($B39),Einzelposten!$B$6:$B$625,DAY($B39)),2)","v":0},92]
[null,"2015-01-22",{"$f":"ROUND(SUMIFS(Einzelposten!$G$6:$G$625,Einzelposten!$C$6:$C$625,MONTH($B40),Einzelposten!$B$6:$B$625,DAY($B40)),2)","v":0},{"$f":"ROUND(SUMIFS(Einzelposten!$H$6:$H$625,Einzelposten!$C$6:$C$625,MONTH($B40),Einzelposten!$B$6:$B$625,DAY($B40)),2)","v":0},92]
[null,"2015-01-23",{"$f":"ROUND(SUMIFS(Einzelposten!$G$6:$G$625,Einzelposten!$C$6:$C$625,MONTH($B41),Einzelposten!$B$6:$B$625,DAY($B41)),2)","v":0},{"$f":"ROUND(SUMIFS(Einzelposten!$H$6:$H$625,Einzelposten!$C$6:$C$625,MONTH($B41),Einzelposten!$B$6:$B$625,DAY($B41)),2)","v":0},92]
[null,"2015-01-24",{"$f":"ROUND(SUMIFS(Einzelposten!$G$6:$G$625,Einzelposten!$C$6:$C$625,MONTH($B42),Einzelposten!$B$6:$B$625,DAY($B42)),2)","v":0},{"$f":"ROUND(SUMIFS(Einzelposten!$H$6:$H$625,Einzelposten!$C$6:$C$625,MONTH($B42),Einzelposten!$B$6:$B$625,DAY($B42)),2)","v":0},92]
[null,"2015-01-25",{"$f":"ROUND(SUMIFS(Einzelposten!$G$6:$G$625,Einzelposten!$C$6:$C$625,MONTH($B43),Einzelposten!$B$6:$B$625,DAY($B43)),2)","v":0},{"$f":"ROUND(SUMIFS(Einzelposten!$H$6:$H$625,Einzelposten!$C$6:$C$625,MONTH($B43),Einzelposten!$B$6:$B$625,DAY($B43)),2)","v":0},92]
[null,"2015-01-26",{"$f":"ROUND(SUMIFS(Einzelposten!$G$6:$G$625,Einzelposten!$C$6:$C$625,MONTH($B44),Einzelposten!$B$6:$B$625,DAY($B44)),2)","v":0},{"$f":"ROUND(SUMIFS(Einzelposten!$H$6:$H$625,Einzelposten!$C$6:$C$625,MONTH($B44),Einzelposten!$B$6:$B$625,DAY($B44)),2)","v":0},92]
[null,"2015-01-27",{"$f":"ROUND(SUMIFS(Einzelposten!$G$6:$G$625,Einzelposten!$C$6:$C$625,MONTH($B45),Einzelposten!$B$6:$B$625,DAY($B45)),2)","v":0},{"$f":"ROUND(SUMIFS(Einzelposten!$H$6:$H$625,Einzelposten!$C$6:$C$625,MONTH($B45),Einzelposten!$B$6:$B$625,DAY($B45)),2)","v":0},92]
[null,"2015-01-28",{"$f":"ROUND(SUMIFS(Einzelposten!$G$6:$G$625,Einzelposten!$C$6:$C$625,MONTH($B46),Einzelposten!$B$6:$B$625,DAY($B46)),2)","v":0},{"$f":"ROUND(SUMIFS(Einzelposten!$H$6:$H$625,Einzelposten!$C$6:$C$625,MONTH($B46),Einzelposten!$B$6:$B$625,DAY($B46)),2)","v":0},92]
[null,"2015-01-29",{"$f":"ROUND(SUMIFS(Einzelposten!$G$6:$G$625,Einzelposten!$C$6:$C$625,MONTH($B47),Einzelposten!$B$6:$B$625,DAY($B47)),2)","v":0},{"$f":"ROUND(SUMIFS(Einzelposten!$H$6:$H$625,Einzelposten!$C$6:$C$625,MONTH($B47),Einzelposten!$B$6:$B$625,DAY($B47)),2)","v":0},92]
[null,"2015-01-30",{"$f":"ROUND(SUMIFS(Einzelposten!$G$6:$G$625,Einzelposten!$C$6:$C$625,MONTH($B48),Einzelposten!$B$6:$B$625,DAY($B48)),2)","v":0},{"$f":"ROUND(SUMIFS(Einzelposten!$H$6:$H$625,Einzelposten!$C$6:$C$625,MONTH($B48),Einzelposten!$B$6:$B$625,DAY($B48)),2)","v":0},92]
[null,"2015-01-31",{"$f":"ROUND(SUMIFS(Einzelposten!$G$6:$G$625,Einzelposten!$C$6:$C$625,MONTH($B49),Einzelposten!$B$6:$B$625,DAY($B49)),2)","v":0},{"$f":"ROUND(SUMIFS(Einzelposten!$H$6:$H$625,Einzelposten!$C$6:$C$625,MONTH($B49),Einzelposten!$B$6:$B$625,DAY($B49)),2)","v":0},92]
[null,"2015-02-01",{"$f":"ROUND(SUMIFS(Einzelposten!$G$6:$G$625,Einzelposten!$C$6:$C$625,MONTH($B50),Einzelposten!$B$6:$B$625,DAY($B50)),2)","v":0},{"$f":"ROUND(SUMIFS(Einzelposten!$H$6:$H$625,Einzelposten!$C$6:$C$625,MONTH($B50),Einzelposten!$B$6:$B$625,DAY($B50)),2)","v":34.9},57.1]
[null,"2015-02-02",{"$f":"ROUND(SUMIFS(Einzelposten!$G$6:$G$625,Einzelposten!$C$6:$C$625,MONTH($B51),Einzelposten!$B$6:$B$625,DAY($B51)),2)","v":0},{"$f":"ROUND(SUMIFS(Einzelposten!$H$6:$H$625,Einzelposten!$C$6:$C$625,MONTH($B51),Einzelposten!$B$6:$B$625,DAY($B51)),2)","v":0},57.1]
[null,"2015-02-03",{"$f":"ROUND(SUMIFS(Einzelposten!$G$6:$G$625,Einzelposten!$C$6:$C$625,MONTH($B52),Einzelposten!$B$6:$B$625,DAY($B52)),2)","v":0},{"$f":"ROUND(SUMIFS(Einzelposten!$H$6:$H$625,Einzelposten!$C$6:$C$625,MONTH($B52),Einzelposten!$B$6:$B$625,DAY($B52)),2)","v":0},57.1]
[null,"2015-02-04",{"$f":"ROUND(SUMIFS(Einzelposten!$G$6:$G$625,Einzelposten!$C$6:$C$625,MONTH($B53),Einzelposten!$B$6:$B$625,DAY($B53)),2)","v":0},{"$f":"ROUND(SUMIFS(Einzelposten!$H$6:$H$625,Einzelposten!$C$6:$C$625,MONTH($B53),Einzelposten!$B$6:$B$625,DAY($B53)),2)","v":0},57.1]
[null,"2015-02-05",{"$f":"ROUND(SUMIFS(Einzelposten!$G$6:$G$625,Einzelposten!$C$6:$C$625,MONTH($B54),Einzelposten!$B$6:$B$625,DAY($B54)),2)","v":0},{"$f":"ROUND(SUMIFS(Einzelposten!$H$6:$H$625,Einzelposten!$C$6:$C$625,MONTH($B54),Einzelposten!$B$6:$B$625,DAY($B54)),2)","v":0},57.1]
[null,"2015-02-06",{"$f":"ROUND(SUMIFS(Einzelposten!$G$6:$G$625,Einzelposten!$C$6:$C$625,MONTH($B55),Einzelposten!$B$6:$B$625,DAY($B55)),2)","v":0},{"$f":"ROUND(SUMIFS(Einzelposten!$H$6:$H$625,Einzelposten!$C$6:$C$625,MONTH($B55),Einzelposten!$B$6:$B$625,DAY($B55)),2)","v":0},57.1]
[null,"2015-02-07",{"$f":"ROUND(SUMIFS(Einzelposten!$G$6:$G$625,Einzelposten!$C$6:$C$625,MONTH($B56),Einzelposten!$B$6:$B$625,DAY($B56)),2)","v":0},{"$f":"ROUND(SUMIFS(Einzelposten!$H$6:$H$625,Einzelposten!$C$6:$C$625,MONTH($B56),Einzelposten!$B$6:$B$625,DAY($B56)),2)","v":0},57.1]
[null,"2015-02-08",{"$f":"ROUND(SUMIFS(Einzelposten!$G$6:$G$625,Einzelposten!$C$6:$C$625,MONTH($B57),Einzelposten!$B$6:$B$625,DAY($B57)),2)","v":0},{"$f":"ROUND(SUMIFS(Einzelposten!$H$6:$H$625,Einzelposten!$C$6:$C$625,MONTH($B57),Einzelposten!$B$6:$B$625,DAY($B57)),2)","v":0},57.1]
[null,"2015-02-09",{"$f":"ROUND(SUMIFS(Einzelposten!$G$6:$G$625,Einzelposten!$C$6:$C$625,MONTH($B58),Einzelposten!$B$6:$B$625,DAY($B58)),2)","v":0},{"$f":"ROUND(SUMIFS(Einzelposten!$H$6:$H$625,Einzelposten!$C$6:$C$625,MONTH($B58),Einzelposten!$B$6:$B$625,DAY($B58)),2)","v":0},57.1]
[null,"2015-02-10",{"$f":"ROUND(SUMIFS(Einzelposten!$G$6:$G$625,Einzelposten!$C$6:$C$625,MONTH($B59),Einzelposten!$B$6:$B$625,DAY($B59)),2)","v":0},{"$f":"ROUND(SUMIFS(Einzelposten!$H$6:$H$625,Einzelposten!$C$6:$C$625,MONTH($B59),Einzelposten!$B$6:$B$625,DAY($B59)),2)","v":0},57.1]
[null,"2015-02-11",{"$f":"ROUND(SUMIFS(Einzelposten!$G$6:$G$625,Einzelposten!$C$6:$C$625,MONTH($B60),Einzelposten!$B$6:$B$625,DAY($B60)),2)","v":0},{"$f":"ROUND(SUMIFS(Einzelposten!$H$6:$H$625,Einzelposten!$C$6:$C$625,MONTH($B60),Einzelposten!$B$6:$B$625,DAY($B60)),2)","v":0},57.1]
[null,"2015-02-12",{"$f":"ROUND(SUMIFS(Einzelposten!$G$6:$G$625,Einzelposten!$C$6:$C$625,MONTH($B61),Einzelposten!$B$6:$B$625,DAY($B61)),2)","v":0},{"$f":"ROUND(SUMIFS(Einzelposten!$H$6:$H$625,Einzelposten!$C$6:$C$625,MONTH($B61),Einzelposten!$B$6:$B$625,DAY($B61)),2)","v":0},57.1]
[null,"2015-02-13",{"$f":"ROUND(SUMIFS(Einzelposten!$G$6:$G$625,Einzelposten!$C$6:$C$625,MONTH($B62),Einzelposten!$B$6:$B$625,DAY($B62)),2)","v":0},{"$f":"ROUND(SUMIFS(Einzelposten!$H$6:$H$625,Einzelposten!$C$6:$C$625,MONTH($B62),Einzelposten!$B$6:$B$625,DAY($B62)),2)","v":0},57.1]
[null,"2015-02-14",{"$f":"ROUND(SUMIFS(Einzelposten!$G$6:$G$625,Einzelposten!$C$6:$C$625,MONTH($B63),Einzelposten!$B$6:$B$625,DAY($B63)),2)","v":0},{"$f":"ROUND(SUMIFS(Einzelposten!$H$6:$H$625,Einzelposten!$C$6:$C$625,MONTH($B63),Einzelposten!$B$6:$B$625,DAY($B63)),2)","v":0},57.1]
[null,"2015-02-15",{"$f":"ROUND(SUMIFS(Einzelposten!$G$6:$G$625,Einzelposten!$C$6:$C$625,MONTH($B64),Einzelposten!$B$6:$B$625,DAY($B64)),2)","v":0},{"$f":"ROUND(SUMIFS(Einzelposten!$H$6:$H$625,Einzelposten!$C$6:$C$625,MONTH($B64),Einzelposten!$B$6:$B$625,DAY($B64)),2)","v":0},57.1]
[null,"2015-02-16",{"$f":"ROUND(SUMIFS(Einzelposten!$G$6:$G$625,Einzelposten!$C$6:$C$625,MONTH($B65),Einzelposten!$B$6:$B$625,DAY($B65)),2)","v":0},{"$f":"ROUND(SUMIFS(Einzelposten!$H$6:$H$625,Einzelposten!$C$6:$C$625,MONTH($B65),Einzelposten!$B$6:$B$625,DAY($B65)),2)","v":0},57.1]
[null,"2015-02-17",{"$f":"ROUND(SUMIFS(Einzelposten!$G$6:$G$625,Einzelposten!$C$6:$C$625,MONTH($B66),Einzelposten!$B$6:$B$625,DAY($B66)),2)","v":0},{"$f":"ROUND(SUMIFS(Einzelposten!$H$6:$H$625,Einzelposten!$C$6:$C$625,MONTH($B66),Einzelposten!$B$6:$B$625,DAY($B66)),2)","v":0},57.1]
[null,"2015-02-18",{"$f":"ROUND(SUMIFS(Einzelposten!$G$6:$G$625,Einzelposten!$C$6:$C$625,MONTH($B67),Einzelposten!$B$6:$B$625,DAY($B67)),2)","v":0},{"$f":"ROUND(SUMIFS(Einzelposten!$H$6:$H$625,Einzelposten!$C$6:$C$625,MONTH($B67),Einzelposten!$B$6:$B$625,DAY($B67)),2)","v":0},57.1]
[null,"2015-02-19",{"$f":"ROUND(SUMIFS(Einzelposten!$G$6:$G$625,Einzelposten!$C$6:$C$625,MONTH($B68),Einzelposten!$B$6:$B$625,DAY($B68)),2)","v":0},{"$f":"ROUND(SUMIFS(Einzelposten!$H$6:$H$625,Einzelposten!$C$6:$C$625,MONTH($B68),Einzelposten!$B$6:$B$625,DAY($B68)),2)","v":0},57.1]
[null,"2015-02-20",{"$f":"ROUND(SUMIFS(Einzelposten!$G$6:$G$625,Einzelposten!$C$6:$C$625,MONTH($B69),Einzelposten!$B$6:$B$625,DAY($B69)),2)","v":0},{"$f":"ROUND(SUMIFS(Einzelposten!$H$6:$H$625,Einzelposten!$C$6:$C$625,MONTH($B69),Einzelposten!$B$6:$B$625,DAY($B69)),2)","v":0},57.1]
[null,"2015-02-21",{"$f":"ROUND(SUMIFS(Einzelposten!$G$6:$G$625,Einzelposten!$C$6:$C$625,MONTH($B70),Einzelposten!$B$6:$B$625,DAY($B70)),2)","v":0},{"$f":"ROUND(SUMIFS(Einzelposten!$H$6:$H$625,Einzelposten!$C$6:$C$625,MONTH($B70),Einzelposten!$B$6:$B$625,DAY($B70)),2)","v":0},57.1]
[null,"2015-02-22",{"$f":"ROUND(SUMIFS(Einzelposten!$G$6:$G$625,Einzelposten!$C$6:$C$625,MONTH($B71),Einzelposten!$B$6:$B$625,DAY($B71)),2)","v":0},{"$f":"ROUND(SUMIFS(Einzelposten!$H$6:$H$625,Einzelposten!$C$6:$C$625,MONTH($B71),Einzelposten!$B$6:$B$625,DAY($B71)),2)","v":0},57.1]
[null,"2015-02-23",{"$f":"ROUND(SUMIFS(Einzelposten!$G$6:$G$625,Einzelposten!$C$6:$C$625,MONTH($B72),Einzelposten!$B$6:$B$625,DAY($B72)),2)","v":0},{"$f":"ROUND(SUMIFS(Einzelposten!$H$6:$H$625,Einzelposten!$C$6:$C$625,MONTH($B72),Einzelposten!$B$6:$B$625,DAY($B72)),2)","v":0},57.1]
[null,"2015-02-24",{"$f":"ROUND(SUMIFS(Einzelposten!$G$6:$G$625,Einzelposten!$C$6:$C$625,MONTH($B73),Einzelposten!$B$6:$B$625,DAY($B73)),2)","v":0},{"$f":"ROUND(SUMIFS(Einzelposten!$H$6:$H$625,Einzelposten!$C$6:$C$625,MONTH($B73),Einzelposten!$B$6:$B$625,DAY($B73)),2)","v":0},57.1]
[null,"2015-02-25",{"$f":"ROUND(SUMIFS(Einzelposten!$G$6:$G$625,Einzelposten!$C$6:$C$625,MONTH($B74),Einzelposten!$B$6:$B$625,DAY($B74)),2)","v":0},{"$f":"ROUND(SUMIFS(Einzelposten!$H$6:$H$625,Einzelposten!$C$6:$C$625,MONTH($B74),Einzelposten!$B$6:$B$625,DAY($B74)),2)","v":0},57.1]
[null,"2015-02-26",{"$f":"ROUND(SUMIFS(Einzelposten!$G$6:$G$625,Einzelposten!$C$6:$C$625,MONTH($B75),Einzelposten!$B$6:$B$625,DAY($B75)),2)","v":0},{"$f":"ROUND(SUMIFS(Einzelposten!$H$6:$H$625,Einzelposten!$C$6:$C$625,MONTH($B75),Einzelposten!$B$6:$B$625,DAY($B75)),2)","v":0},57.1]
[null,"2015-02-27",{"$f":"ROUND(SUMIFS(Einzelposten!$G$6:$G$625,Einzelposten!$C$6:$C$625,MONTH($B76),Einzelposten!$B$6:$B$625,DAY($B76)),2)","v":0},{"$f":"ROUND(SUMIFS(Einzelposten!$H$6:$H$625,Einzelposten!$C$6:$C$625,MONTH($B76),Einzelposten!$B$6:$B$625,DAY($B76)),2)","v":0},57.1]
[null,"2015-02-28",{"$f":"ROUND(SUMIFS(Einzelposten!$G$6:$G$625,Einzelposten!$C$6:$C$625,MONTH($B77),Einzelposten!$B$6:$B$625,DAY($B77)),2)","v":0},{"$f":"ROUND(SUMIFS(Einzelposten!$H$6:$H$625,Einzelposten!$C$6:$C$625,MONTH($B77),Einzelposten!$B$6:$B$625,DAY($B77)),2)","v":0},{"$f":"ROUND(E76+C77-D77,2)","v":57.1}]
[null,"2012-02-29",{"$f":"ROUND(SUMIFS(Einzelposten!$G$6:$G$625,Einzelposten!$C$6:$C$625,MONTH($B78),Einzelposten!$B$6:$B$625,DAY($B78)),2)","v":0},{"$f":"ROUND(SUMIFS(Einzelposten!$H$6:$H$625,Einzelposten!$C$6:$C$625,MONTH($B78),Einzelposten!$B$6:$B$625,DAY($B78)),2)","v":0},57.1]
[null,"2015-03-01",{"$f":"ROUND(SUMIFS(Einzelposten!$G$6:$G$625,Einzelposten!$C$6:$C$625,MONTH($B79),Einzelposten!$B$6:$B$625,DAY($B79)),2)","v":0},{"$f":"ROUND(SUMIFS(Einzelposten!$H$6:$H$625,Einzelposten!$C$6:$C$625,MONTH($B79),Einzelposten!$B$6:$B$625,DAY($B79)),2)","v":0},57.1]
[null,"2015-03-02",{"$f":"ROUND(SUMIFS(Einzelposten!$G$6:$G$625,Einzelposten!$C$6:$C$625,MONTH($B80),Einzelposten!$B$6:$B$625,DAY($B80)),2)","v":0},{"$f":"ROUND(SUMIFS(Einzelposten!$H$6:$H$625,Einzelposten!$C$6:$C$625,MONTH($B80),Einzelposten!$B$6:$B$625,DAY($B80)),2)","v":0},57.1]
[null,"2015-03-03",{"$f":"ROUND(SUMIFS(Einzelposten!$G$6:$G$625,Einzelposten!$C$6:$C$625,MONTH($B81),Einzelposten!$B$6:$B$625,DAY($B81)),2)","v":0},{"$f":"ROUND(SUMIFS(Einzelposten!$H$6:$H$625,Einzelposten!$C$6:$C$625,MONTH($B81),Einzelposten!$B$6:$B$625,DAY($B81)),2)","v":0},57.1]
[null,"2015-03-04",{"$f":"ROUND(SUMIFS(Einzelposten!$G$6:$G$625,Einzelposten!$C$6:$C$625,MONTH($B82),Einzelposten!$B$6:$B$625,DAY($B82)),2)","v":0},{"$f":"ROUND(SUMIFS(Einzelposten!$H$6:$H$625,Einzelposten!$C$6:$C$625,MONTH($B82),Einzelposten!$B$6:$B$625,DAY($B82)),2)","v":0},57.1]
[null,"2015-03-05",{"$f":"ROUND(SUMIFS(Einzelposten!$G$6:$G$625,Einzelposten!$C$6:$C$625,MONTH($B83),Einzelposten!$B$6:$B$625,DAY($B83)),2)","v":0},{"$f":"ROUND(SUMIFS(Einzelposten!$H$6:$H$625,Einzelposten!$C$6:$C$625,MONTH($B83),Einzelposten!$B$6:$B$625,DAY($B83)),2)","v":0},57.1]
[null,"2015-03-06",{"$f":"ROUND(SUMIFS(Einzelposten!$G$6:$G$625,Einzelposten!$C$6:$C$625,MONTH($B84),Einzelposten!$B$6:$B$625,DAY($B84)),2)","v":0},{"$f":"ROUND(SUMIFS(Einzelposten!$H$6:$H$625,Einzelposten!$C$6:$C$625,MONTH($B84),Einzelposten!$B$6:$B$625,DAY($B84)),2)","v":0},57.1]
[null,"2015-03-07",{"$f":"ROUND(SUMIFS(Einzelposten!$G$6:$G$625,Einzelposten!$C$6:$C$625,MONTH($B85),Einzelposten!$B$6:$B$625,DAY($B85)),2)","v":0},{"$f":"ROUND(SUMIFS(Einzelposten!$H$6:$H$625,Einzelposten!$C$6:$C$625,MONTH($B85),Einzelposten!$B$6:$B$625,DAY($B85)),2)","v":0},57.1]
[null,"2015-03-08",{"$f":"ROUND(SUMIFS(Einzelposten!$G$6:$G$625,Einzelposten!$C$6:$C$625,MONTH($B86),Einzelposten!$B$6:$B$625,DAY($B86)),2)","v":0},{"$f":"ROUND(SUMIFS(Einzelposten!$H$6:$H$625,Einzelposten!$C$6:$C$625,MONTH($B86),Einzelposten!$B$6:$B$625,DAY($B86)),2)","v":0},57.1]
[null,"2015-03-09",{"$f":"ROUND(SUMIFS(Einzelposten!$G$6:$G$625,Einzelposten!$C$6:$C$625,MONTH($B87),Einzelposten!$B$6:$B$625,DAY($B87)),2)","v":0},{"$f":"ROUND(SUMIFS(Einzelposten!$H$6:$H$625,Einzelposten!$C$6:$C$625,MONTH($B87),Einzelposten!$B$6:$B$625,DAY($B87)),2)","v":0},57.1]
[null,"2015-03-10",{"$f":"ROUND(SUMIFS(Einzelposten!$G$6:$G$625,Einzelposten!$C$6:$C$625,MONTH($B88),Einzelposten!$B$6:$B$625,DAY($B88)),2)","v":0},{"$f":"ROUND(SUMIFS(Einzelposten!$H$6:$H$625,Einzelposten!$C$6:$C$625,MONTH($B88),Einzelposten!$B$6:$B$625,DAY($B88)),2)","v":0},57.1]
[null,"2015-03-11",{"$f":"ROUND(SUMIFS(Einzelposten!$G$6:$G$625,Einzelposten!$C$6:$C$625,MONTH($B89),Einzelposten!$B$6:$B$625,DAY($B89)),2)","v":0},{"$f":"ROUND(SUMIFS(Einzelposten!$H$6:$H$625,Einzelposten!$C$6:$C$625,MONTH($B89),Einzelposten!$B$6:$B$625,DAY($B89)),2)","v":0},{"$f":"ROUND(E88+C89-D89,2)","v":57.1}]
[null,"2015-03-12",{"$f":"ROUND(SUMIFS(Einzelposten!$G$6:$G$625,Einzelposten!$C$6:$C$625,MONTH($B90),Einzelposten!$B$6:$B$625,DAY($B90)),2)","v":0},{"$f":"ROUND(SUMIFS(Einzelposten!$H$6:$H$625,Einzelposten!$C$6:$C$625,MONTH($B90),Einzelposten!$B$6:$B$625,DAY($B90)),2)","v":0},57.1]
[null,"2015-03-13",{"$f":"ROUND(SUMIFS(Einzelposten!$G$6:$G$625,Einzelposten!$C$6:$C$625,MONTH($B91),Einzelposten!$B$6:$B$625,DAY($B91)),2)","v":0},{"$f":"ROUND(SUMIFS(Einzelposten!$H$6:$H$625,Einzelposten!$C$6:$C$625,MONTH($B91),Einzelposten!$B$6:$B$625,DAY($B91)),2)","v":0},57.1]
[null,"2015-03-14",{"$f":"ROUND(SUMIFS(Einzelposten!$G$6:$G$625,Einzelposten!$C$6:$C$625,MONTH($B92),Einzelposten!$B$6:$B$625,DAY($B92)),2)","v":0},{"$f":"ROUND(SUMIFS(Einzelposten!$H$6:$H$625,Einzelposten!$C$6:$C$625,MONTH($B92),Einzelposten!$B$6:$B$625,DAY($B92)),2)","v":0},57.1]
[null,"2015-03-15",{"$f":"ROUND(SUMIFS(Einzelposten!$G$6:$G$625,Einzelposten!$C$6:$C$625,MONTH($B93),Einzelposten!$B$6:$B$625,DAY($B93)),2)","v":0},{"$f":"ROUND(SUMIFS(Einzelposten!$H$6:$H$625,Einzelposten!$C$6:$C$625,MONTH($B93),Einzelposten!$B$6:$B$625,DAY($B93)),2)","v":0},57.1]
[null,"2015-03-16",{"$f":"ROUND(SUMIFS(Einzelposten!$G$6:$G$625,Einzelposten!$C$6:$C$625,MONTH($B94),Einzelposten!$B$6:$B$625,DAY($B94)),2)","v":0},{"$f":"ROUND(SUMIFS(Einzelposten!$H$6:$H$625,Einzelposten!$C$6:$C$625,MONTH($B94),Einzelposten!$B$6:$B$625,DAY($B94)),2)","v":0},57.1]
[null,"2015-03-17",{"$f":"ROUND(SUMIFS(Einzelposten!$G$6:$G$625,Einzelposten!$C$6:$C$625,MONTH($B95),Einzelposten!$B$6:$B$625,DAY($B95)),2)","v":0},{"$f":"ROUND(SUMIFS(Einzelposten!$H$6:$H$625,Einzelposten!$C$6:$C$625,MONTH($B95),Einzelposten!$B$6:$B$625,DAY($B95)),2)","v":0},57.1]
[null,"2015-03-18",{"$f":"ROUND(SUMIFS(Einzelposten!$G$6:$G$625,Einzelposten!$C$6:$C$625,MONTH($B96),Einzelposten!$B$6:$B$625,DAY($B96)),2)","v":0},{"$f":"ROUND(SUMIFS(Einzelposten!$H$6:$H$625,Einzelposten!$C$6:$C$625,MONTH($B96),Einzelposten!$B$6:$B$625,DAY($B96)),2)","v":0},57.1]
[null,"2015-03-19",{"$f":"ROUND(SUMIFS(Einzelposten!$G$6:$G$625,Einzelposten!$C$6:$C$625,MONTH($B97),Einzelposten!$B$6:$B$625,DAY($B97)),2)","v":0},{"$f":"ROUND(SUMIFS(Einzelposten!$H$6:$H$625,Einzelposten!$C$6:$C$625,MONTH($B97),Einzelposten!$B$6:$B$625,DAY($B97)),2)","v":0},57.1]
[null,"2015-03-20",{"$f":"ROUND(SUMIFS(Einzelposten!$G$6:$G$625,Einzelposten!$C$6:$C$625,MONTH($B98),Einzelposten!$B$6:$B$625,DAY($B98)),2)","v":0},{"$f":"ROUND(SUMIFS(Einzelposten!$H$6:$H$625,Einzelposten!$C$6:$C$625,MONTH($B98),Einzelposten!$B$6:$B$625,DAY($B98)),2)","v":0},57.1]
[null,"2015-03-21",{"$f":"ROUND(SUMIFS(Einzelposten!$G$6:$G$625,Einzelposten!$C$6:$C$625,MONTH($B99),Einzelposten!$B$6:$B$625,DAY($B99)),2)","v":0},{"$f":"ROUND(SUMIFS(Einzelposten!$H$6:$H$625,Einzelposten!$C$6:$C$625,MONTH($B99),Einzelposten!$B$6:$B$625,DAY($B99)),2)","v":0},57.1]
[null,"2015-03-22",{"$f":"ROUND(SUMIFS(Einzelposten!$G$6:$G$625,Einzelposten!$C$6:$C$625,MONTH($B100),Einzelposten!$B$6:$B$625,DAY($B100)),2)","v":0},{"$f":"ROUND(SUMIFS(Einzelposten!$H$6:$H$625,Einzelposten!$C$6:$C$625,MONTH($B100),Einzelposten!$B$6:$B$625,DAY($B100)),2)","v":0},57.1]
[null,"2015-03-23",{"$f":"ROUND(SUMIFS(Einzelposten!$G$6:$G$625,Einzelposten!$C$6:$C$625,MONTH($B101),Einzelposten!$B$6:$B$625,DAY($B101)),2)","v":0},{"$f":"ROUND(SUMIFS(Einzelposten!$H$6:$H$625,Einzelposten!$C$6:$C$625,MONTH($B101),Einzelposten!$B$6:$B$625,DAY($B101)),2)","v":0},57.1]
[null,"2015-03-24",{"$f":"ROUND(SUMIFS(Einzelposten!$G$6:$G$625,Einzelposten!$C$6:$C$625,MONTH($B102),Einzelposten!$B$6:$B$625,DAY($B102)),2)","v":0},{"$f":"ROUND(SUMIFS(Einzelposten!$H$6:$H$625,Einzelposten!$C$6:$C$625,MONTH($B102),Einzelposten!$B$6:$B$625,DAY($B102)),2)","v":0},57.1]
[null,"2015-03-25",{"$f":"ROUND(SUMIFS(Einzelposten!$G$6:$G$625,Einzelposten!$C$6:$C$625,MONTH($B103),Einzelposten!$B$6:$B$625,DAY($B103)),2)","v":0},{"$f":"ROUND(SUMIFS(Einzelposten!$H$6:$H$625,Einzelposten!$C$6:$C$625,MONTH($B103),Einzelposten!$B$6:$B$625,DAY($B103)),2)","v":0},57.1]
[null,"2015-03-26",{"$f":"ROUND(SUMIFS(Einzelposten!$G$6:$G$625,Einzelposten!$C$6:$C$625,MONTH($B104),Einzelposten!$B$6:$B$625,DAY($B104)),2)","v":0},{"$f":"ROUND(SUMIFS(Einzelposten!$H$6:$H$625,Einzelposten!$C$6:$C$625,MONTH($B104),Einzelposten!$B$6:$B$625,DAY($B104)),2)","v":0},57.1]
[null,"2015-03-27",{"$f":"ROUND(SUMIFS(Einzelposten!$G$6:$G$625,Einzelposten!$C$6:$C$625,MONTH($B105),Einzelposten!$B$6:$B$625,DAY($B105)),2)","v":0},{"$f":"ROUND(SUMIFS(Einzelposten!$H$6:$H$625,Einzelposten!$C$6:$C$625,MONTH($B105),Einzelposten!$B$6:$B$625,DAY($B105)),2)","v":0},57.1]
[null,"2015-03-28",{"$f":"ROUND(SUMIFS(Einzelposten!$G$6:$G$625,Einzelposten!$C$6:$C$625,MONTH($B106),Einzelposten!$B$6:$B$625,DAY($B106)),2)","v":0},{"$f":"ROUND(SUMIFS(Einzelposten!$H$6:$H$625,Einzelposten!$C$6:$C$625,MONTH($B106),Einzelposten!$B$6:$B$625,DAY($B106)),2)","v":0},57.1]
[null,"2015-03-29",{"$f":"ROUND(SUMIFS(Einzelposten!$G$6:$G$625,Einzelposten!$C$6:$C$625,MONTH($B107),Einzelposten!$B$6:$B$625,DAY($B107)),2)","v":0},{"$f":"ROUND(SUMIFS(Einzelposten!$H$6:$H$625,Einzelposten!$C$6:$C$625,MONTH($B107),Einzelposten!$B$6:$B$625,DAY($B107)),2)","v":0},57.1]
[null,"2015-03-30",{"$f":"ROUND(SUMIFS(Einzelposten!$G$6:$G$625,Einzelposten!$C$6:$C$625,MONTH($B108),Einzelposten!$B$6:$B$625,DAY($B108)),2)","v":0},{"$f":"ROUND(SUMIFS(Einzelposten!$H$6:$H$625,Einzelposten!$C$6:$C$625,MONTH($B108),Einzelposten!$B$6:$B$625,DAY($B108)),2)","v":0},57.1]
[null,"2015-03-31",{"$f":"ROUND(SUMIFS(Einzelposten!$G$6:$G$625,Einzelposten!$C$6:$C$625,MONTH($B109),Einzelposten!$B$6:$B$625,DAY($B109)),2)","v":0},{"$f":"ROUND(SUMIFS(Einzelposten!$H$6:$H$625,Einzelposten!$C$6:$C$625,MONTH($B109),Einzelposten!$B$6:$B$625,DAY($B109)),2)","v":0},57.1]
[null,"2015-04-01",{"$f":"ROUND(SUMIFS(Einzelposten!$G$6:$G$625,Einzelposten!$C$6:$C$625,MONTH($B110),Einzelposten!$B$6:$B$625,DAY($B110)),2)","v":0},{"$f":"ROUND(SUMIFS(Einzelposten!$H$6:$H$625,Einzelposten!$C$6:$C$625,MONTH($B110),Einzelposten!$B$6:$B$625,DAY($B110)),2)","v":0},57.1]
[null,"2015-04-02",{"$f":"ROUND(SUMIFS(Einzelposten!$G$6:$G$625,Einzelposten!$C$6:$C$625,MONTH($B111),Einzelposten!$B$6:$B$625,DAY($B111)),2)","v":0},{"$f":"ROUND(SUMIFS(Einzelposten!$H$6:$H$625,Einzelposten!$C$6:$C$625,MONTH($B111),Einzelposten!$B$6:$B$625,DAY($B111)),2)","v":0},57.1]
[null,"2015-04-03",{"$f":"ROUND(SUMIFS(Einzelposten!$G$6:$G$625,Einzelposten!$C$6:$C$625,MONTH($B112),Einzelposten!$B$6:$B$625,DAY($B112)),2)","v":0},{"$f":"ROUND(SUMIFS(Einzelposten!$H$6:$H$625,Einzelposten!$C$6:$C$625,MONTH($B112),Einzelposten!$B$6:$B$625,DAY($B112)),2)","v":0},57.1]
[null,"2015-04-04",{"$f":"ROUND(SUMIFS(Einzelposten!$G$6:$G$625,Einzelposten!$C$6:$C$625,MONTH($B113),Einzelposten!$B$6:$B$625,DAY($B113)),2)","v":0},{"$f":"ROUND(SUMIFS(Einzelposten!$H$6:$H$625,Einzelposten!$C$6:$C$625,MONTH($B113),Einzelposten!$B$6:$B$625,DAY($B113)),2)","v":0},57.1]
[null,"2015-04-05",{"$f":"ROUND(SUMIFS(Einzelposten!$G$6:$G$625,Einzelposten!$C$6:$C$625,MONTH($B114),Einzelposten!$B$6:$B$625,DAY($B114)),2)","v":0},{"$f":"ROUND(SUMIFS(Einzelposten!$H$6:$H$625,Einzelposten!$C$6:$C$625,MONTH($B114),Einzelposten!$B$6:$B$625,DAY($B114)),2)","v":0},57.1]
[null,"2015-04-06",{"$f":"ROUND(SUMIFS(Einzelposten!$G$6:$G$625,Einzelposten!$C$6:$C$625,MONTH($B115),Einzelposten!$B$6:$B$625,DAY($B115)),2)","v":0},{"$f":"ROUND(SUMIFS(Einzelposten!$H$6:$H$625,Einzelposten!$C$6:$C$625,MONTH($B115),Einzelposten!$B$6:$B$625,DAY($B115)),2)","v":0},57.1]
[null,"2015-04-07",{"$f":"ROUND(SUMIFS(Einzelposten!$G$6:$G$625,Einzelposten!$C$6:$C$625,MONTH($B116),Einzelposten!$B$6:$B$625,DAY($B116)),2)","v":0},{"$f":"ROUND(SUMIFS(Einzelposten!$H$6:$H$625,Einzelposten!$C$6:$C$625,MONTH($B116),Einzelposten!$B$6:$B$625,DAY($B116)),2)","v":0},57.1]
[null,"2015-04-08",{"$f":"ROUND(SUMIFS(Einzelposten!$G$6:$G$625,Einzelposten!$C$6:$C$625,MONTH($B117),Einzelposten!$B$6:$B$625,DAY($B117)),2)","v":0},{"$f":"ROUND(SUMIFS(Einzelposten!$H$6:$H$625,Einzelposten!$C$6:$C$625,MONTH($B117),Einzelposten!$B$6:$B$625,DAY($B117)),2)","v":0},57.1]
[null,"2015-04-09",{"$f":"ROUND(SUMIFS(Einzelposten!$G$6:$G$625,Einzelposten!$C$6:$C$625,MONTH($B118),Einzelposten!$B$6:$B$625,DAY($B118)),2)","v":0},{"$f":"ROUND(SUMIFS(Einzelposten!$H$6:$H$625,Einzelposten!$C$6:$C$625,MONTH($B118),Einzelposten!$B$6:$B$625,DAY($B118)),2)","v":0},57.1]
[null,"2015-04-10",{"$f":"ROUND(SUMIFS(Einzelposten!$G$6:$G$625,Einzelposten!$C$6:$C$625,MONTH($B119),Einzelposten!$B$6:$B$625,DAY($B119)),2)","v":0},{"$f":"ROUND(SUMIFS(Einzelposten!$H$6:$H$625,Einzelposten!$C$6:$C$625,MONTH($B119),Einzelposten!$B$6:$B$625,DAY($B119)),2)","v":0},57.1]
[null,"2015-04-11",{"$f":"ROUND(SUMIFS(Einzelposten!$G$6:$G$625,Einzelposten!$C$6:$C$625,MONTH($B120),Einzelposten!$B$6:$B$625,DAY($B120)),2)","v":0},{"$f":"ROUND(SUMIFS(Einzelposten!$H$6:$H$625,Einzelposten!$C$6:$C$625,MONTH($B120),Einzelposten!$B$6:$B$625,DAY($B120)),2)","v":0},57.1]
[null,"2015-04-12",{"$f":"ROUND(SUMIFS(Einzelposten!$G$6:$G$625,Einzelposten!$C$6:$C$625,MONTH($B121),Einzelposten!$B$6:$B$625,DAY($B121)),2)","v":0},{"$f":"ROUND(SUMIFS(Einzelposten!$H$6:$H$625,Einzelposten!$C$6:$C$625,MONTH($B121),Einzelposten!$B$6:$B$625,DAY($B121)),2)","v":0},57.1]
[null,"2015-04-13",{"$f":"ROUND(SUMIFS(Einzelposten!$G$6:$G$625,Einzelposten!$C$6:$C$625,MONTH($B122),Einzelposten!$B$6:$B$625,DAY($B122)),2)","v":0},{"$f":"ROUND(SUMIFS(Einzelposten!$H$6:$H$625,Einzelposten!$C$6:$C$625,MONTH($B122),Einzelposten!$B$6:$B$625,DAY($B122)),2)","v":0},57.1]
[null,"2015-04-14",{"$f":"ROUND(SUMIFS(Einzelposten!$G$6:$G$625,Einzelposten!$C$6:$C$625,MONTH($B123),Einzelposten!$B$6:$B$625,DAY($B123)),2)","v":0},{"$f":"ROUND(SUMIFS(Einzelposten!$H$6:$H$625,Einzelposten!$C$6:$C$625,MONTH($B123),Einzelposten!$B$6:$B$625,DAY($B123)),2)","v":0},57.1]
[null,"2015-04-15",{"$f":"ROUND(SUMIFS(Einzelposten!$G$6:$G$625,Einzelposten!$C$6:$C$625,MONTH($B124),Einzelposten!$B$6:$B$625,DAY($B124)),2)","v":0},{"$f":"ROUND(SUMIFS(Einzelposten!$H$6:$H$625,Einzelposten!$C$6:$C$625,MONTH($B124),Einzelposten!$B$6:$B$625,DAY($B124)),2)","v":0},57.1]
[null,"2015-04-16",{"$f":"ROUND(SUMIFS(Einzelposten!$G$6:$G$625,Einzelposten!$C$6:$C$625,MONTH($B125),Einzelposten!$B$6:$B$625,DAY($B125)),2)","v":0},{"$f":"ROUND(SUMIFS(Einzelposten!$H$6:$H$625,Einzelposten!$C$6:$C$625,MONTH($B125),Einzelposten!$B$6:$B$625,DAY($B125)),2)","v":0},57.1]
[null,"2015-04-17",{"$f":"ROUND(SUMIFS(Einzelposten!$G$6:$G$625,Einzelposten!$C$6:$C$625,MONTH($B126),Einzelposten!$B$6:$B$625,DAY($B126)),2)","v":0},{"$f":"ROUND(SUMIFS(Einzelposten!$H$6:$H$625,Einzelposten!$C$6:$C$625,MONTH($B126),Einzelposten!$B$6:$B$625,DAY($B126)),2)","v":0},57.1]
[null,"2015-04-18",{"$f":"ROUND(SUMIFS(Einzelposten!$G$6:$G$625,Einzelposten!$C$6:$C$625,MONTH($B127),Einzelposten!$B$6:$B$625,DAY($B127)),2)","v":0},{"$f":"ROUND(SUMIFS(Einzelposten!$H$6:$H$625,Einzelposten!$C$6:$C$625,MONTH($B127),Einzelposten!$B$6:$B$625,DAY($B127)),2)","v":0},57.1]
[null,"2015-04-19",{"$f":"ROUND(SUMIFS(Einzelposten!$G$6:$G$625,Einzelposten!$C$6:$C$625,MONTH($B128),Einzelposten!$B$6:$B$625,DAY($B128)),2)","v":0},{"$f":"ROUND(SUMIFS(Einzelposten!$H$6:$H$625,Einzelposten!$C$6:$C$625,MONTH($B128),Einzelposten!$B$6:$B$625,DAY($B128)),2)","v":0},57.1]
[null,"2015-04-20",{"$f":"ROUND(SUMIFS(Einzelposten!$G$6:$G$625,Einzelposten!$C$6:$C$625,MONTH($B129),Einzelposten!$B$6:$B$625,DAY($B129)),2)","v":0},{"$f":"ROUND(SUMIFS(Einzelposten!$H$6:$H$625,Einzelposten!$C$6:$C$625,MONTH($B129),Einzelposten!$B$6:$B$625,DAY($B129)),2)","v":0},57.1]
[null,"2015-04-21",{"$f":"ROUND(SUMIFS(Einzelposten!$G$6:$G$625,Einzelposten!$C$6:$C$625,MONTH($B130),Einzelposten!$B$6:$B$625,DAY($B130)),2)","v":0},{"$f":"ROUND(SUMIFS(Einzelposten!$H$6:$H$625,Einzelposten!$C$6:$C$625,MONTH($B130),Einzelposten!$B$6:$B$625,DAY($B130)),2)","v":0},57.1]
[null,"2015-04-22",{"$f":"ROUND(SUMIFS(Einzelposten!$G$6:$G$625,Einzelposten!$C$6:$C$625,MONTH($B131),Einzelposten!$B$6:$B$625,DAY($B131)),2)","v":0},{"$f":"ROUND(SUMIFS(Einzelposten!$H$6:$H$625,Einzelposten!$C$6:$C$625,MONTH($B131),Einzelposten!$B$6:$B$625,DAY($B131)),2)","v":0},57.1]
[null,"2015-04-23",{"$f":"ROUND(SUMIFS(Einzelposten!$G$6:$G$625,Einzelposten!$C$6:$C$625,MONTH($B132),Einzelposten!$B$6:$B$625,DAY($B132)),2)","v":0},{"$f":"ROUND(SUMIFS(Einzelposten!$H$6:$H$625,Einzelposten!$C$6:$C$625,MONTH($B132),Einzelposten!$B$6:$B$625,DAY($B132)),2)","v":0},57.1]
[null,"2015-04-24",{"$f":"ROUND(SUMIFS(Einzelposten!$G$6:$G$625,Einzelposten!$C$6:$C$625,MONTH($B133),Einzelposten!$B$6:$B$625,DAY($B133)),2)","v":0},{"$f":"ROUND(SUMIFS(Einzelposten!$H$6:$H$625,Einzelposten!$C$6:$C$625,MONTH($B133),Einzelposten!$B$6:$B$625,DAY($B133)),2)","v":0},57.1]
[null,"2015-04-25",{"$f":"ROUND(SUMIFS(Einzelposten!$G$6:$G$625,Einzelposten!$C$6:$C$625,MONTH($B134),Einzelposten!$B$6:$B$625,DAY($B134)),2)","v":0},{"$f":"ROUND(SUMIFS(Einzelposten!$H$6:$H$625,Einzelposten!$C$6:$C$625,MONTH($B134),Einzelposten!$B$6:$B$625,DAY($B134)),2)","v":0},57.1]
[null,"2015-04-26",{"$f":"ROUND(SUMIFS(Einzelposten!$G$6:$G$625,Einzelposten!$C$6:$C$625,MONTH($B135),Einzelposten!$B$6:$B$625,DAY($B135)),2)","v":0},{"$f":"ROUND(SUMIFS(Einzelposten!$H$6:$H$625,Einzelposten!$C$6:$C$625,MONTH($B135),Einzelposten!$B$6:$B$625,DAY($B135)),2)","v":0},57.1]
[null,"2015-04-27",{"$f":"ROUND(SUMIFS(Einzelposten!$G$6:$G$625,Einzelposten!$C$6:$C$625,MONTH($B136),Einzelposten!$B$6:$B$625,DAY($B136)),2)","v":0},{"$f":"ROUND(SUMIFS(Einzelposten!$H$6:$H$625,Einzelposten!$C$6:$C$625,MONTH($B136),Einzelposten!$B$6:$B$625,DAY($B136)),2)","v":0},57.1]
[null,"2015-04-28",{"$f":"ROUND(SUMIFS(Einzelposten!$G$6:$G$625,Einzelposten!$C$6:$C$625,MONTH($B137),Einzelposten!$B$6:$B$625,DAY($B137)),2)","v":0},{"$f":"ROUND(SUMIFS(Einzelposten!$H$6:$H$625,Einzelposten!$C$6:$C$625,MONTH($B137),Einzelposten!$B$6:$B$625,DAY($B137)),2)","v":0},57.1]
[null,"2015-04-29",{"$f":"ROUND(SUMIFS(Einzelposten!$G$6:$G$625,Einzelposten!$C$6:$C$625,MONTH($B138),Einzelposten!$B$6:$B$625,DAY($B138)),2)","v":0},{"$f":"ROUND(SUMIFS(Einzelposten!$H$6:$H$625,Einzelposten!$C$6:$C$625,MONTH($B138),Einzelposten!$B$6:$B$625,DAY($B138)),2)","v":0},57.1]
[null,"2015-04-30",{"$f":"ROUND(SUMIFS(Einzelposten!$G$6:$G$625,Einzelposten!$C$6:$C$625,MONTH($B139),Einzelposten!$B$6:$B$625,DAY($B139)),2)","v":0},{"$f":"ROUND(SUMIFS(Einzelposten!$H$6:$H$625,Einzelposten!$C$6:$C$625,MONTH($B139),Einzelposten!$B$6:$B$625,DAY($B139)),2)","v":0},57.1]
[null,"2015-05-01",{"$f":"ROUND(SUMIFS(Einzelposten!$G$6:$G$625,Einzelposten!$C$6:$C$625,MONTH($B140),Einzelposten!$B$6:$B$625,DAY($B140)),2)","v":0},{"$f":"ROUND(SUMIFS(Einzelposten!$H$6:$H$625,Einzelposten!$C$6:$C$625,MONTH($B140),Einzelposten!$B$6:$B$625,DAY($B140)),2)","v":0},57.1]
[null,"2015-05-02",{"$f":"ROUND(SUMIFS(Einzelposten!$G$6:$G$625,Einzelposten!$C$6:$C$625,MONTH($B141),Einzelposten!$B$6:$B$625,DAY($B141)),2)","v":0},{"$f":"ROUND(SUMIFS(Einzelposten!$H$6:$H$625,Einzelposten!$C$6:$C$625,MONTH($B141),Einzelposten!$B$6:$B$625,DAY($B141)),2)","v":0},57.1]
[null,"2015-05-03",{"$f":"ROUND(SUMIFS(Einzelposten!$G$6:$G$625,Einzelposten!$C$6:$C$625,MONTH($B142),Einzelposten!$B$6:$B$625,DAY($B142)),2)","v":0},{"$f":"ROUND(SUMIFS(Einzelposten!$H$6:$H$625,Einzelposten!$C$6:$C$625,MONTH($B142),Einzelposten!$B$6:$B$625,DAY($B142)),2)","v":0},57.1]
[null,"2015-05-04",{"$f":"ROUND(SUMIFS(Einzelposten!$G$6:$G$625,Einzelposten!$C$6:$C$625,MONTH($B143),Einzelposten!$B$6:$B$625,DAY($B143)),2)","v":0},{"$f":"ROUND(SUMIFS(Einzelposten!$H$6:$H$625,Einzelposten!$C$6:$C$625,MONTH($B143),Einzelposten!$B$6:$B$625,DAY($B143)),2)","v":0},57.1]
[null,"2015-05-05",{"$f":"ROUND(SUMIFS(Einzelposten!$G$6:$G$625,Einzelposten!$C$6:$C$625,MONTH($B144),Einzelposten!$B$6:$B$625,DAY($B144)),2)","v":0},{"$f":"ROUND(SUMIFS(Einzelposten!$H$6:$H$625,Einzelposten!$C$6:$C$625,MONTH($B144),Einzelposten!$B$6:$B$625,DAY($B144)),2)","v":0},57.1]
[null,"2015-05-06",{"$f":"ROUND(SUMIFS(Einzelposten!$G$6:$G$625,Einzelposten!$C$6:$C$625,MONTH($B145),Einzelposten!$B$6:$B$625,DAY($B145)),2)","v":0},{"$f":"ROUND(SUMIFS(Einzelposten!$H$6:$H$625,Einzelposten!$C$6:$C$625,MONTH($B145),Einzelposten!$B$6:$B$625,DAY($B145)),2)","v":0},57.1]
[null,"2015-05-07",{"$f":"ROUND(SUMIFS(Einzelposten!$G$6:$G$625,Einzelposten!$C$6:$C$625,MONTH($B146),Einzelposten!$B$6:$B$625,DAY($B146)),2)","v":0},{"$f":"ROUND(SUMIFS(Einzelposten!$H$6:$H$625,Einzelposten!$C$6:$C$625,MONTH($B146),Einzelposten!$B$6:$B$625,DAY($B146)),2)","v":0},57.1]
[null,"2015-05-08",{"$f":"ROUND(SUMIFS(Einzelposten!$G$6:$G$625,Einzelposten!$C$6:$C$625,MONTH($B147),Einzelposten!$B$6:$B$625,DAY($B147)),2)","v":0},{"$f":"ROUND(SUMIFS(Einzelposten!$H$6:$H$625,Einzelposten!$C$6:$C$625,MONTH($B147),Einzelposten!$B$6:$B$625,DAY($B147)),2)","v":0},57.1]
[null,"2015-05-09",{"$f":"ROUND(SUMIFS(Einzelposten!$G$6:$G$625,Einzelposten!$C$6:$C$625,MONTH($B148),Einzelposten!$B$6:$B$625,DAY($B148)),2)","v":0},{"$f":"ROUND(SUMIFS(Einzelposten!$H$6:$H$625,Einzelposten!$C$6:$C$625,MONTH($B148),Einzelposten!$B$6:$B$625,DAY($B148)),2)","v":0},57.1]
[null,"2015-05-10",{"$f":"ROUND(SUMIFS(Einzelposten!$G$6:$G$625,Einzelposten!$C$6:$C$625,MONTH($B149),Einzelposten!$B$6:$B$625,DAY($B149)),2)","v":0},{"$f":"ROUND(SUMIFS(Einzelposten!$H$6:$H$625,Einzelposten!$C$6:$C$625,MONTH($B149),Einzelposten!$B$6:$B$625,DAY($B149)),2)","v":0},57.1]
[null,"2015-05-11",{"$f":"ROUND(SUMIFS(Einzelposten!$G$6:$G$625,Einzelposten!$C$6:$C$625,MONTH($B150),Einzelposten!$B$6:$B$625,DAY($B150)),2)","v":0},{"$f":"ROUND(SUMIFS(Einzelposten!$H$6:$H$625,Einzelposten!$C$6:$C$625,MONTH($B150),Einzelposten!$B$6:$B$625,DAY($B150)),2)","v":0},57.1]
[null,"2015-05-12",{"$f":"ROUND(SUMIFS(Einzelposten!$G$6:$G$625,Einzelposten!$C$6:$C$625,MONTH($B151),Einzelposten!$B$6:$B$625,DAY($B151)),2)","v":0},{"$f":"ROUND(SUMIFS(Einzelposten!$H$6:$H$625,Einzelposten!$C$6:$C$625,MONTH($B151),Einzelposten!$B$6:$B$625,DAY($B151)),2)","v":0},57.1]
[null,"2015-05-13",{"$f":"ROUND(SUMIFS(Einzelposten!$G$6:$G$625,Einzelposten!$C$6:$C$625,MONTH($B152),Einzelposten!$B$6:$B$625,DAY($B152)),2)","v":0},{"$f":"ROUND(SUMIFS(Einzelposten!$H$6:$H$625,Einzelposten!$C$6:$C$625,MONTH($B152),Einzelposten!$B$6:$B$625,DAY($B152)),2)","v":0},57.1]
[null,"2015-05-14",{"$f":"ROUND(SUMIFS(Einzelposten!$G$6:$G$625,Einzelposten!$C$6:$C$625,MONTH($B153),Einzelposten!$B$6:$B$625,DAY($B153)),2)","v":0},{"$f":"ROUND(SUMIFS(Einzelposten!$H$6:$H$625,Einzelposten!$C$6:$C$625,MONTH($B153),Einzelposten!$B$6:$B$625,DAY($B153)),2)","v":0},{"$f":"ROUND(E152+C153-D153,2)","v":57.1}]
[null,"2015-05-15",{"$f":"ROUND(SUMIFS(Einzelposten!$G$6:$G$625,Einzelposten!$C$6:$C$625,MONTH($B154),Einzelposten!$B$6:$B$625,DAY($B154)),2)","v":0},{"$f":"ROUND(SUMIFS(Einzelposten!$H$6:$H$625,Einzelposten!$C$6:$C$625,MONTH($B154),Einzelposten!$B$6:$B$625,DAY($B154)),2)","v":0},57.1]
[null,"2015-05-16",{"$f":"ROUND(SUMIFS(Einzelposten!$G$6:$G$625,Einzelposten!$C$6:$C$625,MONTH($B155),Einzelposten!$B$6:$B$625,DAY($B155)),2)","v":0},{"$f":"ROUND(SUMIFS(Einzelposten!$H$6:$H$625,Einzelposten!$C$6:$C$625,MONTH($B155),Einzelposten!$B$6:$B$625,DAY($B155)),2)","v":0},57.1]
[null,"2015-05-17",{"$f":"ROUND(SUMIFS(Einzelposten!$G$6:$G$625,Einzelposten!$C$6:$C$625,MONTH($B156),Einzelposten!$B$6:$B$625,DAY($B156)),2)","v":0},{"$f":"ROUND(SUMIFS(Einzelposten!$H$6:$H$625,Einzelposten!$C$6:$C$625,MONTH($B156),Einzelposten!$B$6:$B$625,DAY($B156)),2)","v":0},57.1]
[null,"2015-05-18",{"$f":"ROUND(SUMIFS(Einzelposten!$G$6:$G$625,Einzelposten!$C$6:$C$625,MONTH($B157),Einzelposten!$B$6:$B$625,DAY($B157)),2)","v":0},{"$f":"ROUND(SUMIFS(Einzelposten!$H$6:$H$625,Einzelposten!$C$6:$C$625,MONTH($B157),Einzelposten!$B$6:$B$625,DAY($B157)),2)","v":0},57.1]
[null,"2015-05-19",{"$f":"ROUND(SUMIFS(Einzelposten!$G$6:$G$625,Einzelposten!$C$6:$C$625,MONTH($B158),Einzelposten!$B$6:$B$625,DAY($B158)),2)","v":0},{"$f":"ROUND(SUMIFS(Einzelposten!$H$6:$H$625,Einzelposten!$C$6:$C$625,MONTH($B158),Einzelposten!$B$6:$B$625,DAY($B158)),2)","v":0},57.1]
[null,"2015-05-20",{"$f":"ROUND(SUMIFS(Einzelposten!$G$6:$G$625,Einzelposten!$C$6:$C$625,MONTH($B159),Einzelposten!$B$6:$B$625,DAY($B159)),2)","v":0},{"$f":"ROUND(SUMIFS(Einzelposten!$H$6:$H$625,Einzelposten!$C$6:$C$625,MONTH($B159),Einzelposten!$B$6:$B$625,DAY($B159)),2)","v":0},57.1]
[null,"2015-05-21",{"$f":"ROUND(SUMIFS(Einzelposten!$G$6:$G$625,Einzelposten!$C$6:$C$625,MONTH($B160),Einzelposten!$B$6:$B$625,DAY($B160)),2)","v":0},{"$f":"ROUND(SUMIFS(Einzelposten!$H$6:$H$625,Einzelposten!$C$6:$C$625,MONTH($B160),Einzelposten!$B$6:$B$625,DAY($B160)),2)","v":0},57.1]
[null,"2015-05-22",{"$f":"ROUND(SUMIFS(Einzelposten!$G$6:$G$625,Einzelposten!$C$6:$C$625,MONTH($B161),Einzelposten!$B$6:$B$625,DAY($B161)),2)","v":0},{"$f":"ROUND(SUMIFS(Einzelposten!$H$6:$H$625,Einzelposten!$C$6:$C$625,MONTH($B161),Einzelposten!$B$6:$B$625,DAY($B161)),2)","v":0},57.1]
[null,"2015-05-23",{"$f":"ROUND(SUMIFS(Einzelposten!$G$6:$G$625,Einzelposten!$C$6:$C$625,MONTH($B162),Einzelposten!$B$6:$B$625,DAY($B162)),2)","v":0},{"$f":"ROUND(SUMIFS(Einzelposten!$H$6:$H$625,Einzelposten!$C$6:$C$625,MONTH($B162),Einzelposten!$B$6:$B$625,DAY($B162)),2)","v":0},57.1]
[null,"2015-05-24",{"$f":"ROUND(SUMIFS(Einzelposten!$G$6:$G$625,Einzelposten!$C$6:$C$625,MONTH($B163),Einzelposten!$B$6:$B$625,DAY($B163)),2)","v":0},{"$f":"ROUND(SUMIFS(Einzelposten!$H$6:$H$625,Einzelposten!$C$6:$C$625,MONTH($B163),Einzelposten!$B$6:$B$625,DAY($B163)),2)","v":0},57.1]
[null,"2015-05-25",{"$f":"ROUND(SUMIFS(Einzelposten!$G$6:$G$625,Einzelposten!$C$6:$C$625,MONTH($B164),Einzelposten!$B$6:$B$625,DAY($B164)),2)","v":0},{"$f":"ROUND(SUMIFS(Einzelposten!$H$6:$H$625,Einzelposten!$C$6:$C$625,MONTH($B164),Einzelposten!$B$6:$B$625,DAY($B164)),2)","v":0},57.1]
[null,"2015-05-26",{"$f":"ROUND(SUMIFS(Einzelposten!$G$6:$G$625,Einzelposten!$C$6:$C$625,MONTH($B165),Einzelposten!$B$6:$B$625,DAY($B165)),2)","v":0},{"$f":"ROUND(SUMIFS(Einzelposten!$H$6:$H$625,Einzelposten!$C$6:$C$625,MONTH($B165),Einzelposten!$B$6:$B$625,DAY($B165)),2)","v":0},57.1]
[null,"2015-05-27",{"$f":"ROUND(SUMIFS(Einzelposten!$G$6:$G$625,Einzelposten!$C$6:$C$625,MONTH($B166),Einzelposten!$B$6:$B$625,DAY($B166)),2)","v":0},{"$f":"ROUND(SUMIFS(Einzelposten!$H$6:$H$625,Einzelposten!$C$6:$C$625,MONTH($B166),Einzelposten!$B$6:$B$625,DAY($B166)),2)","v":0},57.1]
[null,"2015-05-28",{"$f":"ROUND(SUMIFS(Einzelposten!$G$6:$G$625,Einzelposten!$C$6:$C$625,MONTH($B167),Einzelposten!$B$6:$B$625,DAY($B167)),2)","v":0},{"$f":"ROUND(SUMIFS(Einzelposten!$H$6:$H$625,Einzelposten!$C$6:$C$625,MONTH($B167),Einzelposten!$B$6:$B$625,DAY($B167)),2)","v":0},57.1]
[null,"2015-05-29",{"$f":"ROUND(SUMIFS(Einzelposten!$G$6:$G$625,Einzelposten!$C$6:$C$625,MONTH($B168),Einzelposten!$B$6:$B$625,DAY($B168)),2)","v":0},{"$f":"ROUND(SUMIFS(Einzelposten!$H$6:$H$625,Einzelposten!$C$6:$C$625,MONTH($B168),Einzelposten!$B$6:$B$625,DAY($B168)),2)","v":0},57.1]
[null,"2015-05-30",{"$f":"ROUND(SUMIFS(Einzelposten!$G$6:$G$625,Einzelposten!$C$6:$C$625,MONTH($B169),Einzelposten!$B$6:$B$625,DAY($B169)),2)","v":0},{"$f":"ROUND(SUMIFS(Einzelposten!$H$6:$H$625,Einzelposten!$C$6:$C$625,MONTH($B169),Einzelposten!$B$6:$B$625,DAY($B169)),2)","v":0},57.1]
[null,"2015-05-31",{"$f":"ROUND(SUMIFS(Einzelposten!$G$6:$G$625,Einzelposten!$C$6:$C$625,MONTH($B170),Einzelposten!$B$6:$B$625,DAY($B170)),2)","v":0},{"$f":"ROUND(SUMIFS(Einzelposten!$H$6:$H$625,Einzelposten!$C$6:$C$625,MONTH($B170),Einzelposten!$B$6:$B$625,DAY($B170)),2)","v":0},57.1]
[null,"2015-06-01",{"$f":"ROUND(SUMIFS(Einzelposten!$G$6:$G$625,Einzelposten!$C$6:$C$625,MONTH($B171),Einzelposten!$B$6:$B$625,DAY($B171)),2)","v":0},{"$f":"ROUND(SUMIFS(Einzelposten!$H$6:$H$625,Einzelposten!$C$6:$C$625,MONTH($B171),Einzelposten!$B$6:$B$625,DAY($B171)),2)","v":0},57.1]
[null,"2015-06-02",{"$f":"ROUND(SUMIFS(Einzelposten!$G$6:$G$625,Einzelposten!$C$6:$C$625,MONTH($B172),Einzelposten!$B$6:$B$625,DAY($B172)),2)","v":0},{"$f":"ROUND(SUMIFS(Einzelposten!$H$6:$H$625,Einzelposten!$C$6:$C$625,MONTH($B172),Einzelposten!$B$6:$B$625,DAY($B172)),2)","v":0},57.1]
[null,"2015-06-03",{"$f":"ROUND(SUMIFS(Einzelposten!$G$6:$G$625,Einzelposten!$C$6:$C$625,MONTH($B173),Einzelposten!$B$6:$B$625,DAY($B173)),2)","v":0},{"$f":"ROUND(SUMIFS(Einzelposten!$H$6:$H$625,Einzelposten!$C$6:$C$625,MONTH($B173),Einzelposten!$B$6:$B$625,DAY($B173)),2)","v":0},57.1]
[null,"2015-06-04",{"$f":"ROUND(SUMIFS(Einzelposten!$G$6:$G$625,Einzelposten!$C$6:$C$625,MONTH($B174),Einzelposten!$B$6:$B$625,DAY($B174)),2)","v":0},{"$f":"ROUND(SUMIFS(Einzelposten!$H$6:$H$625,Einzelposten!$C$6:$C$625,MONTH($B174),Einzelposten!$B$6:$B$625,DAY($B174)),2)","v":0},57.1]
[null,"2015-06-05",{"$f":"ROUND(SUMIFS(Einzelposten!$G$6:$G$625,Einzelposten!$C$6:$C$625,MONTH($B175),Einzelposten!$B$6:$B$625,DAY($B175)),2)","v":0},{"$f":"ROUND(SUMIFS(Einzelposten!$H$6:$H$625,Einzelposten!$C$6:$C$625,MONTH($B175),Einzelposten!$B$6:$B$625,DAY($B175)),2)","v":0},57.1]
[null,"2015-06-06",{"$f":"ROUND(SUMIFS(Einzelposten!$G$6:$G$625,Einzelposten!$C$6:$C$625,MONTH($B176),Einzelposten!$B$6:$B$625,DAY($B176)),2)","v":0},{"$f":"ROUND(SUMIFS(Einzelposten!$H$6:$H$625,Einzelposten!$C$6:$C$625,MONTH($B176),Einzelposten!$B$6:$B$625,DAY($B176)),2)","v":0},57.1]
[null,"2015-06-07",{"$f":"ROUND(SUMIFS(Einzelposten!$G$6:$G$625,Einzelposten!$C$6:$C$625,MONTH($B177),Einzelposten!$B$6:$B$625,DAY($B177)),2)","v":0},{"$f":"ROUND(SUMIFS(Einzelposten!$H$6:$H$625,Einzelposten!$C$6:$C$625,MONTH($B177),Einzelposten!$B$6:$B$625,DAY($B177)),2)","v":0},57.1]
[null,"2015-06-08",{"$f":"ROUND(SUMIFS(Einzelposten!$G$6:$G$625,Einzelposten!$C$6:$C$625,MONTH($B178),Einzelposten!$B$6:$B$625,DAY($B178)),2)","v":0},{"$f":"ROUND(SUMIFS(Einzelposten!$H$6:$H$625,Einzelposten!$C$6:$C$625,MONTH($B178),Einzelposten!$B$6:$B$625,DAY($B178)),2)","v":0},57.1]
[null,"2015-06-09",{"$f":"ROUND(SUMIFS(Einzelposten!$G$6:$G$625,Einzelposten!$C$6:$C$625,MONTH($B179),Einzelposten!$B$6:$B$625,DAY($B179)),2)","v":0},{"$f":"ROUND(SUMIFS(Einzelposten!$H$6:$H$625,Einzelposten!$C$6:$C$625,MONTH($B179),Einzelposten!$B$6:$B$625,DAY($B179)),2)","v":0},57.1]
[null,"2015-06-10",{"$f":"ROUND(SUMIFS(Einzelposten!$G$6:$G$625,Einzelposten!$C$6:$C$625,MONTH($B180),Einzelposten!$B$6:$B$625,DAY($B180)),2)","v":0},{"$f":"ROUND(SUMIFS(Einzelposten!$H$6:$H$625,Einzelposten!$C$6:$C$625,MONTH($B180),Einzelposten!$B$6:$B$625,DAY($B180)),2)","v":0},57.1]
[null,"2015-06-11",{"$f":"ROUND(SUMIFS(Einzelposten!$G$6:$G$625,Einzelposten!$C$6:$C$625,MONTH($B181),Einzelposten!$B$6:$B$625,DAY($B181)),2)","v":0},{"$f":"ROUND(SUMIFS(Einzelposten!$H$6:$H$625,Einzelposten!$C$6:$C$625,MONTH($B181),Einzelposten!$B$6:$B$625,DAY($B181)),2)","v":0},57.1]
[null,"2015-06-12",{"$f":"ROUND(SUMIFS(Einzelposten!$G$6:$G$625,Einzelposten!$C$6:$C$625,MONTH($B182),Einzelposten!$B$6:$B$625,DAY($B182)),2)","v":0},{"$f":"ROUND(SUMIFS(Einzelposten!$H$6:$H$625,Einzelposten!$C$6:$C$625,MONTH($B182),Einzelposten!$B$6:$B$625,DAY($B182)),2)","v":0},57.1]
[null,"2015-06-13",{"$f":"ROUND(SUMIFS(Einzelposten!$G$6:$G$625,Einzelposten!$C$6:$C$625,MONTH($B183),Einzelposten!$B$6:$B$625,DAY($B183)),2)","v":0},{"$f":"ROUND(SUMIFS(Einzelposten!$H$6:$H$625,Einzelposten!$C$6:$C$625,MONTH($B183),Einzelposten!$B$6:$B$625,DAY($B183)),2)","v":0},57.1]
[null,"2015-06-14",{"$f":"ROUND(SUMIFS(Einzelposten!$G$6:$G$625,Einzelposten!$C$6:$C$625,MONTH($B184),Einzelposten!$B$6:$B$625,DAY($B184)),2)","v":0},{"$f":"ROUND(SUMIFS(Einzelposten!$H$6:$H$625,Einzelposten!$C$6:$C$625,MONTH($B184),Einzelposten!$B$6:$B$625,DAY($B184)),2)","v":0},57.1]
[null,"2015-06-15",{"$f":"ROUND(SUMIFS(Einzelposten!$G$6:$G$625,Einzelposten!$C$6:$C$625,MONTH($B185),Einzelposten!$B$6:$B$625,DAY($B185)),2)","v":0},{"$f":"ROUND(SUMIFS(Einzelposten!$H$6:$H$625,Einzelposten!$C$6:$C$625,MONTH($B185),Einzelposten!$B$6:$B$625,DAY($B185)),2)","v":0},57.1]
[null,"2015-06-16",{"$f":"ROUND(SUMIFS(Einzelposten!$G$6:$G$625,Einzelposten!$C$6:$C$625,MONTH($B186),Einzelposten!$B$6:$B$625,DAY($B186)),2)","v":0},{"$f":"ROUND(SUMIFS(Einzelposten!$H$6:$H$625,Einzelposten!$C$6:$C$625,MONTH($B186),Einzelposten!$B$6:$B$625,DAY($B186)),2)","v":0},57.1]
[null,"2015-06-17",{"$f":"ROUND(SUMIFS(Einzelposten!$G$6:$G$625,Einzelposten!$C$6:$C$625,MONTH($B187),Einzelposten!$B$6:$B$625,DAY($B187)),2)","v":0},{"$f":"ROUND(SUMIFS(Einzelposten!$H$6:$H$625,Einzelposten!$C$6:$C$625,MONTH($B187),Einzelposten!$B$6:$B$625,DAY($B187)),2)","v":0},57.1]
[null,"2015-06-18",{"$f":"ROUND(SUMIFS(Einzelposten!$G$6:$G$625,Einzelposten!$C$6:$C$625,MONTH($B188),Einzelposten!$B$6:$B$625,DAY($B188)),2)","v":0},{"$f":"ROUND(SUMIFS(Einzelposten!$H$6:$H$625,Einzelposten!$C$6:$C$625,MONTH($B188),Einzelposten!$B$6:$B$625,DAY($B188)),2)","v":0},57.1]
[null,"2015-06-19",{"$f":"ROUND(SUMIFS(Einzelposten!$G$6:$G$625,Einzelposten!$C$6:$C$625,MONTH($B189),Einzelposten!$B$6:$B$625,DAY($B189)),2)","v":0},{"$f":"ROUND(SUMIFS(Einzelposten!$H$6:$H$625,Einzelposten!$C$6:$C$625,MONTH($B189),Einzelposten!$B$6:$B$625,DAY($B189)),2)","v":0},57.1]
[null,"2015-06-20",{"$f":"ROUND(SUMIFS(Einzelposten!$G$6:$G$625,Einzelposten!$C$6:$C$625,MONTH($B190),Einzelposten!$B$6:$B$625,DAY($B190)),2)","v":0},{"$f":"ROUND(SUMIFS(Einzelposten!$H$6:$H$625,Einzelposten!$C$6:$C$625,MONTH($B190),Einzelposten!$B$6:$B$625,DAY($B190)),2)","v":0},57.1]
[null,"2015-06-21",{"$f":"ROUND(SUMIFS(Einzelposten!$G$6:$G$625,Einzelposten!$C$6:$C$625,MONTH($B191),Einzelposten!$B$6:$B$625,DAY($B191)),2)","v":0},{"$f":"ROUND(SUMIFS(Einzelposten!$H$6:$H$625,Einzelposten!$C$6:$C$625,MONTH($B191),Einzelposten!$B$6:$B$625,DAY($B191)),2)","v":0},57.1]
[null,"2015-06-22",{"$f":"ROUND(SUMIFS(Einzelposten!$G$6:$G$625,Einzelposten!$C$6:$C$625,MONTH($B192),Einzelposten!$B$6:$B$625,DAY($B192)),2)","v":0},{"$f":"ROUND(SUMIFS(Einzelposten!$H$6:$H$625,Einzelposten!$C$6:$C$625,MONTH($B192),Einzelposten!$B$6:$B$625,DAY($B192)),2)","v":0},57.1]
[null,"2015-06-23",{"$f":"ROUND(SUMIFS(Einzelposten!$G$6:$G$625,Einzelposten!$C$6:$C$625,MONTH($B193),Einzelposten!$B$6:$B$625,DAY($B193)),2)","v":0},{"$f":"ROUND(SUMIFS(Einzelposten!$H$6:$H$625,Einzelposten!$C$6:$C$625,MONTH($B193),Einzelposten!$B$6:$B$625,DAY($B193)),2)","v":0},57.1]
[null,"2015-06-24",{"$f":"ROUND(SUMIFS(Einzelposten!$G$6:$G$625,Einzelposten!$C$6:$C$625,MONTH($B194),Einzelposten!$B$6:$B$625,DAY($B194)),2)","v":0},{"$f":"ROUND(SUMIFS(Einzelposten!$H$6:$H$625,Einzelposten!$C$6:$C$625,MONTH($B194),Einzelposten!$B$6:$B$625,DAY($B194)),2)","v":0},57.1]
[null,"2015-06-25",{"$f":"ROUND(SUMIFS(Einzelposten!$G$6:$G$625,Einzelposten!$C$6:$C$625,MONTH($B195),Einzelposten!$B$6:$B$625,DAY($B195)),2)","v":0},{"$f":"ROUND(SUMIFS(Einzelposten!$H$6:$H$625,Einzelposten!$C$6:$C$625,MONTH($B195),Einzelposten!$B$6:$B$625,DAY($B195)),2)","v":0},57.1]
[null,"2015-06-26",{"$f":"ROUND(SUMIFS(Einzelposten!$G$6:$G$625,Einzelposten!$C$6:$C$625,MONTH($B196),Einzelposten!$B$6:$B$625,DAY($B196)),2)","v":0},{"$f":"ROUND(SUMIFS(Einzelposten!$H$6:$H$625,Einzelposten!$C$6:$C$625,MONTH($B196),Einzelposten!$B$6:$B$625,DAY($B196)),2)","v":0},57.1]
[null,"2015-06-27",{"$f":"ROUND(SUMIFS(Einzelposten!$G$6:$G$625,Einzelposten!$C$6:$C$625,MONTH($B197),Einzelposten!$B$6:$B$625,DAY($B197)),2)","v":0},{"$f":"ROUND(SUMIFS(Einzelposten!$H$6:$H$625,Einzelposten!$C$6:$C$625,MONTH($B197),Einzelposten!$B$6:$B$625,DAY($B197)),2)","v":0},57.1]
[null,"2015-06-28",{"$f":"ROUND(SUMIFS(Einzelposten!$G$6:$G$625,Einzelposten!$C$6:$C$625,MONTH($B198),Einzelposten!$B$6:$B$625,DAY($B198)),2)","v":0},{"$f":"ROUND(SUMIFS(Einzelposten!$H$6:$H$625,Einzelposten!$C$6:$C$625,MONTH($B198),Einzelposten!$B$6:$B$625,DAY($B198)),2)","v":0},57.1]
[null,"2015-06-29",{"$f":"ROUND(SUMIFS(Einzelposten!$G$6:$G$625,Einzelposten!$C$6:$C$625,MONTH($B199),Einzelposten!$B$6:$B$625,DAY($B199)),2)","v":0},{"$f":"ROUND(SUMIFS(Einzelposten!$H$6:$H$625,Einzelposten!$C$6:$C$625,MONTH($B199),Einzelposten!$B$6:$B$625,DAY($B199)),2)","v":0},57.1]
[null,"2015-06-30",{"$f":"ROUND(SUMIFS(Einzelposten!$G$6:$G$625,Einzelposten!$C$6:$C$625,MONTH($B200),Einzelposten!$B$6:$B$625,DAY($B200)),2)","v":0},{"$f":"ROUND(SUMIFS(Einzelposten!$H$6:$H$625,Einzelposten!$C$6:$C$625,MONTH($B200),Einzelposten!$B$6:$B$625,DAY($B200)),2)","v":0},57.1]
[null,"2015-07-01",{"$f":"ROUND(SUMIFS(Einzelposten!$G$6:$G$625,Einzelposten!$C$6:$C$625,MONTH($B201),Einzelposten!$B$6:$B$625,DAY($B201)),2)","v":0},{"$f":"ROUND(SUMIFS(Einzelposten!$H$6:$H$625,Einzelposten!$C$6:$C$625,MONTH($B201),Einzelposten!$B$6:$B$625,DAY($B201)),2)","v":0},57.1]
[null,"2015-07-02",{"$f":"ROUND(SUMIFS(Einzelposten!$G$6:$G$625,Einzelposten!$C$6:$C$625,MONTH($B202),Einzelposten!$B$6:$B$625,DAY($B202)),2)","v":0},{"$f":"ROUND(SUMIFS(Einzelposten!$H$6:$H$625,Einzelposten!$C$6:$C$625,MONTH($B202),Einzelposten!$B$6:$B$625,DAY($B202)),2)","v":0},57.1]
[null,"2015-07-03",{"$f":"ROUND(SUMIFS(Einzelposten!$G$6:$G$625,Einzelposten!$C$6:$C$625,MONTH($B203),Einzelposten!$B$6:$B$625,DAY($B203)),2)","v":0},{"$f":"ROUND(SUMIFS(Einzelposten!$H$6:$H$625,Einzelposten!$C$6:$C$625,MONTH($B203),Einzelposten!$B$6:$B$625,DAY($B203)),2)","v":0},57.1]
[null,"2015-07-04",{"$f":"ROUND(SUMIFS(Einzelposten!$G$6:$G$625,Einzelposten!$C$6:$C$625,MONTH($B204),Einzelposten!$B$6:$B$625,DAY($B204)),2)","v":0},{"$f":"ROUND(SUMIFS(Einzelposten!$H$6:$H$625,Einzelposten!$C$6:$C$625,MONTH($B204),Einzelposten!$B$6:$B$625,DAY($B204)),2)","v":0},57.1]
[null,"2015-07-05",{"$f":"ROUND(SUMIFS(Einzelposten!$G$6:$G$625,Einzelposten!$C$6:$C$625,MONTH($B205),Einzelposten!$B$6:$B$625,DAY($B205)),2)","v":0},{"$f":"ROUND(SUMIFS(Einzelposten!$H$6:$H$625,Einzelposten!$C$6:$C$625,MONTH($B205),Einzelposten!$B$6:$B$625,DAY($B205)),2)","v":0},57.1]
[null,"2015-07-06",{"$f":"ROUND(SUMIFS(Einzelposten!$G$6:$G$625,Einzelposten!$C$6:$C$625,MONTH($B206),Einzelposten!$B$6:$B$625,DAY($B206)),2)","v":0},{"$f":"ROUND(SUMIFS(Einzelposten!$H$6:$H$625,Einzelposten!$C$6:$C$625,MONTH($B206),Einzelposten!$B$6:$B$625,DAY($B206)),2)","v":0},57.1]
[null,"2015-07-07",{"$f":"ROUND(SUMIFS(Einzelposten!$G$6:$G$625,Einzelposten!$C$6:$C$625,MONTH($B207),Einzelposten!$B$6:$B$625,DAY($B207)),2)","v":0},{"$f":"ROUND(SUMIFS(Einzelposten!$H$6:$H$625,Einzelposten!$C$6:$C$625,MONTH($B207),Einzelposten!$B$6:$B$625,DAY($B207)),2)","v":0},57.1]
[null,"2015-07-08",{"$f":"ROUND(SUMIFS(Einzelposten!$G$6:$G$625,Einzelposten!$C$6:$C$625,MONTH($B208),Einzelposten!$B$6:$B$625,DAY($B208)),2)","v":0},{"$f":"ROUND(SUMIFS(Einzelposten!$H$6:$H$625,Einzelposten!$C$6:$C$625,MONTH($B208),Einzelposten!$B$6:$B$625,DAY($B208)),2)","v":0},57.1]
[null,"2015-07-09",{"$f":"ROUND(SUMIFS(Einzelposten!$G$6:$G$625,Einzelposten!$C$6:$C$625,MONTH($B209),Einzelposten!$B$6:$B$625,DAY($B209)),2)","v":0},{"$f":"ROUND(SUMIFS(Einzelposten!$H$6:$H$625,Einzelposten!$C$6:$C$625,MONTH($B209),Einzelposten!$B$6:$B$625,DAY($B209)),2)","v":0},57.1]
[null,"2015-07-10",{"$f":"ROUND(SUMIFS(Einzelposten!$G$6:$G$625,Einzelposten!$C$6:$C$625,MONTH($B210),Einzelposten!$B$6:$B$625,DAY($B210)),2)","v":0},{"$f":"ROUND(SUMIFS(Einzelposten!$H$6:$H$625,Einzelposten!$C$6:$C$625,MONTH($B210),Einzelposten!$B$6:$B$625,DAY($B210)),2)","v":0},57.1]
[null,"2015-07-11",{"$f":"ROUND(SUMIFS(Einzelposten!$G$6:$G$625,Einzelposten!$C$6:$C$625,MONTH($B211),Einzelposten!$B$6:$B$625,DAY($B211)),2)","v":0},{"$f":"ROUND(SUMIFS(Einzelposten!$H$6:$H$625,Einzelposten!$C$6:$C$625,MONTH($B211),Einzelposten!$B$6:$B$625,DAY($B211)),2)","v":0},57.1]
[null,"2015-07-12",{"$f":"ROUND(SUMIFS(Einzelposten!$G$6:$G$625,Einzelposten!$C$6:$C$625,MONTH($B212),Einzelposten!$B$6:$B$625,DAY($B212)),2)","v":0},{"$f":"ROUND(SUMIFS(Einzelposten!$H$6:$H$625,Einzelposten!$C$6:$C$625,MONTH($B212),Einzelposten!$B$6:$B$625,DAY($B212)),2)","v":0},57.1]
[null,"2015-07-13",{"$f":"ROUND(SUMIFS(Einzelposten!$G$6:$G$625,Einzelposten!$C$6:$C$625,MONTH($B213),Einzelposten!$B$6:$B$625,DAY($B213)),2)","v":0},{"$f":"ROUND(SUMIFS(Einzelposten!$H$6:$H$625,Einzelposten!$C$6:$C$625,MONTH($B213),Einzelposten!$B$6:$B$625,DAY($B213)),2)","v":0},57.1]
[null,"2015-07-14",{"$f":"ROUND(SUMIFS(Einzelposten!$G$6:$G$625,Einzelposten!$C$6:$C$625,MONTH($B214),Einzelposten!$B$6:$B$625,DAY($B214)),2)","v":0},{"$f":"ROUND(SUMIFS(Einzelposten!$H$6:$H$625,Einzelposten!$C$6:$C$625,MONTH($B214),Einzelposten!$B$6:$B$625,DAY($B214)),2)","v":0},57.1]
[null,"2015-07-15",{"$f":"ROUND(SUMIFS(Einzelposten!$G$6:$G$625,Einzelposten!$C$6:$C$625,MONTH($B215),Einzelposten!$B$6:$B$625,DAY($B215)),2)","v":0},{"$f":"ROUND(SUMIFS(Einzelposten!$H$6:$H$625,Einzelposten!$C$6:$C$625,MONTH($B215),Einzelposten!$B$6:$B$625,DAY($B215)),2)","v":0},57.1]
[null,"2015-07-16",{"$f":"ROUND(SUMIFS(Einzelposten!$G$6:$G$625,Einzelposten!$C$6:$C$625,MONTH($B216),Einzelposten!$B$6:$B$625,DAY($B216)),2)","v":0},{"$f":"ROUND(SUMIFS(Einzelposten!$H$6:$H$625,Einzelposten!$C$6:$C$625,MONTH($B216),Einzelposten!$B$6:$B$625,DAY($B216)),2)","v":0},57.1]
[null,"2015-07-17",{"$f":"ROUND(SUMIFS(Einzelposten!$G$6:$G$625,Einzelposten!$C$6:$C$625,MONTH($B217),Einzelposten!$B$6:$B$625,DAY($B217)),2)","v":0},{"$f":"ROUND(SUMIFS(Einzelposten!$H$6:$H$625,Einzelposten!$C$6:$C$625,MONTH($B217),Einzelposten!$B$6:$B$625,DAY($B217)),2)","v":0},{"$f":"ROUND(E216+C217-D217,2)","v":57.1}]
[null,"2015-07-18",{"$f":"ROUND(SUMIFS(Einzelposten!$G$6:$G$625,Einzelposten!$C$6:$C$625,MONTH($B218),Einzelposten!$B$6:$B$625,DAY($B218)),2)","v":0},{"$f":"ROUND(SUMIFS(Einzelposten!$H$6:$H$625,Einzelposten!$C$6:$C$625,MONTH($B218),Einzelposten!$B$6:$B$625,DAY($B218)),2)","v":0},57.1]
[null,"2015-07-19",{"$f":"ROUND(SUMIFS(Einzelposten!$G$6:$G$625,Einzelposten!$C$6:$C$625,MONTH($B219),Einzelposten!$B$6:$B$625,DAY($B219)),2)","v":0},{"$f":"ROUND(SUMIFS(Einzelposten!$H$6:$H$625,Einzelposten!$C$6:$C$625,MONTH($B219),Einzelposten!$B$6:$B$625,DAY($B219)),2)","v":0},57.1]
[null,"2015-07-20",{"$f":"ROUND(SUMIFS(Einzelposten!$G$6:$G$625,Einzelposten!$C$6:$C$625,MONTH($B220),Einzelposten!$B$6:$B$625,DAY($B220)),2)","v":0},{"$f":"ROUND(SUMIFS(Einzelposten!$H$6:$H$625,Einzelposten!$C$6:$C$625,MONTH($B220),Einzelposten!$B$6:$B$625,DAY($B220)),2)","v":0},57.1]
[null,"2015-07-21",{"$f":"ROUND(SUMIFS(Einzelposten!$G$6:$G$625,Einzelposten!$C$6:$C$625,MONTH($B221),Einzelposten!$B$6:$B$625,DAY($B221)),2)","v":0},{"$f":"ROUND(SUMIFS(Einzelposten!$H$6:$H$625,Einzelposten!$C$6:$C$625,MONTH($B221),Einzelposten!$B$6:$B$625,DAY($B221)),2)","v":0},57.1]
[null,"2015-07-22",{"$f":"ROUND(SUMIFS(Einzelposten!$G$6:$G$625,Einzelposten!$C$6:$C$625,MONTH($B222),Einzelposten!$B$6:$B$625,DAY($B222)),2)","v":0},{"$f":"ROUND(SUMIFS(Einzelposten!$H$6:$H$625,Einzelposten!$C$6:$C$625,MONTH($B222),Einzelposten!$B$6:$B$625,DAY($B222)),2)","v":0},57.1]
[null,"2015-07-23",{"$f":"ROUND(SUMIFS(Einzelposten!$G$6:$G$625,Einzelposten!$C$6:$C$625,MONTH($B223),Einzelposten!$B$6:$B$625,DAY($B223)),2)","v":0},{"$f":"ROUND(SUMIFS(Einzelposten!$H$6:$H$625,Einzelposten!$C$6:$C$625,MONTH($B223),Einzelposten!$B$6:$B$625,DAY($B223)),2)","v":0},57.1]
[null,"2015-07-24",{"$f":"ROUND(SUMIFS(Einzelposten!$G$6:$G$625,Einzelposten!$C$6:$C$625,MONTH($B224),Einzelposten!$B$6:$B$625,DAY($B224)),2)","v":0},{"$f":"ROUND(SUMIFS(Einzelposten!$H$6:$H$625,Einzelposten!$C$6:$C$625,MONTH($B224),Einzelposten!$B$6:$B$625,DAY($B224)),2)","v":0},57.1]
[null,"2015-07-25",{"$f":"ROUND(SUMIFS(Einzelposten!$G$6:$G$625,Einzelposten!$C$6:$C$625,MONTH($B225),Einzelposten!$B$6:$B$625,DAY($B225)),2)","v":0},{"$f":"ROUND(SUMIFS(Einzelposten!$H$6:$H$625,Einzelposten!$C$6:$C$625,MONTH($B225),Einzelposten!$B$6:$B$625,DAY($B225)),2)","v":0},57.1]
[null,"2015-07-26",{"$f":"ROUND(SUMIFS(Einzelposten!$G$6:$G$625,Einzelposten!$C$6:$C$625,MONTH($B226),Einzelposten!$B$6:$B$625,DAY($B226)),2)","v":0},{"$f":"ROUND(SUMIFS(Einzelposten!$H$6:$H$625,Einzelposten!$C$6:$C$625,MONTH($B226),Einzelposten!$B$6:$B$625,DAY($B226)),2)","v":0},57.1]
[null,"2015-07-27",{"$f":"ROUND(SUMIFS(Einzelposten!$G$6:$G$625,Einzelposten!$C$6:$C$625,MONTH($B227),Einzelposten!$B$6:$B$625,DAY($B227)),2)","v":0},{"$f":"ROUND(SUMIFS(Einzelposten!$H$6:$H$625,Einzelposten!$C$6:$C$625,MONTH($B227),Einzelposten!$B$6:$B$625,DAY($B227)),2)","v":0},57.1]
[null,"2015-07-28",{"$f":"ROUND(SUMIFS(Einzelposten!$G$6:$G$625,Einzelposten!$C$6:$C$625,MONTH($B228),Einzelposten!$B$6:$B$625,DAY($B228)),2)","v":0},{"$f":"ROUND(SUMIFS(Einzelposten!$H$6:$H$625,Einzelposten!$C$6:$C$625,MONTH($B228),Einzelposten!$B$6:$B$625,DAY($B228)),2)","v":0},57.1]
[null,"2015-07-29",{"$f":"ROUND(SUMIFS(Einzelposten!$G$6:$G$625,Einzelposten!$C$6:$C$625,MONTH($B229),Einzelposten!$B$6:$B$625,DAY($B229)),2)","v":0},{"$f":"ROUND(SUMIFS(Einzelposten!$H$6:$H$625,Einzelposten!$C$6:$C$625,MONTH($B229),Einzelposten!$B$6:$B$625,DAY($B229)),2)","v":0},57.1]
[null,"2015-07-30",{"$f":"ROUND(SUMIFS(Einzelposten!$G$6:$G$625,Einzelposten!$C$6:$C$625,MONTH($B230),Einzelposten!$B$6:$B$625,DAY($B230)),2)","v":0},{"$f":"ROUND(SUMIFS(Einzelposten!$H$6:$H$625,Einzelposten!$C$6:$C$625,MONTH($B230),Einzelposten!$B$6:$B$625,DAY($B230)),2)","v":0},57.1]
[null,"2015-07-31",{"$f":"ROUND(SUMIFS(Einzelposten!$G$6:$G$625,Einzelposten!$C$6:$C$625,MONTH($B231),Einzelposten!$B$6:$B$625,DAY($B231)),2)","v":0},{"$f":"ROUND(SUMIFS(Einzelposten!$H$6:$H$625,Einzelposten!$C$6:$C$625,MONTH($B231),Einzelposten!$B$6:$B$625,DAY($B231)),2)","v":0},57.1]
[null,"2015-08-01",{"$f":"ROUND(SUMIFS(Einzelposten!$G$6:$G$625,Einzelposten!$C$6:$C$625,MONTH($B232),Einzelposten!$B$6:$B$625,DAY($B232)),2)","v":0},{"$f":"ROUND(SUMIFS(Einzelposten!$H$6:$H$625,Einzelposten!$C$6:$C$625,MONTH($B232),Einzelposten!$B$6:$B$625,DAY($B232)),2)","v":0},57.1]
[null,"2015-08-02",{"$f":"ROUND(SUMIFS(Einzelposten!$G$6:$G$625,Einzelposten!$C$6:$C$625,MONTH($B233),Einzelposten!$B$6:$B$625,DAY($B233)),2)","v":0},{"$f":"ROUND(SUMIFS(Einzelposten!$H$6:$H$625,Einzelposten!$C$6:$C$625,MONTH($B233),Einzelposten!$B$6:$B$625,DAY($B233)),2)","v":0},57.1]
[null,"2015-08-03",{"$f":"ROUND(SUMIFS(Einzelposten!$G$6:$G$625,Einzelposten!$C$6:$C$625,MONTH($B234),Einzelposten!$B$6:$B$625,DAY($B234)),2)","v":0},{"$f":"ROUND(SUMIFS(Einzelposten!$H$6:$H$625,Einzelposten!$C$6:$C$625,MONTH($B234),Einzelposten!$B$6:$B$625,DAY($B234)),2)","v":0},57.1]
[null,"2015-08-04",{"$f":"ROUND(SUMIFS(Einzelposten!$G$6:$G$625,Einzelposten!$C$6:$C$625,MONTH($B235),Einzelposten!$B$6:$B$625,DAY($B235)),2)","v":0},{"$f":"ROUND(SUMIFS(Einzelposten!$H$6:$H$625,Einzelposten!$C$6:$C$625,MONTH($B235),Einzelposten!$B$6:$B$625,DAY($B235)),2)","v":0},57.1]
[null,"2015-08-05",{"$f":"ROUND(SUMIFS(Einzelposten!$G$6:$G$625,Einzelposten!$C$6:$C$625,MONTH($B236),Einzelposten!$B$6:$B$625,DAY($B236)),2)","v":0},{"$f":"ROUND(SUMIFS(Einzelposten!$H$6:$H$625,Einzelposten!$C$6:$C$625,MONTH($B236),Einzelposten!$B$6:$B$625,DAY($B236)),2)","v":0},57.1]
[null,"2015-08-06",{"$f":"ROUND(SUMIFS(Einzelposten!$G$6:$G$625,Einzelposten!$C$6:$C$625,MONTH($B237),Einzelposten!$B$6:$B$625,DAY($B237)),2)","v":0},{"$f":"ROUND(SUMIFS(Einzelposten!$H$6:$H$625,Einzelposten!$C$6:$C$625,MONTH($B237),Einzelposten!$B$6:$B$625,DAY($B237)),2)","v":0},57.1]
[null,"2015-08-07",{"$f":"ROUND(SUMIFS(Einzelposten!$G$6:$G$625,Einzelposten!$C$6:$C$625,MONTH($B238),Einzelposten!$B$6:$B$625,DAY($B238)),2)","v":0},{"$f":"ROUND(SUMIFS(Einzelposten!$H$6:$H$625,Einzelposten!$C$6:$C$625,MONTH($B238),Einzelposten!$B$6:$B$625,DAY($B238)),2)","v":0},57.1]
[null,"2015-08-08",{"$f":"ROUND(SUMIFS(Einzelposten!$G$6:$G$625,Einzelposten!$C$6:$C$625,MONTH($B239),Einzelposten!$B$6:$B$625,DAY($B239)),2)","v":0},{"$f":"ROUND(SUMIFS(Einzelposten!$H$6:$H$625,Einzelposten!$C$6:$C$625,MONTH($B239),Einzelposten!$B$6:$B$625,DAY($B239)),2)","v":0},57.1]
[null,"2015-08-09",{"$f":"ROUND(SUMIFS(Einzelposten!$G$6:$G$625,Einzelposten!$C$6:$C$625,MONTH($B240),Einzelposten!$B$6:$B$625,DAY($B240)),2)","v":0},{"$f":"ROUND(SUMIFS(Einzelposten!$H$6:$H$625,Einzelposten!$C$6:$C$625,MONTH($B240),Einzelposten!$B$6:$B$625,DAY($B240)),2)","v":0},57.1]
[null,"2015-08-10",{"$f":"ROUND(SUMIFS(Einzelposten!$G$6:$G$625,Einzelposten!$C$6:$C$625,MONTH($B241),Einzelposten!$B$6:$B$625,DAY($B241)),2)","v":0},{"$f":"ROUND(SUMIFS(Einzelposten!$H$6:$H$625,Einzelposten!$C$6:$C$625,MONTH($B241),Einzelposten!$B$6:$B$625,DAY($B241)),2)","v":0},57.1]
[null,"2015-08-11",{"$f":"ROUND(SUMIFS(Einzelposten!$G$6:$G$625,Einzelposten!$C$6:$C$625,MONTH($B242),Einzelposten!$B$6:$B$625,DAY($B242)),2)","v":0},{"$f":"ROUND(SUMIFS(Einzelposten!$H$6:$H$625,Einzelposten!$C$6:$C$625,MONTH($B242),Einzelposten!$B$6:$B$625,DAY($B242)),2)","v":0},57.1]
[null,"2015-08-12",{"$f":"ROUND(SUMIFS(Einzelposten!$G$6:$G$625,Einzelposten!$C$6:$C$625,MONTH($B243),Einzelposten!$B$6:$B$625,DAY($B243)),2)","v":0},{"$f":"ROUND(SUMIFS(Einzelposten!$H$6:$H$625,Einzelposten!$C$6:$C$625,MONTH($B243),Einzelposten!$B$6:$B$625,DAY($B243)),2)","v":0},57.1]
[null,"2015-08-13",{"$f":"ROUND(SUMIFS(Einzelposten!$G$6:$G$625,Einzelposten!$C$6:$C$625,MONTH($B244),Einzelposten!$B$6:$B$625,DAY($B244)),2)","v":0},{"$f":"ROUND(SUMIFS(Einzelposten!$H$6:$H$625,Einzelposten!$C$6:$C$625,MONTH($B244),Einzelposten!$B$6:$B$625,DAY($B244)),2)","v":0},57.1]
[null,"2015-08-14",{"$f":"ROUND(SUMIFS(Einzelposten!$G$6:$G$625,Einzelposten!$C$6:$C$625,MONTH($B245),Einzelposten!$B$6:$B$625,DAY($B245)),2)","v":0},{"$f":"ROUND(SUMIFS(Einzelposten!$H$6:$H$625,Einzelposten!$C$6:$C$625,MONTH($B245),Einzelposten!$B$6:$B$625,DAY($B245)),2)","v":0},57.1]
[null,"2015-08-15",{"$f":"ROUND(SUMIFS(Einzelposten!$G$6:$G$625,Einzelposten!$C$6:$C$625,MONTH($B246),Einzelposten!$B$6:$B$625,DAY($B246)),2)","v":0},{"$f":"ROUND(SUMIFS(Einzelposten!$H$6:$H$625,Einzelposten!$C$6:$C$625,MONTH($B246),Einzelposten!$B$6:$B$625,DAY($B246)),2)","v":0},57.1]
[null,"2015-08-16",{"$f":"ROUND(SUMIFS(Einzelposten!$G$6:$G$625,Einzelposten!$C$6:$C$625,MONTH($B247),Einzelposten!$B$6:$B$625,DAY($B247)),2)","v":0},{"$f":"ROUND(SUMIFS(Einzelposten!$H$6:$H$625,Einzelposten!$C$6:$C$625,MONTH($B247),Einzelposten!$B$6:$B$625,DAY($B247)),2)","v":0},57.1]
[null,"2015-08-17",{"$f":"ROUND(SUMIFS(Einzelposten!$G$6:$G$625,Einzelposten!$C$6:$C$625,MONTH($B248),Einzelposten!$B$6:$B$625,DAY($B248)),2)","v":0},{"$f":"ROUND(SUMIFS(Einzelposten!$H$6:$H$625,Einzelposten!$C$6:$C$625,MONTH($B248),Einzelposten!$B$6:$B$625,DAY($B248)),2)","v":0},57.1]
[null,"2015-08-18",{"$f":"ROUND(SUMIFS(Einzelposten!$G$6:$G$625,Einzelposten!$C$6:$C$625,MONTH($B249),Einzelposten!$B$6:$B$625,DAY($B249)),2)","v":0},{"$f":"ROUND(SUMIFS(Einzelposten!$H$6:$H$625,Einzelposten!$C$6:$C$625,MONTH($B249),Einzelposten!$B$6:$B$625,DAY($B249)),2)","v":0},57.1]
[null,"2015-08-19",{"$f":"ROUND(SUMIFS(Einzelposten!$G$6:$G$625,Einzelposten!$C$6:$C$625,MONTH($B250),Einzelposten!$B$6:$B$625,DAY($B250)),2)","v":0},{"$f":"ROUND(SUMIFS(Einzelposten!$H$6:$H$625,Einzelposten!$C$6:$C$625,MONTH($B250),Einzelposten!$B$6:$B$625,DAY($B250)),2)","v":0},57.1]
[null,"2015-08-20",{"$f":"ROUND(SUMIFS(Einzelposten!$G$6:$G$625,Einzelposten!$C$6:$C$625,MONTH($B251),Einzelposten!$B$6:$B$625,DAY($B251)),2)","v":0},{"$f":"ROUND(SUMIFS(Einzelposten!$H$6:$H$625,Einzelposten!$C$6:$C$625,MONTH($B251),Einzelposten!$B$6:$B$625,DAY($B251)),2)","v":0},57.1]
[null,"2015-08-21",{"$f":"ROUND(SUMIFS(Einzelposten!$G$6:$G$625,Einzelposten!$C$6:$C$625,MONTH($B252),Einzelposten!$B$6:$B$625,DAY($B252)),2)","v":0},{"$f":"ROUND(SUMIFS(Einzelposten!$H$6:$H$625,Einzelposten!$C$6:$C$625,MONTH($B252),Einzelposten!$B$6:$B$625,DAY($B252)),2)","v":0},57.1]
[null,"2015-08-22",{"$f":"ROUND(SUMIFS(Einzelposten!$G$6:$G$625,Einzelposten!$C$6:$C$625,MONTH($B253),Einzelposten!$B$6:$B$625,DAY($B253)),2)","v":0},{"$f":"ROUND(SUMIFS(Einzelposten!$H$6:$H$625,Einzelposten!$C$6:$C$625,MONTH($B253),Einzelposten!$B$6:$B$625,DAY($B253)),2)","v":0},57.1]
[null,"2015-08-23",{"$f":"ROUND(SUMIFS(Einzelposten!$G$6:$G$625,Einzelposten!$C$6:$C$625,MONTH($B254),Einzelposten!$B$6:$B$625,DAY($B254)),2)","v":0},{"$f":"ROUND(SUMIFS(Einzelposten!$H$6:$H$625,Einzelposten!$C$6:$C$625,MONTH($B254),Einzelposten!$B$6:$B$625,DAY($B254)),2)","v":0},57.1]
[null,"2015-08-24",{"$f":"ROUND(SUMIFS(Einzelposten!$G$6:$G$625,Einzelposten!$C$6:$C$625,MONTH($B255),Einzelposten!$B$6:$B$625,DAY($B255)),2)","v":0},{"$f":"ROUND(SUMIFS(Einzelposten!$H$6:$H$625,Einzelposten!$C$6:$C$625,MONTH($B255),Einzelposten!$B$6:$B$625,DAY($B255)),2)","v":0},57.1]
[null,"2015-08-25",{"$f":"ROUND(SUMIFS(Einzelposten!$G$6:$G$625,Einzelposten!$C$6:$C$625,MONTH($B256),Einzelposten!$B$6:$B$625,DAY($B256)),2)","v":0},{"$f":"ROUND(SUMIFS(Einzelposten!$H$6:$H$625,Einzelposten!$C$6:$C$625,MONTH($B256),Einzelposten!$B$6:$B$625,DAY($B256)),2)","v":0},57.1]
[null,"2015-08-26",{"$f":"ROUND(SUMIFS(Einzelposten!$G$6:$G$625,Einzelposten!$C$6:$C$625,MONTH($B257),Einzelposten!$B$6:$B$625,DAY($B257)),2)","v":0},{"$f":"ROUND(SUMIFS(Einzelposten!$H$6:$H$625,Einzelposten!$C$6:$C$625,MONTH($B257),Einzelposten!$B$6:$B$625,DAY($B257)),2)","v":0},57.1]
[null,"2015-08-27",{"$f":"ROUND(SUMIFS(Einzelposten!$G$6:$G$625,Einzelposten!$C$6:$C$625,MONTH($B258),Einzelposten!$B$6:$B$625,DAY($B258)),2)","v":0},{"$f":"ROUND(SUMIFS(Einzelposten!$H$6:$H$625,Einzelposten!$C$6:$C$625,MONTH($B258),Einzelposten!$B$6:$B$625,DAY($B258)),2)","v":0},57.1]
[null,"2015-08-28",{"$f":"ROUND(SUMIFS(Einzelposten!$G$6:$G$625,Einzelposten!$C$6:$C$625,MONTH($B259),Einzelposten!$B$6:$B$625,DAY($B259)),2)","v":0},{"$f":"ROUND(SUMIFS(Einzelposten!$H$6:$H$625,Einzelposten!$C$6:$C$625,MONTH($B259),Einzelposten!$B$6:$B$625,DAY($B259)),2)","v":0},57.1]
[null,"2015-08-29",{"$f":"ROUND(SUMIFS(Einzelposten!$G$6:$G$625,Einzelposten!$C$6:$C$625,MONTH($B260),Einzelposten!$B$6:$B$625,DAY($B260)),2)","v":0},{"$f":"ROUND(SUMIFS(Einzelposten!$H$6:$H$625,Einzelposten!$C$6:$C$625,MONTH($B260),Einzelposten!$B$6:$B$625,DAY($B260)),2)","v":0},57.1]
[null,"2015-08-30",{"$f":"ROUND(SUMIFS(Einzelposten!$G$6:$G$625,Einzelposten!$C$6:$C$625,MONTH($B261),Einzelposten!$B$6:$B$625,DAY($B261)),2)","v":0},{"$f":"ROUND(SUMIFS(Einzelposten!$H$6:$H$625,Einzelposten!$C$6:$C$625,MONTH($B261),Einzelposten!$B$6:$B$625,DAY($B261)),2)","v":0},57.1]
[null,"2015-08-31",{"$f":"ROUND(SUMIFS(Einzelposten!$G$6:$G$625,Einzelposten!$C$6:$C$625,MONTH($B262),Einzelposten!$B$6:$B$625,DAY($B262)),2)","v":0},{"$f":"ROUND(SUMIFS(Einzelposten!$H$6:$H$625,Einzelposten!$C$6:$C$625,MONTH($B262),Einzelposten!$B$6:$B$625,DAY($B262)),2)","v":0},57.1]
[null,"2015-09-01",{"$f":"ROUND(SUMIFS(Einzelposten!$G$6:$G$625,Einzelposten!$C$6:$C$625,MONTH($B263),Einzelposten!$B$6:$B$625,DAY($B263)),2)","v":0},{"$f":"ROUND(SUMIFS(Einzelposten!$H$6:$H$625,Einzelposten!$C$6:$C$625,MONTH($B263),Einzelposten!$B$6:$B$625,DAY($B263)),2)","v":0},57.1]
[null,"2015-09-02",{"$f":"ROUND(SUMIFS(Einzelposten!$G$6:$G$625,Einzelposten!$C$6:$C$625,MONTH($B264),Einzelposten!$B$6:$B$625,DAY($B264)),2)","v":0},{"$f":"ROUND(SUMIFS(Einzelposten!$H$6:$H$625,Einzelposten!$C$6:$C$625,MONTH($B264),Einzelposten!$B$6:$B$625,DAY($B264)),2)","v":0},57.1]
[null,"2015-09-03",{"$f":"ROUND(SUMIFS(Einzelposten!$G$6:$G$625,Einzelposten!$C$6:$C$625,MONTH($B265),Einzelposten!$B$6:$B$625,DAY($B265)),2)","v":0},{"$f":"ROUND(SUMIFS(Einzelposten!$H$6:$H$625,Einzelposten!$C$6:$C$625,MONTH($B265),Einzelposten!$B$6:$B$625,DAY($B265)),2)","v":0},57.1]
[null,"2015-09-04",{"$f":"ROUND(SUMIFS(Einzelposten!$G$6:$G$625,Einzelposten!$C$6:$C$625,MONTH($B266),Einzelposten!$B$6:$B$625,DAY($B266)),2)","v":0},{"$f":"ROUND(SUMIFS(Einzelposten!$H$6:$H$625,Einzelposten!$C$6:$C$625,MONTH($B266),Einzelposten!$B$6:$B$625,DAY($B266)),2)","v":0},57.1]
[null,"2015-09-05",{"$f":"ROUND(SUMIFS(Einzelposten!$G$6:$G$625,Einzelposten!$C$6:$C$625,MONTH($B267),Einzelposten!$B$6:$B$625,DAY($B267)),2)","v":0},{"$f":"ROUND(SUMIFS(Einzelposten!$H$6:$H$625,Einzelposten!$C$6:$C$625,MONTH($B267),Einzelposten!$B$6:$B$625,DAY($B267)),2)","v":0},57.1]
[null,"2015-09-06",{"$f":"ROUND(SUMIFS(Einzelposten!$G$6:$G$625,Einzelposten!$C$6:$C$625,MONTH($B268),Einzelposten!$B$6:$B$625,DAY($B268)),2)","v":0},{"$f":"ROUND(SUMIFS(Einzelposten!$H$6:$H$625,Einzelposten!$C$6:$C$625,MONTH($B268),Einzelposten!$B$6:$B$625,DAY($B268)),2)","v":0},57.1]
[null,"2015-09-07",{"$f":"ROUND(SUMIFS(Einzelposten!$G$6:$G$625,Einzelposten!$C$6:$C$625,MONTH($B269),Einzelposten!$B$6:$B$625,DAY($B269)),2)","v":0},{"$f":"ROUND(SUMIFS(Einzelposten!$H$6:$H$625,Einzelposten!$C$6:$C$625,MONTH($B269),Einzelposten!$B$6:$B$625,DAY($B269)),2)","v":0},57.1]
[null,"2015-09-08",{"$f":"ROUND(SUMIFS(Einzelposten!$G$6:$G$625,Einzelposten!$C$6:$C$625,MONTH($B270),Einzelposten!$B$6:$B$625,DAY($B270)),2)","v":0},{"$f":"ROUND(SUMIFS(Einzelposten!$H$6:$H$625,Einzelposten!$C$6:$C$625,MONTH($B270),Einzelposten!$B$6:$B$625,DAY($B270)),2)","v":0},57.1]
[null,"2015-09-09",{"$f":"ROUND(SUMIFS(Einzelposten!$G$6:$G$625,Einzelposten!$C$6:$C$625,MONTH($B271),Einzelposten!$B$6:$B$625,DAY($B271)),2)","v":0},{"$f":"ROUND(SUMIFS(Einzelposten!$H$6:$H$625,Einzelposten!$C$6:$C$625,MONTH($B271),Einzelposten!$B$6:$B$625,DAY($B271)),2)","v":0},57.1]
[null,"2015-09-10",{"$f":"ROUND(SUMIFS(Einzelposten!$G$6:$G$625,Einzelposten!$C$6:$C$625,MONTH($B272),Einzelposten!$B$6:$B$625,DAY($B272)),2)","v":0},{"$f":"ROUND(SUMIFS(Einzelposten!$H$6:$H$625,Einzelposten!$C$6:$C$625,MONTH($B272),Einzelposten!$B$6:$B$625,DAY($B272)),2)","v":0},57.1]
[null,"2015-09-11",{"$f":"ROUND(SUMIFS(Einzelposten!$G$6:$G$625,Einzelposten!$C$6:$C$625,MONTH($B273),Einzelposten!$B$6:$B$625,DAY($B273)),2)","v":0},{"$f":"ROUND(SUMIFS(Einzelposten!$H$6:$H$625,Einzelposten!$C$6:$C$625,MONTH($B273),Einzelposten!$B$6:$B$625,DAY($B273)),2)","v":0},57.1]
[null,"2015-09-12",{"$f":"ROUND(SUMIFS(Einzelposten!$G$6:$G$625,Einzelposten!$C$6:$C$625,MONTH($B274),Einzelposten!$B$6:$B$625,DAY($B274)),2)","v":0},{"$f":"ROUND(SUMIFS(Einzelposten!$H$6:$H$625,Einzelposten!$C$6:$C$625,MONTH($B274),Einzelposten!$B$6:$B$625,DAY($B274)),2)","v":0},57.1]
[null,"2015-09-13",{"$f":"ROUND(SUMIFS(Einzelposten!$G$6:$G$625,Einzelposten!$C$6:$C$625,MONTH($B275),Einzelposten!$B$6:$B$625,DAY($B275)),2)","v":0},{"$f":"ROUND(SUMIFS(Einzelposten!$H$6:$H$625,Einzelposten!$C$6:$C$625,MONTH($B275),Einzelposten!$B$6:$B$625,DAY($B275)),2)","v":0},57.1]
[null,"2015-09-14",{"$f":"ROUND(SUMIFS(Einzelposten!$G$6:$G$625,Einzelposten!$C$6:$C$625,MONTH($B276),Einzelposten!$B$6:$B$625,DAY($B276)),2)","v":0},{"$f":"ROUND(SUMIFS(Einzelposten!$H$6:$H$625,Einzelposten!$C$6:$C$625,MONTH($B276),Einzelposten!$B$6:$B$625,DAY($B276)),2)","v":0},57.1]
[null,"2015-09-15",{"$f":"ROUND(SUMIFS(Einzelposten!$G$6:$G$625,Einzelposten!$C$6:$C$625,MONTH($B277),Einzelposten!$B$6:$B$625,DAY($B277)),2)","v":0},{"$f":"ROUND(SUMIFS(Einzelposten!$H$6:$H$625,Einzelposten!$C$6:$C$625,MONTH($B277),Einzelposten!$B$6:$B$625,DAY($B277)),2)","v":0},57.1]
[null,"2015-09-16",{"$f":"ROUND(SUMIFS(Einzelposten!$G$6:$G$625,Einzelposten!$C$6:$C$625,MONTH($B278),Einzelposten!$B$6:$B$625,DAY($B278)),2)","v":0},{"$f":"ROUND(SUMIFS(Einzelposten!$H$6:$H$625,Einzelposten!$C$6:$C$625,MONTH($B278),Einzelposten!$B$6:$B$625,DAY($B278)),2)","v":0},57.1]
[null,"2015-09-17",{"$f":"ROUND(SUMIFS(Einzelposten!$G$6:$G$625,Einzelposten!$C$6:$C$625,MONTH($B279),Einzelposten!$B$6:$B$625,DAY($B279)),2)","v":0},{"$f":"ROUND(SUMIFS(Einzelposten!$H$6:$H$625,Einzelposten!$C$6:$C$625,MONTH($B279),Einzelposten!$B$6:$B$625,DAY($B279)),2)","v":0},57.1]
[null,"2015-09-18",{"$f":"ROUND(SUMIFS(Einzelposten!$G$6:$G$625,Einzelposten!$C$6:$C$625,MONTH($B280),Einzelposten!$B$6:$B$625,DAY($B280)),2)","v":0},{"$f":"ROUND(SUMIFS(Einzelposten!$H$6:$H$625,Einzelposten!$C$6:$C$625,MONTH($B280),Einzelposten!$B$6:$B$625,DAY($B280)),2)","v":0},57.1]
[null,"2015-09-19",{"$f":"ROUND(SUMIFS(Einzelposten!$G$6:$G$625,Einzelposten!$C$6:$C$625,MONTH($B281),Einzelposten!$B$6:$B$625,DAY($B281)),2)","v":0},{"$f":"ROUND(SUMIFS(Einzelposten!$H$6:$H$625,Einzelposten!$C$6:$C$625,MONTH($B281),Einzelposten!$B$6:$B$625,DAY($B281)),2)","v":0},{"$f":"ROUND(E280+C281-D281,2)","v":57.1}]
[null,"2015-09-20",{"$f":"ROUND(SUMIFS(Einzelposten!$G$6:$G$625,Einzelposten!$C$6:$C$625,MONTH($B282),Einzelposten!$B$6:$B$625,DAY($B282)),2)","v":0},{"$f":"ROUND(SUMIFS(Einzelposten!$H$6:$H$625,Einzelposten!$C$6:$C$625,MONTH($B282),Einzelposten!$B$6:$B$625,DAY($B282)),2)","v":0},57.1]
[null,"2015-09-21",{"$f":"ROUND(SUMIFS(Einzelposten!$G$6:$G$625,Einzelposten!$C$6:$C$625,MONTH($B283),Einzelposten!$B$6:$B$625,DAY($B283)),2)","v":0},{"$f":"ROUND(SUMIFS(Einzelposten!$H$6:$H$625,Einzelposten!$C$6:$C$625,MONTH($B283),Einzelposten!$B$6:$B$625,DAY($B283)),2)","v":0},57.1]
[null,"2015-09-22",{"$f":"ROUND(SUMIFS(Einzelposten!$G$6:$G$625,Einzelposten!$C$6:$C$625,MONTH($B284),Einzelposten!$B$6:$B$625,DAY($B284)),2)","v":0},{"$f":"ROUND(SUMIFS(Einzelposten!$H$6:$H$625,Einzelposten!$C$6:$C$625,MONTH($B284),Einzelposten!$B$6:$B$625,DAY($B284)),2)","v":0},57.1]
[null,"2015-09-23",{"$f":"ROUND(SUMIFS(Einzelposten!$G$6:$G$625,Einzelposten!$C$6:$C$625,MONTH($B285),Einzelposten!$B$6:$B$625,DAY($B285)),2)","v":0},{"$f":"ROUND(SUMIFS(Einzelposten!$H$6:$H$625,Einzelposten!$C$6:$C$625,MONTH($B285),Einzelposten!$B$6:$B$625,DAY($B285)),2)","v":0},57.1]
[null,"2015-09-24",{"$f":"ROUND(SUMIFS(Einzelposten!$G$6:$G$625,Einzelposten!$C$6:$C$625,MONTH($B286),Einzelposten!$B$6:$B$625,DAY($B286)),2)","v":0},{"$f":"ROUND(SUMIFS(Einzelposten!$H$6:$H$625,Einzelposten!$C$6:$C$625,MONTH($B286),Einzelposten!$B$6:$B$625,DAY($B286)),2)","v":0},57.1]
[null,"2015-09-25",{"$f":"ROUND(SUMIFS(Einzelposten!$G$6:$G$625,Einzelposten!$C$6:$C$625,MONTH($B287),Einzelposten!$B$6:$B$625,DAY($B287)),2)","v":0},{"$f":"ROUND(SUMIFS(Einzelposten!$H$6:$H$625,Einzelposten!$C$6:$C$625,MONTH($B287),Einzelposten!$B$6:$B$625,DAY($B287)),2)","v":0},57.1]
[null,"2015-09-26",{"$f":"ROUND(SUMIFS(Einzelposten!$G$6:$G$625,Einzelposten!$C$6:$C$625,MONTH($B288),Einzelposten!$B$6:$B$625,DAY($B288)),2)","v":0},{"$f":"ROUND(SUMIFS(Einzelposten!$H$6:$H$625,Einzelposten!$C$6:$C$625,MONTH($B288),Einzelposten!$B$6:$B$625,DAY($B288)),2)","v":0},57.1]
[null,"2015-09-27",{"$f":"ROUND(SUMIFS(Einzelposten!$G$6:$G$625,Einzelposten!$C$6:$C$625,MONTH($B289),Einzelposten!$B$6:$B$625,DAY($B289)),2)","v":0},{"$f":"ROUND(SUMIFS(Einzelposten!$H$6:$H$625,Einzelposten!$C$6:$C$625,MONTH($B289),Einzelposten!$B$6:$B$625,DAY($B289)),2)","v":0},57.1]
[null,"2015-09-28",{"$f":"ROUND(SUMIFS(Einzelposten!$G$6:$G$625,Einzelposten!$C$6:$C$625,MONTH($B290),Einzelposten!$B$6:$B$625,DAY($B290)),2)","v":0},{"$f":"ROUND(SUMIFS(Einzelposten!$H$6:$H$625,Einzelposten!$C$6:$C$625,MONTH($B290),Einzelposten!$B$6:$B$625,DAY($B290)),2)","v":0},57.1]
[null,"2015-09-29",{"$f":"ROUND(SUMIFS(Einzelposten!$G$6:$G$625,Einzelposten!$C$6:$C$625,MONTH($B291),Einzelposten!$B$6:$B$625,DAY($B291)),2)","v":0},{"$f":"ROUND(SUMIFS(Einzelposten!$H$6:$H$625,Einzelposten!$C$6:$C$625,MONTH($B291),Einzelposten!$B$6:$B$625,DAY($B291)),2)","v":0},57.1]
[null,"2015-09-30",{"$f":"ROUND(SUMIFS(Einzelposten!$G$6:$G$625,Einzelposten!$C$6:$C$625,MONTH($B292),Einzelposten!$B$6:$B$625,DAY($B292)),2)","v":0},{"$f":"ROUND(SUMIFS(Einzelposten!$H$6:$H$625,Einzelposten!$C$6:$C$625,MONTH($B292),Einzelposten!$B$6:$B$625,DAY($B292)),2)","v":0},57.1]
[null,"2015-10-01",{"$f":"ROUND(SUMIFS(Einzelposten!$G$6:$G$625,Einzelposten!$C$6:$C$625,MONTH($B293),Einzelposten!$B$6:$B$625,DAY($B293)),2)","v":0},{"$f":"ROUND(SUMIFS(Einzelposten!$H$6:$H$625,Einzelposten!$C$6:$C$625,MONTH($B293),Einzelposten!$B$6:$B$625,DAY($B293)),2)","v":0},57.1]
[null,"2015-10-02",{"$f":"ROUND(SUMIFS(Einzelposten!$G$6:$G$625,Einzelposten!$C$6:$C$625,MONTH($B294),Einzelposten!$B$6:$B$625,DAY($B294)),2)","v":0},{"$f":"ROUND(SUMIFS(Einzelposten!$H$6:$H$625,Einzelposten!$C$6:$C$625,MONTH($B294),Einzelposten!$B$6:$B$625,DAY($B294)),2)","v":0},57.1]
[null,"2015-10-03",{"$f":"ROUND(SUMIFS(Einzelposten!$G$6:$G$625,Einzelposten!$C$6:$C$625,MONTH($B295),Einzelposten!$B$6:$B$625,DAY($B295)),2)","v":0},{"$f":"ROUND(SUMIFS(Einzelposten!$H$6:$H$625,Einzelposten!$C$6:$C$625,MONTH($B295),Einzelposten!$B$6:$B$625,DAY($B295)),2)","v":0},57.1]
[null,"2015-10-04",{"$f":"ROUND(SUMIFS(Einzelposten!$G$6:$G$625,Einzelposten!$C$6:$C$625,MONTH($B296),Einzelposten!$B$6:$B$625,DAY($B296)),2)","v":0},{"$f":"ROUND(SUMIFS(Einzelposten!$H$6:$H$625,Einzelposten!$C$6:$C$625,MONTH($B296),Einzelposten!$B$6:$B$625,DAY($B296)),2)","v":0},57.1]
[null,"2015-10-05",{"$f":"ROUND(SUMIFS(Einzelposten!$G$6:$G$625,Einzelposten!$C$6:$C$625,MONTH($B297),Einzelposten!$B$6:$B$625,DAY($B297)),2)","v":0},{"$f":"ROUND(SUMIFS(Einzelposten!$H$6:$H$625,Einzelposten!$C$6:$C$625,MONTH($B297),Einzelposten!$B$6:$B$625,DAY($B297)),2)","v":0},57.1]
[null,"2015-10-06",{"$f":"ROUND(SUMIFS(Einzelposten!$G$6:$G$625,Einzelposten!$C$6:$C$625,MONTH($B298),Einzelposten!$B$6:$B$625,DAY($B298)),2)","v":0},{"$f":"ROUND(SUMIFS(Einzelposten!$H$6:$H$625,Einzelposten!$C$6:$C$625,MONTH($B298),Einzelposten!$B$6:$B$625,DAY($B298)),2)","v":0},57.1]
[null,"2015-10-07",{"$f":"ROUND(SUMIFS(Einzelposten!$G$6:$G$625,Einzelposten!$C$6:$C$625,MONTH($B299),Einzelposten!$B$6:$B$625,DAY($B299)),2)","v":0},{"$f":"ROUND(SUMIFS(Einzelposten!$H$6:$H$625,Einzelposten!$C$6:$C$625,MONTH($B299),Einzelposten!$B$6:$B$625,DAY($B299)),2)","v":0},57.1]
[null,"2015-10-08",{"$f":"ROUND(SUMIFS(Einzelposten!$G$6:$G$625,Einzelposten!$C$6:$C$625,MONTH($B300),Einzelposten!$B$6:$B$625,DAY($B300)),2)","v":0},{"$f":"ROUND(SUMIFS(Einzelposten!$H$6:$H$625,Einzelposten!$C$6:$C$625,MONTH($B300),Einzelposten!$B$6:$B$625,DAY($B300)),2)","v":0},57.1]
[null,"2015-10-09",{"$f":"ROUND(SUMIFS(Einzelposten!$G$6:$G$625,Einzelposten!$C$6:$C$625,MONTH($B301),Einzelposten!$B$6:$B$625,DAY($B301)),2)","v":0},{"$f":"ROUND(SUMIFS(Einzelposten!$H$6:$H$625,Einzelposten!$C$6:$C$625,MONTH($B301),Einzelposten!$B$6:$B$625,DAY($B301)),2)","v":0},57.1]
[null,"2015-10-10",{"$f":"ROUND(SUMIFS(Einzelposten!$G$6:$G$625,Einzelposten!$C$6:$C$625,MONTH($B302),Einzelposten!$B$6:$B$625,DAY($B302)),2)","v":0},{"$f":"ROUND(SUMIFS(Einzelposten!$H$6:$H$625,Einzelposten!$C$6:$C$625,MONTH($B302),Einzelposten!$B$6:$B$625,DAY($B302)),2)","v":5.9},51.2]
[null,"2015-10-11",{"$f":"ROUND(SUMIFS(Einzelposten!$G$6:$G$625,Einzelposten!$C$6:$C$625,MONTH($B303),Einzelposten!$B$6:$B$625,DAY($B303)),2)","v":0},{"$f":"ROUND(SUMIFS(Einzelposten!$H$6:$H$625,Einzelposten!$C$6:$C$625,MONTH($B303),Einzelposten!$B$6:$B$625,DAY($B303)),2)","v":0},51.2]
[null,"2015-10-12",{"$f":"ROUND(SUMIFS(Einzelposten!$G$6:$G$625,Einzelposten!$C$6:$C$625,MONTH($B304),Einzelposten!$B$6:$B$625,DAY($B304)),2)","v":0},{"$f":"ROUND(SUMIFS(Einzelposten!$H$6:$H$625,Einzelposten!$C$6:$C$625,MONTH($B304),Einzelposten!$B$6:$B$625,DAY($B304)),2)","v":0},51.2]
[null,"2015-10-13",{"$f":"ROUND(SUMIFS(Einzelposten!$G$6:$G$625,Einzelposten!$C$6:$C$625,MONTH($B305),Einzelposten!$B$6:$B$625,DAY($B305)),2)","v":0},{"$f":"ROUND(SUMIFS(Einzelposten!$H$6:$H$625,Einzelposten!$C$6:$C$625,MONTH($B305),Einzelposten!$B$6:$B$625,DAY($B305)),2)","v":0},51.2]
[null,"2015-10-14",{"$f":"ROUND(SUMIFS(Einzelposten!$G$6:$G$625,Einzelposten!$C$6:$C$625,MONTH($B306),Einzelposten!$B$6:$B$625,DAY($B306)),2)","v":0},{"$f":"ROUND(SUMIFS(Einzelposten!$H$6:$H$625,Einzelposten!$C$6:$C$625,MONTH($B306),Einzelposten!$B$6:$B$625,DAY($B306)),2)","v":0},51.2]
[null,"2015-10-15",{"$f":"ROUND(SUMIFS(Einzelposten!$G$6:$G$625,Einzelposten!$C$6:$C$625,MONTH($B307),Einzelposten!$B$6:$B$625,DAY($B307)),2)","v":0},{"$f":"ROUND(SUMIFS(Einzelposten!$H$6:$H$625,Einzelposten!$C$6:$C$625,MONTH($B307),Einzelposten!$B$6:$B$625,DAY($B307)),2)","v":0},51.2]
[null,"2015-10-16",{"$f":"ROUND(SUMIFS(Einzelposten!$G$6:$G$625,Einzelposten!$C$6:$C$625,MONTH($B308),Einzelposten!$B$6:$B$625,DAY($B308)),2)","v":0},{"$f":"ROUND(SUMIFS(Einzelposten!$H$6:$H$625,Einzelposten!$C$6:$C$625,MONTH($B308),Einzelposten!$B$6:$B$625,DAY($B308)),2)","v":0},51.2]
[null,"2015-10-17",{"$f":"ROUND(SUMIFS(Einzelposten!$G$6:$G$625,Einzelposten!$C$6:$C$625,MONTH($B309),Einzelposten!$B$6:$B$625,DAY($B309)),2)","v":0},{"$f":"ROUND(SUMIFS(Einzelposten!$H$6:$H$625,Einzelposten!$C$6:$C$625,MONTH($B309),Einzelposten!$B$6:$B$625,DAY($B309)),2)","v":0},51.2]
[null,"2015-10-18",{"$f":"ROUND(SUMIFS(Einzelposten!$G$6:$G$625,Einzelposten!$C$6:$C$625,MONTH($B310),Einzelposten!$B$6:$B$625,DAY($B310)),2)","v":0},{"$f":"ROUND(SUMIFS(Einzelposten!$H$6:$H$625,Einzelposten!$C$6:$C$625,MONTH($B310),Einzelposten!$B$6:$B$625,DAY($B310)),2)","v":0},51.2]
[null,"2015-10-19",{"$f":"ROUND(SUMIFS(Einzelposten!$G$6:$G$625,Einzelposten!$C$6:$C$625,MONTH($B311),Einzelposten!$B$6:$B$625,DAY($B311)),2)","v":0},{"$f":"ROUND(SUMIFS(Einzelposten!$H$6:$H$625,Einzelposten!$C$6:$C$625,MONTH($B311),Einzelposten!$B$6:$B$625,DAY($B311)),2)","v":0},51.2]
[null,"2015-10-20",{"$f":"ROUND(SUMIFS(Einzelposten!$G$6:$G$625,Einzelposten!$C$6:$C$625,MONTH($B312),Einzelposten!$B$6:$B$625,DAY($B312)),2)","v":0},{"$f":"ROUND(SUMIFS(Einzelposten!$H$6:$H$625,Einzelposten!$C$6:$C$625,MONTH($B312),Einzelposten!$B$6:$B$625,DAY($B312)),2)","v":0},51.2]
[null,"2015-10-21",{"$f":"ROUND(SUMIFS(Einzelposten!$G$6:$G$625,Einzelposten!$C$6:$C$625,MONTH($B313),Einzelposten!$B$6:$B$625,DAY($B313)),2)","v":0},{"$f":"ROUND(SUMIFS(Einzelposten!$H$6:$H$625,Einzelposten!$C$6:$C$625,MONTH($B313),Einzelposten!$B$6:$B$625,DAY($B313)),2)","v":0},51.2]
[null,"2015-10-22",{"$f":"ROUND(SUMIFS(Einzelposten!$G$6:$G$625,Einzelposten!$C$6:$C$625,MONTH($B314),Einzelposten!$B$6:$B$625,DAY($B314)),2)","v":0},{"$f":"ROUND(SUMIFS(Einzelposten!$H$6:$H$625,Einzelposten!$C$6:$C$625,MONTH($B314),Einzelposten!$B$6:$B$625,DAY($B314)),2)","v":0},51.2]
[null,"2015-10-23",{"$f":"ROUND(SUMIFS(Einzelposten!$G$6:$G$625,Einzelposten!$C$6:$C$625,MONTH($B315),Einzelposten!$B$6:$B$625,DAY($B315)),2)","v":0},{"$f":"ROUND(SUMIFS(Einzelposten!$H$6:$H$625,Einzelposten!$C$6:$C$625,MONTH($B315),Einzelposten!$B$6:$B$625,DAY($B315)),2)","v":0},51.2]
[null,"2015-10-24",{"$f":"ROUND(SUMIFS(Einzelposten!$G$6:$G$625,Einzelposten!$C$6:$C$625,MONTH($B316),Einzelposten!$B$6:$B$625,DAY($B316)),2)","v":0},{"$f":"ROUND(SUMIFS(Einzelposten!$H$6:$H$625,Einzelposten!$C$6:$C$625,MONTH($B316),Einzelposten!$B$6:$B$625,DAY($B316)),2)","v":0},51.2]
[null,"2015-10-25",{"$f":"ROUND(SUMIFS(Einzelposten!$G$6:$G$625,Einzelposten!$C$6:$C$625,MONTH($B317),Einzelposten!$B$6:$B$625,DAY($B317)),2)","v":0},{"$f":"ROUND(SUMIFS(Einzelposten!$H$6:$H$625,Einzelposten!$C$6:$C$625,MONTH($B317),Einzelposten!$B$6:$B$625,DAY($B317)),2)","v":0},51.2]
[null,"2015-10-26",{"$f":"ROUND(SUMIFS(Einzelposten!$G$6:$G$625,Einzelposten!$C$6:$C$625,MONTH($B318),Einzelposten!$B$6:$B$625,DAY($B318)),2)","v":0},{"$f":"ROUND(SUMIFS(Einzelposten!$H$6:$H$625,Einzelposten!$C$6:$C$625,MONTH($B318),Einzelposten!$B$6:$B$625,DAY($B318)),2)","v":0},51.2]
[null,"2015-10-27",{"$f":"ROUND(SUMIFS(Einzelposten!$G$6:$G$625,Einzelposten!$C$6:$C$625,MONTH($B319),Einzelposten!$B$6:$B$625,DAY($B319)),2)","v":0},{"$f":"ROUND(SUMIFS(Einzelposten!$H$6:$H$625,Einzelposten!$C$6:$C$625,MONTH($B319),Einzelposten!$B$6:$B$625,DAY($B319)),2)","v":0},51.2]
[null,"2015-10-28",{"$f":"ROUND(SUMIFS(Einzelposten!$G$6:$G$625,Einzelposten!$C$6:$C$625,MONTH($B320),Einzelposten!$B$6:$B$625,DAY($B320)),2)","v":0},{"$f":"ROUND(SUMIFS(Einzelposten!$H$6:$H$625,Einzelposten!$C$6:$C$625,MONTH($B320),Einzelposten!$B$6:$B$625,DAY($B320)),2)","v":0},51.2]
[null,"2015-10-29",{"$f":"ROUND(SUMIFS(Einzelposten!$G$6:$G$625,Einzelposten!$C$6:$C$625,MONTH($B321),Einzelposten!$B$6:$B$625,DAY($B321)),2)","v":0},{"$f":"ROUND(SUMIFS(Einzelposten!$H$6:$H$625,Einzelposten!$C$6:$C$625,MONTH($B321),Einzelposten!$B$6:$B$625,DAY($B321)),2)","v":0},51.2]
[null,"2015-10-30",{"$f":"ROUND(SUMIFS(Einzelposten!$G$6:$G$625,Einzelposten!$C$6:$C$625,MONTH($B322),Einzelposten!$B$6:$B$625,DAY($B322)),2)","v":0},{"$f":"ROUND(SUMIFS(Einzelposten!$H$6:$H$625,Einzelposten!$C$6:$C$625,MONTH($B322),Einzelposten!$B$6:$B$625,DAY($B322)),2)","v":0},51.2]
[null,"2015-10-31",{"$f":"ROUND(SUMIFS(Einzelposten!$G$6:$G$625,Einzelposten!$C$6:$C$625,MONTH($B323),Einzelposten!$B$6:$B$625,DAY($B323)),2)","v":0},{"$f":"ROUND(SUMIFS(Einzelposten!$H$6:$H$625,Einzelposten!$C$6:$C$625,MONTH($B323),Einzelposten!$B$6:$B$625,DAY($B323)),2)","v":0},51.2]
[null,"2015-11-01",{"$f":"ROUND(SUMIFS(Einzelposten!$G$6:$G$625,Einzelposten!$C$6:$C$625,MONTH($B324),Einzelposten!$B$6:$B$625,DAY($B324)),2)","v":0},{"$f":"ROUND(SUMIFS(Einzelposten!$H$6:$H$625,Einzelposten!$C$6:$C$625,MONTH($B324),Einzelposten!$B$6:$B$625,DAY($B324)),2)","v":0},51.2]
[null,"2015-11-02",{"$f":"ROUND(SUMIFS(Einzelposten!$G$6:$G$625,Einzelposten!$C$6:$C$625,MONTH($B325),Einzelposten!$B$6:$B$625,DAY($B325)),2)","v":0},{"$f":"ROUND(SUMIFS(Einzelposten!$H$6:$H$625,Einzelposten!$C$6:$C$625,MONTH($B325),Einzelposten!$B$6:$B$625,DAY($B325)),2)","v":0},51.2]
[null,"2015-11-03",{"$f":"ROUND(SUMIFS(Einzelposten!$G$6:$G$625,Einzelposten!$C$6:$C$625,MONTH($B326),Einzelposten!$B$6:$B$625,DAY($B326)),2)","v":0},{"$f":"ROUND(SUMIFS(Einzelposten!$H$6:$H$625,Einzelposten!$C$6:$C$625,MONTH($B326),Einzelposten!$B$6:$B$625,DAY($B326)),2)","v":0},51.2]
[null,"2015-11-04",{"$f":"ROUND(SUMIFS(Einzelposten!$G$6:$G$625,Einzelposten!$C$6:$C$625,MONTH($B327),Einzelposten!$B$6:$B$625,DAY($B327)),2)","v":0},{"$f":"ROUND(SUMIFS(Einzelposten!$H$6:$H$625,Einzelposten!$C$6:$C$625,MONTH($B327),Einzelposten!$B$6:$B$625,DAY($B327)),2)","v":0},51.2]
[null,"2015-11-05",{"$f":"ROUND(SUMIFS(Einzelposten!$G$6:$G$625,Einzelposten!$C$6:$C$625,MONTH($B328),Einzelposten!$B$6:$B$625,DAY($B328)),2)","v":0},{"$f":"ROUND(SUMIFS(Einzelposten!$H$6:$H$625,Einzelposten!$C$6:$C$625,MONTH($B328),Einzelposten!$B$6:$B$625,DAY($B328)),2)","v":0},51.2]
[null,"2015-11-06",{"$f":"ROUND(SUMIFS(Einzelposten!$G$6:$G$625,Einzelposten!$C$6:$C$625,MONTH($B329),Einzelposten!$B$6:$B$625,DAY($B329)),2)","v":0},{"$f":"ROUND(SUMIFS(Einzelposten!$H$6:$H$625,Einzelposten!$C$6:$C$625,MONTH($B329),Einzelposten!$B$6:$B$625,DAY($B329)),2)","v":0},51.2]
[null,"2015-11-07",{"$f":"ROUND(SUMIFS(Einzelposten!$G$6:$G$625,Einzelposten!$C$6:$C$625,MONTH($B330),Einzelposten!$B$6:$B$625,DAY($B330)),2)","v":0},{"$f":"ROUND(SUMIFS(Einzelposten!$H$6:$H$625,Einzelposten!$C$6:$C$625,MONTH($B330),Einzelposten!$B$6:$B$625,DAY($B330)),2)","v":0},51.2]
[null,"2015-11-08",{"$f":"ROUND(SUMIFS(Einzelposten!$G$6:$G$625,Einzelposten!$C$6:$C$625,MONTH($B331),Einzelposten!$B$6:$B$625,DAY($B331)),2)","v":0},{"$f":"ROUND(SUMIFS(Einzelposten!$H$6:$H$625,Einzelposten!$C$6:$C$625,MONTH($B331),Einzelposten!$B$6:$B$625,DAY($B331)),2)","v":0},51.2]
[null,"2015-11-09",{"$f":"ROUND(SUMIFS(Einzelposten!$G$6:$G$625,Einzelposten!$C$6:$C$625,MONTH($B332),Einzelposten!$B$6:$B$625,DAY($B332)),2)","v":0},{"$f":"ROUND(SUMIFS(Einzelposten!$H$6:$H$625,Einzelposten!$C$6:$C$625,MONTH($B332),Einzelposten!$B$6:$B$625,DAY($B332)),2)","v":0},51.2]
[null,"2015-11-10",{"$f":"ROUND(SUMIFS(Einzelposten!$G$6:$G$625,Einzelposten!$C$6:$C$625,MONTH($B333),Einzelposten!$B$6:$B$625,DAY($B333)),2)","v":0},{"$f":"ROUND(SUMIFS(Einzelposten!$H$6:$H$625,Einzelposten!$C$6:$C$625,MONTH($B333),Einzelposten!$B$6:$B$625,DAY($B333)),2)","v":0},51.2]
[null,"2015-11-11",{"$f":"ROUND(SUMIFS(Einzelposten!$G$6:$G$625,Einzelposten!$C$6:$C$625,MONTH($B334),Einzelposten!$B$6:$B$625,DAY($B334)),2)","v":0},{"$f":"ROUND(SUMIFS(Einzelposten!$H$6:$H$625,Einzelposten!$C$6:$C$625,MONTH($B334),Einzelposten!$B$6:$B$625,DAY($B334)),2)","v":0},51.2]
[null,"2015-11-12",{"$f":"ROUND(SUMIFS(Einzelposten!$G$6:$G$625,Einzelposten!$C$6:$C$625,MONTH($B335),Einzelposten!$B$6:$B$625,DAY($B335)),2)","v":0},{"$f":"ROUND(SUMIFS(Einzelposten!$H$6:$H$625,Einzelposten!$C$6:$C$625,MONTH($B335),Einzelposten!$B$6:$B$625,DAY($B335)),2)","v":0},51.2]
[null,"2015-11-13",{"$f":"ROUND(SUMIFS(Einzelposten!$G$6:$G$625,Einzelposten!$C$6:$C$625,MONTH($B336),Einzelposten!$B$6:$B$625,DAY($B336)),2)","v":0},{"$f":"ROUND(SUMIFS(Einzelposten!$H$6:$H$625,Einzelposten!$C$6:$C$625,MONTH($B336),Einzelposten!$B$6:$B$625,DAY($B336)),2)","v":0},51.2]
[null,"2015-11-14",{"$f":"ROUND(SUMIFS(Einzelposten!$G$6:$G$625,Einzelposten!$C$6:$C$625,MONTH($B337),Einzelposten!$B$6:$B$625,DAY($B337)),2)","v":0},{"$f":"ROUND(SUMIFS(Einzelposten!$H$6:$H$625,Einzelposten!$C$6:$C$625,MONTH($B337),Einzelposten!$B$6:$B$625,DAY($B337)),2)","v":0},51.2]
[null,"2015-11-15",{"$f":"ROUND(SUMIFS(Einzelposten!$G$6:$G$625,Einzelposten!$C$6:$C$625,MONTH($B338),Einzelposten!$B$6:$B$625,DAY($B338)),2)","v":0},{"$f":"ROUND(SUMIFS(Einzelposten!$H$6:$H$625,Einzelposten!$C$6:$C$625,MONTH($B338),Einzelposten!$B$6:$B$625,DAY($B338)),2)","v":0},51.2]
[null,"2015-11-16",{"$f":"ROUND(SUMIFS(Einzelposten!$G$6:$G$625,Einzelposten!$C$6:$C$625,MONTH($B339),Einzelposten!$B$6:$B$625,DAY($B339)),2)","v":0},{"$f":"ROUND(SUMIFS(Einzelposten!$H$6:$H$625,Einzelposten!$C$6:$C$625,MONTH($B339),Einzelposten!$B$6:$B$625,DAY($B339)),2)","v":0},51.2]
[null,"2015-11-17",{"$f":"ROUND(SUMIFS(Einzelposten!$G$6:$G$625,Einzelposten!$C$6:$C$625,MONTH($B340),Einzelposten!$B$6:$B$625,DAY($B340)),2)","v":0},{"$f":"ROUND(SUMIFS(Einzelposten!$H$6:$H$625,Einzelposten!$C$6:$C$625,MONTH($B340),Einzelposten!$B$6:$B$625,DAY($B340)),2)","v":0},51.2]
[null,"2015-11-18",{"$f":"ROUND(SUMIFS(Einzelposten!$G$6:$G$625,Einzelposten!$C$6:$C$625,MONTH($B341),Einzelposten!$B$6:$B$625,DAY($B341)),2)","v":0},{"$f":"ROUND(SUMIFS(Einzelposten!$H$6:$H$625,Einzelposten!$C$6:$C$625,MONTH($B341),Einzelposten!$B$6:$B$625,DAY($B341)),2)","v":0},51.2]
[null,"2015-11-19",{"$f":"ROUND(SUMIFS(Einzelposten!$G$6:$G$625,Einzelposten!$C$6:$C$625,MONTH($B342),Einzelposten!$B$6:$B$625,DAY($B342)),2)","v":0},{"$f":"ROUND(SUMIFS(Einzelposten!$H$6:$H$625,Einzelposten!$C$6:$C$625,MONTH($B342),Einzelposten!$B$6:$B$625,DAY($B342)),2)","v":0},51.2]
[null,"2015-11-20",{"$f":"ROUND(SUMIFS(Einzelposten!$G$6:$G$625,Einzelposten!$C$6:$C$625,MONTH($B343),Einzelposten!$B$6:$B$625,DAY($B343)),2)","v":0},{"$f":"ROUND(SUMIFS(Einzelposten!$H$6:$H$625,Einzelposten!$C$6:$C$625,MONTH($B343),Einzelposten!$B$6:$B$625,DAY($B343)),2)","v":0},51.2]
[null,"2015-11-21",{"$f":"ROUND(SUMIFS(Einzelposten!$G$6:$G$625,Einzelposten!$C$6:$C$625,MONTH($B344),Einzelposten!$B$6:$B$625,DAY($B344)),2)","v":0},{"$f":"ROUND(SUMIFS(Einzelposten!$H$6:$H$625,Einzelposten!$C$6:$C$625,MONTH($B344),Einzelposten!$B$6:$B$625,DAY($B344)),2)","v":0},51.2]
[null,"2015-11-22",{"$f":"ROUND(SUMIFS(Einzelposten!$G$6:$G$625,Einzelposten!$C$6:$C$625,MONTH($B345),Einzelposten!$B$6:$B$625,DAY($B345)),2)","v":0},{"$f":"ROUND(SUMIFS(Einzelposten!$H$6:$H$625,Einzelposten!$C$6:$C$625,MONTH($B345),Einzelposten!$B$6:$B$625,DAY($B345)),2)","v":0},{"$f":"ROUND(E344+C345-D345,2)","v":51.2}]
[null,"2015-11-23",{"$f":"ROUND(SUMIFS(Einzelposten!$G$6:$G$625,Einzelposten!$C$6:$C$625,MONTH($B346),Einzelposten!$B$6:$B$625,DAY($B346)),2)","v":0},{"$f":"ROUND(SUMIFS(Einzelposten!$H$6:$H$625,Einzelposten!$C$6:$C$625,MONTH($B346),Einzelposten!$B$6:$B$625,DAY($B346)),2)","v":0},51.2]
[null,"2015-11-24",{"$f":"ROUND(SUMIFS(Einzelposten!$G$6:$G$625,Einzelposten!$C$6:$C$625,MONTH($B347),Einzelposten!$B$6:$B$625,DAY($B347)),2)","v":0},{"$f":"ROUND(SUMIFS(Einzelposten!$H$6:$H$625,Einzelposten!$C$6:$C$625,MONTH($B347),Einzelposten!$B$6:$B$625,DAY($B347)),2)","v":0},51.2]
[null,"2015-11-25",{"$f":"ROUND(SUMIFS(Einzelposten!$G$6:$G$625,Einzelposten!$C$6:$C$625,MONTH($B348),Einzelposten!$B$6:$B$625,DAY($B348)),2)","v":0},{"$f":"ROUND(SUMIFS(Einzelposten!$H$6:$H$625,Einzelposten!$C$6:$C$625,MONTH($B348),Einzelposten!$B$6:$B$625,DAY($B348)),2)","v":0},51.2]
[null,"2015-11-26",{"$f":"ROUND(SUMIFS(Einzelposten!$G$6:$G$625,Einzelposten!$C$6:$C$625,MONTH($B349),Einzelposten!$B$6:$B$625,DAY($B349)),2)","v":0},{"$f":"ROUND(SUMIFS(Einzelposten!$H$6:$H$625,Einzelposten!$C$6:$C$625,MONTH($B349),Einzelposten!$B$6:$B$625,DAY($B349)),2)","v":0},51.2]
[null,"2015-11-27",{"$f":"ROUND(SUMIFS(Einzelposten!$G$6:$G$625,Einzelposten!$C$6:$C$625,MONTH($B350),Einzelposten!$B$6:$B$625,DAY($B350)),2)","v":0},{"$f":"ROUND(SUMIFS(Einzelposten!$H$6:$H$625,Einzelposten!$C$6:$C$625,MONTH($B350),Einzelposten!$B$6:$B$625,DAY($B350)),2)","v":0},51.2]
[null,"2015-11-28",{"$f":"ROUND(SUMIFS(Einzelposten!$G$6:$G$625,Einzelposten!$C$6:$C$625,MONTH($B351),Einzelposten!$B$6:$B$625,DAY($B351)),2)","v":0},{"$f":"ROUND(SUMIFS(Einzelposten!$H$6:$H$625,Einzelposten!$C$6:$C$625,MONTH($B351),Einzelposten!$B$6:$B$625,DAY($B351)),2)","v":0},51.2]
[null,"2015-11-29",{"$f":"ROUND(SUMIFS(Einzelposten!$G$6:$G$625,Einzelposten!$C$6:$C$625,MONTH($B352),Einzelposten!$B$6:$B$625,DAY($B352)),2)","v":0},{"$f":"ROUND(SUMIFS(Einzelposten!$H$6:$H$625,Einzelposten!$C$6:$C$625,MONTH($B352),Einzelposten!$B$6:$B$625,DAY($B352)),2)","v":0},51.2]
[null,"2015-11-30",{"$f":"ROUND(SUMIFS(Einzelposten!$G$6:$G$625,Einzelposten!$C$6:$C$625,MONTH($B353),Einzelposten!$B$6:$B$625,DAY($B353)),2)","v":0},{"$f":"ROUND(SUMIFS(Einzelposten!$H$6:$H$625,Einzelposten!$C$6:$C$625,MONTH($B353),Einzelposten!$B$6:$B$625,DAY($B353)),2)","v":0},51.2]
[null,"2015-12-01",{"$f":"ROUND(SUMIFS(Einzelposten!$G$6:$G$625,Einzelposten!$C$6:$C$625,MONTH($B354),Einzelposten!$B$6:$B$625,DAY($B354)),2)","v":0},{"$f":"ROUND(SUMIFS(Einzelposten!$H$6:$H$625,Einzelposten!$C$6:$C$625,MONTH($B354),Einzelposten!$B$6:$B$625,DAY($B354)),2)","v":0},51.2]
[null,"2015-12-02",{"$f":"ROUND(SUMIFS(Einzelposten!$G$6:$G$625,Einzelposten!$C$6:$C$625,MONTH($B355),Einzelposten!$B$6:$B$625,DAY($B355)),2)","v":0},{"$f":"ROUND(SUMIFS(Einzelposten!$H$6:$H$625,Einzelposten!$C$6:$C$625,MONTH($B355),Einzelposten!$B$6:$B$625,DAY($B355)),2)","v":0},51.2]
[null,"2015-12-03",{"$f":"ROUND(SUMIFS(Einzelposten!$G$6:$G$625,Einzelposten!$C$6:$C$625,MONTH($B356),Einzelposten!$B$6:$B$625,DAY($B356)),2)","v":0},{"$f":"ROUND(SUMIFS(Einzelposten!$H$6:$H$625,Einzelposten!$C$6:$C$625,MONTH($B356),Einzelposten!$B$6:$B$625,DAY($B356)),2)","v":0},51.2]
[null,"2015-12-04",{"$f":"ROUND(SUMIFS(Einzelposten!$G$6:$G$625,Einzelposten!$C$6:$C$625,MONTH($B357),Einzelposten!$B$6:$B$625,DAY($B357)),2)","v":0},{"$f":"ROUND(SUMIFS(Einzelposten!$H$6:$H$625,Einzelposten!$C$6:$C$625,MONTH($B357),Einzelposten!$B$6:$B$625,DAY($B357)),2)","v":0},51.2]
[null,"2015-12-05",{"$f":"ROUND(SUMIFS(Einzelposten!$G$6:$G$625,Einzelposten!$C$6:$C$625,MONTH($B358),Einzelposten!$B$6:$B$625,DAY($B358)),2)","v":0},{"$f":"ROUND(SUMIFS(Einzelposten!$H$6:$H$625,Einzelposten!$C$6:$C$625,MONTH($B358),Einzelposten!$B$6:$B$625,DAY($B358)),2)","v":0},51.2]
[null,"2015-12-06",{"$f":"ROUND(SUMIFS(Einzelposten!$G$6:$G$625,Einzelposten!$C$6:$C$625,MONTH($B359),Einzelposten!$B$6:$B$625,DAY($B359)),2)","v":0},{"$f":"ROUND(SUMIFS(Einzelposten!$H$6:$H$625,Einzelposten!$C$6:$C$625,MONTH($B359),Einzelposten!$B$6:$B$625,DAY($B359)),2)","v":0},51.2]
[null,"2015-12-07",{"$f":"ROUND(SUMIFS(Einzelposten!$G$6:$G$625,Einzelposten!$C$6:$C$625,MONTH($B360),Einzelposten!$B$6:$B$625,DAY($B360)),2)","v":0},{"$f":"ROUND(SUMIFS(Einzelposten!$H$6:$H$625,Einzelposten!$C$6:$C$625,MONTH($B360),Einzelposten!$B$6:$B$625,DAY($B360)),2)","v":0},51.2]
[null,"2015-12-08",{"$f":"ROUND(SUMIFS(Einzelposten!$G$6:$G$625,Einzelposten!$C$6:$C$625,MONTH($B361),Einzelposten!$B$6:$B$625,DAY($B361)),2)","v":0},{"$f":"ROUND(SUMIFS(Einzelposten!$H$6:$H$625,Einzelposten!$C$6:$C$625,MONTH($B361),Einzelposten!$B$6:$B$625,DAY($B361)),2)","v":0},51.2]
[null,"2015-12-09",{"$f":"ROUND(SUMIFS(Einzelposten!$G$6:$G$625,Einzelposten!$C$6:$C$625,MONTH($B362),Einzelposten!$B$6:$B$625,DAY($B362)),2)","v":0},{"$f":"ROUND(SUMIFS(Einzelposten!$H$6:$H$625,Einzelposten!$C$6:$C$625,MONTH($B362),Einzelposten!$B$6:$B$625,DAY($B362)),2)","v":0},51.2]
[null,"2015-12-10",{"$f":"ROUND(SUMIFS(Einzelposten!$G$6:$G$625,Einzelposten!$C$6:$C$625,MONTH($B363),Einzelposten!$B$6:$B$625,DAY($B363)),2)","v":0},{"$f":"ROUND(SUMIFS(Einzelposten!$H$6:$H$625,Einzelposten!$C$6:$C$625,MONTH($B363),Einzelposten!$B$6:$B$625,DAY($B363)),2)","v":0},51.2]
[null,"2015-12-11",{"$f":"ROUND(SUMIFS(Einzelposten!$G$6:$G$625,Einzelposten!$C$6:$C$625,MONTH($B364),Einzelposten!$B$6:$B$625,DAY($B364)),2)","v":0},{"$f":"ROUND(SUMIFS(Einzelposten!$H$6:$H$625,Einzelposten!$C$6:$C$625,MONTH($B364),Einzelposten!$B$6:$B$625,DAY($B364)),2)","v":0},51.2]
[null,"2015-12-12",{"$f":"ROUND(SUMIFS(Einzelposten!$G$6:$G$625,Einzelposten!$C$6:$C$625,MONTH($B365),Einzelposten!$B$6:$B$625,DAY($B365)),2)","v":0},{"$f":"ROUND(SUMIFS(Einzelposten!$H$6:$H$625,Einzelposten!$C$6:$C$625,MONTH($B365),Einzelposten!$B$6:$B$625,DAY($B365)),2)","v":0},51.2]
[null,"2015-12-13",{"$f":"ROUND(SUMIFS(Einzelposten!$G$6:$G$625,Einzelposten!$C$6:$C$625,MONTH($B366),Einzelposten!$B$6:$B$625,DAY($B366)),2)","v":0},{"$f":"ROUND(SUMIFS(Einzelposten!$H$6:$H$625,Einzelposten!$C$6:$C$625,MONTH($B366),Einzelposten!$B$6:$B$625,DAY($B366)),2)","v":0},51.2]
[null,"2015-12-14",{"$f":"ROUND(SUMIFS(Einzelposten!$G$6:$G$625,Einzelposten!$C$6:$C$625,MONTH($B367),Einzelposten!$B$6:$B$625,DAY($B367)),2)","v":0},{"$f":"ROUND(SUMIFS(Einzelposten!$H$6:$H$625,Einzelposten!$C$6:$C$625,MONTH($B367),Einzelposten!$B$6:$B$625,DAY($B367)),2)","v":0},51.2]
[null,"2015-12-15",{"$f":"ROUND(SUMIFS(Einzelposten!$G$6:$G$625,Einzelposten!$C$6:$C$625,MONTH($B368),Einzelposten!$B$6:$B$625,DAY($B368)),2)","v":0},{"$f":"ROUND(SUMIFS(Einzelposten!$H$6:$H$625,Einzelposten!$C$6:$C$625,MONTH($B368),Einzelposten!$B$6:$B$625,DAY($B368)),2)","v":0},51.2]
[null,"2015-12-16",{"$f":"ROUND(SUMIFS(Einzelposten!$G$6:$G$625,Einzelposten!$C$6:$C$625,MONTH($B369),Einzelposten!$B$6:$B$625,DAY($B369)),2)","v":0},{"$f":"ROUND(SUMIFS(Einzelposten!$H$6:$H$625,Einzelposten!$C$6:$C$625,MONTH($B369),Einzelposten!$B$6:$B$625,DAY($B369)),2)","v":0},51.2]
[null,"2015-12-17",{"$f":"ROUND(SUMIFS(Einzelposten!$G$6:$G$625,Einzelposten!$C$6:$C$625,MONTH($B370),Einzelposten!$B$6:$B$625,DAY($B370)),2)","v":0},{"$f":"ROUND(SUMIFS(Einzelposten!$H$6:$H$625,Einzelposten!$C$6:$C$625,MONTH($B370),Einzelposten!$B$6:$B$625,DAY($B370)),2)","v":0},51.2]
[null,"2015-12-18",{"$f":"ROUND(SUMIFS(Einzelposten!$G$6:$G$625,Einzelposten!$C$6:$C$625,MONTH($B371),Einzelposten!$B$6:$B$625,DAY($B371)),2)","v":0},{"$f":"ROUND(SUMIFS(Einzelposten!$H$6:$H$625,Einzelposten!$C$6:$C$625,MONTH($B371),Einzelposten!$B$6:$B$625,DAY($B371)),2)","v":0},51.2]
[null,"2015-12-19",{"$f":"ROUND(SUMIFS(Einzelposten!$G$6:$G$625,Einzelposten!$C$6:$C$625,MONTH($B372),Einzelposten!$B$6:$B$625,DAY($B372)),2)","v":0},{"$f":"ROUND(SUMIFS(Einzelposten!$H$6:$H$625,Einzelposten!$C$6:$C$625,MONTH($B372),Einzelposten!$B$6:$B$625,DAY($B372)),2)","v":0},51.2]
[null,"2015-12-20",{"$f":"ROUND(SUMIFS(Einzelposten!$G$6:$G$625,Einzelposten!$C$6:$C$625,MONTH($B373),Einzelposten!$B$6:$B$625,DAY($B373)),2)","v":0},{"$f":"ROUND(SUMIFS(Einzelposten!$H$6:$H$625,Einzelposten!$C$6:$C$625,MONTH($B373),Einzelposten!$B$6:$B$625,DAY($B373)),2)","v":0},51.2]
[null,"2015-12-21",{"$f":"ROUND(SUMIFS(Einzelposten!$G$6:$G$625,Einzelposten!$C$6:$C$625,MONTH($B374),Einzelposten!$B$6:$B$625,DAY($B374)),2)","v":0},{"$f":"ROUND(SUMIFS(Einzelposten!$H$6:$H$625,Einzelposten!$C$6:$C$625,MONTH($B374),Einzelposten!$B$6:$B$625,DAY($B374)),2)","v":0},51.2]
[null,"2015-12-22",{"$f":"ROUND(SUMIFS(Einzelposten!$G$6:$G$625,Einzelposten!$C$6:$C$625,MONTH($B375),Einzelposten!$B$6:$B$625,DAY($B375)),2)","v":0},{"$f":"ROUND(SUMIFS(Einzelposten!$H$6:$H$625,Einzelposten!$C$6:$C$625,MONTH($B375),Einzelposten!$B$6:$B$625,DAY($B375)),2)","v":0},51.2]
[null,"2015-12-23",{"$f":"ROUND(SUMIFS(Einzelposten!$G$6:$G$625,Einzelposten!$C$6:$C$625,MONTH($B376),Einzelposten!$B$6:$B$625,DAY($B376)),2)","v":0},{"$f":"ROUND(SUMIFS(Einzelposten!$H$6:$H$625,Einzelposten!$C$6:$C$625,MONTH($B376),Einzelposten!$B$6:$B$625,DAY($B376)),2)","v":0},51.2]
[null,"2015-12-24",{"$f":"ROUND(SUMIFS(Einzelposten!$G$6:$G$625,Einzelposten!$C$6:$C$625,MONTH($B377),Einzelposten!$B$6:$B$625,DAY($B377)),2)","v":0},{"$f":"ROUND(SUMIFS(Einzelposten!$H$6:$H$625,Einzelposten!$C$6:$C$625,MONTH($B377),Einzelposten!$B$6:$B$625,DAY($B377)),2)","v":0},51.2]
[null,"2015-12-25",{"$f":"ROUND(SUMIFS(Einzelposten!$G$6:$G$625,Einzelposten!$C$6:$C$625,MONTH($B378),Einzelposten!$B$6:$B$625,DAY($B378)),2)","v":0},{"$f":"ROUND(SUMIFS(Einzelposten!$H$6:$H$625,Einzelposten!$C$6:$C$625,MONTH($B378),Einzelposten!$B$6:$B$625,DAY($B378)),2)","v":0},51.2]
[null,"2015-12-26",{"$f":"ROUND(SUMIFS(Einzelposten!$G$6:$G$625,Einzelposten!$C$6:$C$625,MONTH($B379),Einzelposten!$B$6:$B$625,DAY($B379)),2)","v":0},{"$f":"ROUND(SUMIFS(Einzelposten!$H$6:$H$625,Einzelposten!$C$6:$C$625,MONTH($B379),Einzelposten!$B$6:$B$625,DAY($B379)),2)","v":0},51.2]
[null,"2015-12-27",{"$f":"ROUND(SUMIFS(Einzelposten!$G$6:$G$625,Einzelposten!$C$6:$C$625,MONTH($B380),Einzelposten!$B$6:$B$625,DAY($B380)),2)","v":0},{"$f":"ROUND(SUMIFS(Einzelposten!$H$6:$H$625,Einzelposten!$C$6:$C$625,MONTH($B380),Einzelposten!$B$6:$B$625,DAY($B380)),2)","v":0},51.2]
[null,"2015-12-28",{"$f":"ROUND(SUMIFS(Einzelposten!$G$6:$G$625,Einzelposten!$C$6:$C$625,MONTH($B381),Einzelposten!$B$6:$B$625,DAY($B381)),2)","v":0},{"$f":"ROUND(SUMIFS(Einzelposten!$H$6:$H$625,Einzelposten!$C$6:$C$625,MONTH($B381),Einzelposten!$B$6:$B$625,DAY($B381)),2)","v":0},51.2]
[null,"2015-12-29",{"$f":"ROUND(SUMIFS(Einzelposten!$G$6:$G$625,Einzelposten!$C$6:$C$625,MONTH($B382),Einzelposten!$B$6:$B$625,DAY($B382)),2)","v":0},{"$f":"ROUND(SUMIFS(Einzelposten!$H$6:$H$625,Einzelposten!$C$6:$C$625,MONTH($B382),Einzelposten!$B$6:$B$625,DAY($B382)),2)","v":0},51.2]
[null,"2015-12-30",{"$f":"ROUND(SUMIFS(Einzelposten!$G$6:$G$625,Einzelposten!$C$6:$C$625,MONTH($B383),Einzelposten!$B$6:$B$625,DAY($B383)),2)","v":0},{"$f":"ROUND(SUMIFS(Einzelposten!$H$6:$H$625,Einzelposten!$C$6:$C$625,MONTH($B383),Einzelposten!$B$6:$B$625,DAY($B383)),2)","v":0},51.2]
[null,"2015-12-31",{"$f":"ROUND(SUMIFS(Einzelposten!$G$6:$G$625,Einzelposten!$C$6:$C$625,MONTH($B384),Einzelposten!$B$6:$B$625,DAY($B384)),2)","v":0},{"$f":"ROUND(SUMIFS(Einzelposten!$H$6:$H$625,Einzelposten!$C$6:$C$625,MONTH($B384),Einzelposten!$B$6:$B$625,DAY($B384)),2)","v":0},51.2]
[null,"gesamt",{"$f":"ROUND(SUM(C19:C384),2)","v":100},{"$f":"ROUND(SUM(D19:D384),2)","v":63.8},{"$f":"ROUND(E18+C385-D385,2)","v":51.2},"< rvo.at >"]